BEGIN:VCALENDAR
VERSION:2.0
PRODID:-//Al-Anon Family Groups of Southeastern Wisconsin - ECPv6.15.20//NONSGML v1.0//EN
CALSCALE:GREGORIAN
METHOD:PUBLISH
X-ORIGINAL-URL:https://alanon-wi.org
X-WR-CALDESC:Events for Al-Anon Family Groups of Southeastern Wisconsin
REFRESH-INTERVAL;VALUE=DURATION:PT1H
X-Robots-Tag:noindex
X-PUBLISHED-TTL:PT1H
BEGIN:VTIMEZONE
TZID:America/Chicago
BEGIN:DAYLIGHT
TZOFFSETFROM:-0600
TZOFFSETTO:-0500
TZNAME:CDT
DTSTART:20250309T080000
END:DAYLIGHT
BEGIN:STANDARD
TZOFFSETFROM:-0500
TZOFFSETTO:-0600
TZNAME:CST
DTSTART:20251102T070000
END:STANDARD
BEGIN:DAYLIGHT
TZOFFSETFROM:-0600
TZOFFSETTO:-0500
TZNAME:CDT
DTSTART:20260308T080000
END:DAYLIGHT
BEGIN:STANDARD
TZOFFSETFROM:-0500
TZOFFSETTO:-0600
TZNAME:CST
DTSTART:20261101T070000
END:STANDARD
BEGIN:DAYLIGHT
TZOFFSETFROM:-0600
TZOFFSETTO:-0500
TZNAME:CDT
DTSTART:20270314T080000
END:DAYLIGHT
BEGIN:STANDARD
TZOFFSETFROM:-0500
TZOFFSETTO:-0600
TZNAME:CST
DTSTART:20271107T070000
END:STANDARD
END:VTIMEZONE
BEGIN:VEVENT
DTSTART;TZID=America/Chicago:20260205T183000
DTEND;TZID=America/Chicago:20260205T200000
DTSTAMP:20260423T132605
CREATED:20260204T205026Z
LAST-MODIFIED:20260206T020543Z
UID:8227-1770316200-1770321600@alanon-wi.org
SUMMARY:Al-Anon Open Speaker Meeting with AA Participation\, Thur\, Feb 5\, 6:30pm\, Brookfield
DESCRIPTION:12 Steppers Al-Anon Open Speaker Meeting\,\nThursday 02/05/2026 6:30 pm in Brookfield\, WI \nAl-Anon Speaker: Terry\nAA Speaker: Curt M \nSt. John’s Lutheran Church\, 20275 Davidson Rd\, Brookfield\, WI 53045\nEnter through the side entrance to the left of the playground.
URL:https://alanon-wi.org/event/al-anon-open-speaker-meeting-with-aa-participation-thursday-february-5-2026-630pm-brookfield/
LOCATION:St. John’s Lutheran Church\, 20275 Davidson Rd.\, Brookfield\, WI\, 53045\, United States
END:VEVENT
BEGIN:VEVENT
DTSTART;TZID=America/Chicago:20260207T170000
DTEND;TZID=America/Chicago:20260207T200000
DTSTAMP:20260423T132605
CREATED:20260112T213229Z
LAST-MODIFIED:20260120T031942Z
UID:8167-1770483600-1770494400@alanon-wi.org
SUMMARY:4th Annual Alateen Chili Cookoff\, Sat\, Feb 7\, 5-8pm\, West Allis
DESCRIPTION:Chili Cookoff and Open Speaker Meeting\nOrganized by: Sunday Morning Alateen \nBring your chili to be judged for the cookoff. $5 buys the right to judge chili. Water\, coffee and soda $1 each. All proceeds will go to sending the teens to the Alateen Midlake Conference. \nPROGRAM\nChili & Judging: 5:00-6:30pm\nSpeakers: 6:30-8:00pm\nAl-Anon: Sharon Y\nAA: Peter G\nAlateen: TBD \nAny questions\,contact Andy at 414-688-5128\, or Sharon at 414-331-0756. \nHope to see you there! \nSummit Place\, Room 2143\n6737 W Washington Street\nWest Allis\, WI 53024 \nDownload Flyer HERE.
URL:https://alanon-wi.org/event/4th-annual-alateen-chili-cookoff-saturday-feb-7th-500pm/
LOCATION:Summit Place – West Allis\, 6737 W. Washington St.\, West Allis\, WI\, 53214\, United States
END:VEVENT
BEGIN:VEVENT
DTSTART;TZID=America/Chicago:20260214T190000
DTEND;TZID=America/Chicago:20260214T200000
DTSTAMP:20260423T132605
CREATED:20260114T202914Z
LAST-MODIFIED:20260120T033408Z
UID:8183-1771095600-1771099200@alanon-wi.org
SUMMARY:AA Open Meeting with Al-Anon Participation\, Sat\, Feb 14\, 7pm\, Oconomowoc
DESCRIPTION:AA Open Meeting with Al-Anon Participation\nOrganized by:  Lake Area Club-Oconomowoc \nAl-Anon Speaker:  Liz L. –  13 years\nAA Speaker:  Char\, from Racine – 13 years \nEvent Details:  Fellowship before hand – feel free to bring a snack. \nAdditional Information\nAdditional parking in the back of building \nAddress:  N60W35878 Lake Drive\nCity : Oconomowoc\nState/Province : WI\nZIP / Postal Code : 53066 \n 
URL:https://alanon-wi.org/event/aa-open-meeting-with-al-anon-participation-saturday-2-14-26-700pm/
LOCATION:Lake Area Club\, N60W35878 Lake Dr\, Oconomowoc\, Wisconsin\, 53066
END:VEVENT
BEGIN:VEVENT
DTSTART;TZID=America/Chicago:20260218T181500
DTEND;TZID=America/Chicago:20260218T193000
DTSTAMP:20260423T132605
CREATED:20260208T222216Z
LAST-MODIFIED:20260208T222216Z
UID:8257-1771438500-1771443000@alanon-wi.org
SUMMARY:Area 61 Voices of Sponsorship Zoom Event\, Wednesday\, Feb 18\, 6:15 p.m.\, Online
DESCRIPTION:The Area 61 Growing Service Committee invites all Al-Anon members in Area 61 (Wisconsin and Upper Michigan) to the Voices of Sponsorship Zoom event\, Wednesday\, 2/18/2026 at 6:15 p.m. \nZoom Mee’ng ID: 279 771 1172 Passcode: 089565 \nPlease see the attached flyer for details. \nArea 61 Feb 18 Flyer \n 
URL:https://alanon-wi.org/event/area-61-voices-of-sponsorship-zoom-event-wednesday-feb-18-615-p-m-online/
LOCATION:WI
END:VEVENT
BEGIN:VEVENT
DTSTART;TZID=America/Chicago:20260221T100000
DTEND;TZID=America/Chicago:20260221T120000
DTSTAMP:20260423T132605
CREATED:20260102T003423Z
LAST-MODIFIED:20260206T020341Z
UID:8149-1771668000-1771675200@alanon-wi.org
SUMMARY:District 2 Meeting\, Sat\, Feb 21\, 10am-12pm\, West Allis
DESCRIPTION:The District 2 meeting is open to all members\, not just District 2 GRs. If you attend\, you don’t have wait for your Group Rep to give you the scoop. Find out first-hand what’s going on in Milwaukee County-South. You don’t even have to be from District 2. We welcome members from other districts\, especially those who may not have a District Rep. Come find out how much fun it is to be part of an active district! \nMeeting will be held at Summit Place\, 6737 W. Washington St.\, West Allis\, in the glass patio: room # 2143
URL:https://alanon-wi.org/event/district-2-meeting-february-21-2026-1000-1200-in-person/
LOCATION:Summit Place – West Allis\, 6737 W. Washington St.\, West Allis\, WI\, 53214\, United States
END:VEVENT
END:VCALENDAR