BEGIN:VCALENDAR
VERSION:2.0
PRODID:-//Al-Anon Family Groups of Southeastern Wisconsin - ECPv6.15.20//NONSGML v1.0//EN
CALSCALE:GREGORIAN
METHOD:PUBLISH
X-WR-CALNAME:Al-Anon Family Groups of Southeastern Wisconsin
X-ORIGINAL-URL:https://alanon-wi.org
X-WR-CALDESC:Events for Al-Anon Family Groups of Southeastern Wisconsin
REFRESH-INTERVAL;VALUE=DURATION:PT1H
X-Robots-Tag:noindex
X-PUBLISHED-TTL:PT1H
BEGIN:VTIMEZONE
TZID:America/Chicago
BEGIN:DAYLIGHT
TZOFFSETFROM:-0600
TZOFFSETTO:-0500
TZNAME:CDT
DTSTART:20250309T080000
END:DAYLIGHT
BEGIN:STANDARD
TZOFFSETFROM:-0500
TZOFFSETTO:-0600
TZNAME:CST
DTSTART:20251102T070000
END:STANDARD
BEGIN:DAYLIGHT
TZOFFSETFROM:-0600
TZOFFSETTO:-0500
TZNAME:CDT
DTSTART:20260308T080000
END:DAYLIGHT
BEGIN:STANDARD
TZOFFSETFROM:-0500
TZOFFSETTO:-0600
TZNAME:CST
DTSTART:20261101T070000
END:STANDARD
BEGIN:DAYLIGHT
TZOFFSETFROM:-0600
TZOFFSETTO:-0500
TZNAME:CDT
DTSTART:20270314T080000
END:DAYLIGHT
BEGIN:STANDARD
TZOFFSETFROM:-0500
TZOFFSETTO:-0600
TZNAME:CST
DTSTART:20271107T070000
END:STANDARD
END:VTIMEZONE
BEGIN:VEVENT
DTSTART;TZID=America/Chicago:20260116T170000
DTEND;TZID=America/Chicago:20260118T120000
DTSTAMP:20260423T151022
CREATED:20250630T180718Z
LAST-MODIFIED:20250915T180338Z
UID:7415-1768582800-1768737600@alanon-wi.org
SUMMARY:WANS AA Conference with Al-Anon Participation\, January 16-18\, Skokie\, IL
DESCRIPTION:We Are Not Saints Conference Registration Is Open. We Are Not Saints is an AA conference with Al-Anon participation in Skokie\, IL. Check the 2026 flyer for registration and accommodations information. \nDownload Flyer HERE.
URL:https://alanon-wi.org/event/wans-aa-conference-with-al-anon-participation-january-16-18-2026-in-person/
LOCATION:Holiday Inn Chicago North Shore\, 5300 W. Touhy Avenue\, Skokie\, 60077\, United States
END:VEVENT
BEGIN:VEVENT
DTSTART;TZID=America/Chicago:20260122T190000
DTEND;TZID=America/Chicago:20260122T203000
DTSTAMP:20260423T151022
CREATED:20260114T185845Z
LAST-MODIFIED:20260114T185845Z
UID:8180-1769108400-1769113800@alanon-wi.org
SUMMARY:Al-Anon Intergroup Meeting\, Thursday\, January 22\, 7pm\, Hybrid
DESCRIPTION:Microsoft Teams\nJoin the meeting now   \nMeeting ID: 241 009 857 047 09\nPasscode: aQ7vy9jE \nNote: All meetings are Hybrid. For those attending in-person\, the usual meeting location is in Room 2135 (First Floor). \nIntergroup Meetings: \nAll registered Al-Anon groups in the southeastern Wisconsin may elect one member to serve as the group’s representative at intergroup meetings for the Al-Anon Service Center. Each representative is called an Information Service Representative (ISR). ISRs attend intergroup meetings every other month to discuss and and vote on matters related to the Al-Anon Service Center. Intergroup generally meets on the 4th Thursday of ODD months at 7:00 pm (although dates may change to avoid conflicts). \n 
URL:https://alanon-wi.org/event/al-anon-intergroup-meeting-thursday-january-22-7pm-hybrid/
LOCATION:Al-Anon Local Information Service Center at Summit Place\, 6737 W Washington St\, Suite 2125 (First Floor)\, West Allis\, WI\, 53214
END:VEVENT
BEGIN:VEVENT
DTSTART;TZID=America/Chicago:20260124T090000
DTEND;TZID=America/Chicago:20260124T150000
DTSTAMP:20260423T151022
CREATED:20251219T033011Z
LAST-MODIFIED:20260120T034333Z
UID:8122-1769245200-1769266800@alanon-wi.org
SUMMARY:Al-Anon District 1 Workshop and Open Meeting\, Sat\, Jan 24\, 9am-3pm\, Racine
DESCRIPTION:Building My Spiritual House\nAl-Anon District 1 Workshop and Open Meeting with AA Participation \n9:00am – 3:00pm\nSpeakers\, Panels\, Pot Luck\, Raffle\, Fellowship and Friends! See Flyer for details. \nAl-Anon Speaker: Brenda M.\nAA Speaker: Sam M. \nLoacation: Church of the Covenant\, 40 Ohio St.\, Racine\, WI \nDownload Flyer HERE.
URL:https://alanon-wi.org/event/al-anon-district-1-workshop-and-open-meeting-saturday-january-24-2026-900-a-m-300-p-m-in-person/
LOCATION:Covenant Presbyterian Church\, 40 Ohio St\, Racine\, 53405
END:VEVENT
BEGIN:VEVENT
DTSTART;TZID=America/Chicago:20260129T120000
DTEND;TZID=America/Chicago:20260129T130000
DTSTAMP:20260423T151022
CREATED:20260107T053602Z
LAST-MODIFIED:20260120T034645Z
UID:8156-1769688000-1769691600@alanon-wi.org
SUMMARY:Al-Anon Open Meeting with AA Participation\, Thur\, Jan 29\, 12pm\, West Allis
DESCRIPTION:Hosted by 12 at 12 AFG \nJoin us as Al-Anon speaker: Sid J and AA speaker: Fred B share their experience\, strength and hope. \nSummit Place\, 6737 W Washington St\, West Allis\, WI 53214\n(Conference Room 2212 – on the second floor) \nDownload flyer HERE.
URL:https://alanon-wi.org/event/al-anon-open-meeting-with-aa-participation-thursday-january-29-12pm-west-allis/
LOCATION:12 at 12 AFG – Summit Place\, 6737 W Washington St\, West Allis\, WI\, 53214
END:VEVENT
END:VCALENDAR