BEGIN:VCALENDAR
VERSION:2.0
PRODID:-//Al-Anon Family Groups of Southeastern Wisconsin - ECPv6.15.20//NONSGML v1.0//EN
CALSCALE:GREGORIAN
METHOD:PUBLISH
X-WR-CALNAME:Al-Anon Family Groups of Southeastern Wisconsin
X-ORIGINAL-URL:https://alanon-wi.org
X-WR-CALDESC:Events for Al-Anon Family Groups of Southeastern Wisconsin
REFRESH-INTERVAL;VALUE=DURATION:PT1H
X-Robots-Tag:noindex
X-PUBLISHED-TTL:PT1H
BEGIN:VTIMEZONE
TZID:America/Chicago
BEGIN:DAYLIGHT
TZOFFSETFROM:-0600
TZOFFSETTO:-0500
TZNAME:CDT
DTSTART:20240310T080000
END:DAYLIGHT
BEGIN:STANDARD
TZOFFSETFROM:-0500
TZOFFSETTO:-0600
TZNAME:CST
DTSTART:20241103T070000
END:STANDARD
BEGIN:DAYLIGHT
TZOFFSETFROM:-0600
TZOFFSETTO:-0500
TZNAME:CDT
DTSTART:20250309T080000
END:DAYLIGHT
BEGIN:STANDARD
TZOFFSETFROM:-0500
TZOFFSETTO:-0600
TZNAME:CST
DTSTART:20251102T070000
END:STANDARD
BEGIN:DAYLIGHT
TZOFFSETFROM:-0600
TZOFFSETTO:-0500
TZNAME:CDT
DTSTART:20260308T080000
END:DAYLIGHT
BEGIN:STANDARD
TZOFFSETFROM:-0500
TZOFFSETTO:-0600
TZNAME:CST
DTSTART:20261101T070000
END:STANDARD
END:VTIMEZONE
BEGIN:VEVENT
DTSTART;TZID=America/Chicago:20251204T123000
DTEND;TZID=America/Chicago:20251204T140000
DTSTAMP:20260423T164438
CREATED:20251111T054551Z
LAST-MODIFIED:20251125T040357Z
UID:7868-1764851400-1764856800@alanon-wi.org
SUMMARY:Al-Anon Open Meeting with AA Participation\, Thursday\, December 4\, 12:30pm\, Menomonee Falls
DESCRIPTION:Al-Anon Winter Meeting with AA Participation\, In-person\nThursday Afternoon Discussion Group on December 4\, 2025 at 12:30-2pm \nAl-Anon Speaker: Nikki G-H. \nAA Speaker: Sara T. \nGloria Dei Lutheran Church (Rear entrance) W180N7863 Town Hall Road\, Menomonee Falls       \nPlease Bring finger foods to share \nClick here to view flyer
URL:https://alanon-wi.org/event/al-anon-winter-meeting-with-aa-participation/
LOCATION:Thursday Afternoon Discussion – Gloria Dei Church\, W180N7863 Town Hall Road\, Menomonee Falls\, Wisconsin\, 53051
END:VEVENT
BEGIN:VEVENT
DTSTART;TZID=America/Chicago:20251204T183000
DTEND;TZID=America/Chicago:20251204T193000
DTSTAMP:20260423T164438
CREATED:20251121T131846Z
LAST-MODIFIED:20251125T035743Z
UID:7902-1764873000-1764876600@alanon-wi.org
SUMMARY:Al-Anon Open Meeting with AA Participation\, Thursday\, December 4\, 6:30pm\, Brookfield
DESCRIPTION:December Open Al-Anon Meeting with AA Participation at 6:30pm organized by the 12 Steppers. Al-Anon Speaker: Joe C; AA Speaker: Rick B.  St. John’s Lutheran Church\, 20275 Davidson Rd\, Brookfield \n 
URL:https://alanon-wi.org/event/al-anon-open-meeting-with-aa-participation-thursday-december-4-2025-630-730-p-m-in-person/
LOCATION:Twelve Steppers – St. John’s Lutheran Church\, 20275 Davidson Rd.\, Brookfield\, Wisconsin\, 53045
END:VEVENT
BEGIN:VEVENT
DTSTART;TZID=America/Chicago:20251208T181500
DTEND;TZID=America/Chicago:20251208T201500
DTSTAMP:20260423T164438
CREATED:20251028T012854Z
LAST-MODIFIED:20251028T012854Z
UID:7834-1765217700-1765224900@alanon-wi.org
SUMMARY:Al-Anon Open Meeting with AA Participation\, Monday\, December 8\, 6:15pm\, Slinger
DESCRIPTION:Annual Slinger Mon Night Open Al-Anon & AA Mtg  \nOrganized by Slinger Mon Night AFG \nAl-Anon Speaker: Melissa L.\nAA Speaker: Scott F. \nProgram: \nDoors Open   6:15\nPotluck           6:30\nSpeakers        7:15 \nAdditional Information: Entrance Lower Level \nSt Luke’s Church \n4860 Arthur Rd\, Slinger\, WI 53086 \nDownload Flyer HERE.
URL:https://alanon-wi.org/event/al-anon-open-meeting-with-aa-participation-monday-december-8-615pm-slinger/
LOCATION:Slinger – St. Luke Lutheran Church\, 4860 Arthur Rd.\, Slinger\, WI\, 53086\, United States
END:VEVENT
BEGIN:VEVENT
DTSTART;TZID=America/Chicago:20251209T180000
DTEND;TZID=America/Chicago:20251209T200000
DTSTAMP:20260423T164438
CREATED:20251203T135210Z
LAST-MODIFIED:20251203T140303Z
UID:7927-1765303200-1765310400@alanon-wi.org
SUMMARY:Al-Anon Holiday Potluck\, Tuesday\, December 9\, 6-8pm Waukesha
DESCRIPTION:Al-Anon Holiday Potluck\, Tuesday\, December 9\, 6pm- 8pm  (In person) \nOrganized by:  Keep it Simple AFG \nEvent Details:\nJoin the Keep it Simple Al-Anon Family Group for a holiday potluck and meeting on Tuesday\, December 9. Bring a dish to pass for the meal which will start at 6:00. Regular meeting will follow at 7:00 and we will end promptly at 8:00. Location is Christ the Servant Lutheran Church at 2016 Center Rd in Waukesha. \nChrist the Servant Lutheran Church\n\nStreet Address : 2016 Center Rd\nCity : Waukesha\nZIP / Postal Code : 53189 \n 
URL:https://alanon-wi.org/event/al-anon-holiday-potluck-tuesday-december-9-6pm-waukesha/
LOCATION:Keep it Simple AFG – Christ the Servant Lutheran Church\, 2016 Center Rd\, Waukesha\, WI\, 53189
END:VEVENT
BEGIN:VEVENT
DTSTART;TZID=America/Chicago:20251209T183000
DTEND;TZID=America/Chicago:20251209T193000
DTSTAMP:20260423T164438
CREATED:20251031T211234Z
LAST-MODIFIED:20251031T211234Z
UID:7838-1765305000-1765308600@alanon-wi.org
SUMMARY:Al-Anon Open Meeting with AA Participation\, Tuesday\, December 9\, 6:30pm\, Franklin
DESCRIPTION:Organized by Franklin Serenity AFG \nAl-Anon Speaker: Emmy V.\nAA Speaker: Mike K. \nJoin us in fellowship after the meeting. \nFaith Presbyterian Church\n3800 W. Rawson Ave.\nFranklin\, WI 53132 \nDownload Flyer HERE.
URL:https://alanon-wi.org/event/al-anon-open-meeting-with-aa-participation-tuesday-december-9-630pm-franklin/
LOCATION:Franklin Serenity – Faith Presbyterian Church\, 3800 W. Rawson Avenue\, Franklin\, Wisconsin\, 53132
END:VEVENT
BEGIN:VEVENT
DTSTART;TZID=America/Chicago:20251213T093000
DTEND;TZID=America/Chicago:20251213T130000
DTSTAMP:20260423T164438
CREATED:20250102T132440Z
LAST-MODIFIED:20251023T120257Z
UID:6696-1765618200-1765630800@alanon-wi.org
SUMMARY:Lunch on Us - Step/Tradition/Concept Workshop\, Saturday\, December 13\, 9:30am\, Waukesha
DESCRIPTION:Sponsored By: District 4 \nEvent Details\nBooklet: Healing Within Our Alcoholic Relationship\nAl-Anon Workshop on the Steps\, Traditions\, Concepts\n2nd Saturday of every month for 2025\, District 4 will be doing a Step\, Tradition\, Concept of the month Workshop. \nRegistration\nRegistration is encouraged to help organizers plan for lunch and a communication tool in case of bad weather or program changes. *** Please note\, this is only registration for the December meeting. A similar sign up will be posted for future meetings.\nREGISTRATION LINK \nWorkshop Timeline\n9:30-10:00 Arrival\n10:00-10:30 Step 12\n10:30-10:45 Break\n10:45-11:15 Tradition 12\n11:15-12:00 Lunch on us\n12:00-12:30 Concept 12\n12:30-1:00 Clean up\nOpen Meeting – All are Welcome \nAdditional Information\nParking lot entrance is on Corporate Dr. Park in the front of the building or right side. Enter the front doors. Stairs or elevator to 2nd Floor. \nClick Here for Flyer
URL:https://alanon-wi.org/event/lunch-on-us-step-tradition-concept-workshop-saturday-december-13/
LOCATION:Citizens Bank Community Room Waukesha\, 2109 Corporate Dr\, Waukesha\, WI\, 53189\, United States
END:VEVENT
BEGIN:VEVENT
DTSTART;TZID=America/Chicago:20251213T190000
DTEND;TZID=America/Chicago:20251213T200000
DTSTAMP:20260423T164438
CREATED:20251115T181147Z
LAST-MODIFIED:20251125T033627Z
UID:7877-1765652400-1765656000@alanon-wi.org
SUMMARY:Open Speaker Meeting with AA participation\, Saturday\, December 13\, 7pm\, Oconomowoc
DESCRIPTION:Open Speaker Meeting with AA participation\, Saturday\, December 13\, 7pm \nLake Area Club-Oconomowoc \nAl-Anon Speaker: Sarah L. \nAA Speaker: Evan \nOpen Speaker meeting with fellowship beforehand. Feel free to bring a snack. AA speaker Evan 6/22/2022; Al-Anon Speaker Sarah L (7 years) \nLake Area Club – N60W35878 Lake Drive\, Oconomowoc\, WI 53066 \nadditional parking in the back
URL:https://alanon-wi.org/event/open-speaker-meeting-with-aa-participation-saturday-december-13-2025-7pm-oconomowoc/
LOCATION:Lake Area Club\, N60W35878 Lake Dr\, Oconomowoc\, Wisconsin\, 53066
END:VEVENT
BEGIN:VEVENT
DTSTART;TZID=America/Chicago:20251215T183000
DTEND;TZID=America/Chicago:20251215T193000
DTSTAMP:20260423T164438
CREATED:20251205T224458Z
LAST-MODIFIED:20251205T224458Z
UID:7939-1765823400-1765827000@alanon-wi.org
SUMMARY:Al-Anon Open Meeting with AA Participation\, Monday 12/15/25 6:30pm
DESCRIPTION:Al-Anon Open Meeting with AA Participation\nMonday 12/15/25 6:30pm\nOpen Meeting\, In Person\nSponsored by:  Brookfield Courage To Change \nAl-Anon Speaker:  Jessi D\nAA Speaker:  Mark L \nAdditional Information:\nEnter through the Parish Office doors. There will be a greeter to direct you to the meeting  room.  Handicap accessible \nSt. John Vianney Church\n1755 Calhoun road\nRm 209\nBrookfield\,  WI  53005
URL:https://alanon-wi.org/event/al-anon-open-meeting-with-aa-participation-monday-12-15-25-630pm/
LOCATION:St. John Vianney Church\, 1755 N. Calhoun Rd\, Room 209\, Brookfield\, WI\, 53005\, United States
END:VEVENT
BEGIN:VEVENT
DTSTART;TZID=America/Chicago:20251216T180000
DTEND;TZID=America/Chicago:20251216T200000
DTSTAMP:20260423T164438
CREATED:20251212T005100Z
LAST-MODIFIED:20251212T005100Z
UID:8115-1765908000-1765915200@alanon-wi.org
SUMMARY:Al-Anon Open Meeting with AA Participation\, Tuesday\, Dec 16th\, 6pm\, Cedarburg
DESCRIPTION:Al-Anon Open Meeting with AA Participation\, Tuesday\, Dec 16th\, 6pm\, Cedarburg \nSponsored by Cedarburg Tuesday Night \nEvent Details\n6:00 pm Potluck\n7:00 pm Speakers \nAdvent Lutheran Church\, W63N642 Washington Ave\, Cedarburg\, WI 53012
URL:https://alanon-wi.org/event/al-anon-open-meeting-with-aa-participation-tuesday-dec-16th-6pm-cedarburg/
LOCATION:Advent Lutheran Church\, W63N642 Washington Ave.\, Cedarburg\, WI\, 53012\, United States
END:VEVENT
BEGIN:VEVENT
DTSTART;TZID=America/Chicago:20251217T190000
DTEND;TZID=America/Chicago:20251217T200000
DTSTAMP:20260423T164438
CREATED:20251115T182702Z
LAST-MODIFIED:20251125T040103Z
UID:7881-1765998000-1766001600@alanon-wi.org
SUMMARY:Alateen Holiday Party\, Wednesday\, December 17\, 7pm\, Oconomowoc
DESCRIPTION:Alateen Holiday party at the Lake Area Club-Oconomowoc \nWednesday\, 12/17/2025\, 7 – 8 pm \nCalling all AlaTeens- past\, present\, and interested… Lake Area Club is having an Al-Ateen Holiday party. Food and snacks provided- Fellowship\, holiday games and activities. Party is 7-8pm Please RSVP so we can plan food… 414-690-1089 Call or Text: RSVP is Required \nSerenity Shack is located in the back parking lot \nLake Area Club\, N60W35878 Lake Drive\, Oconomowoc\, WI 53066 \nFlyer
URL:https://alanon-wi.org/event/alateen-holiday-party-at-the-lake-area-club-wednesday-12-17-2025-7-pm-oconomowoc/
LOCATION:Lake Area Club\, N60W35878 Lake Dr\, Oconomowoc\, Wisconsin\, 53066
END:VEVENT
BEGIN:VEVENT
DTSTART;TZID=America/Chicago:20251220T200000
DTEND;TZID=America/Chicago:20251220T210000
DTSTAMP:20260423T164438
CREATED:20251210T044452Z
LAST-MODIFIED:20251210T044452Z
UID:7966-1766260800-1766264400@alanon-wi.org
SUMMARY:AA Open Meeting with Al-Anon Participation\, Saturday December 20th at 8pm\, West Allis
DESCRIPTION:AA Open Meeting with Al-Anon Participation\, Saturday December 20th at 8pm\, West Allis \nAl-Anon Speaker: Eryn H. \nAA Speaker: TBD \nVenue: HOW to Club\, 8930 W. National Ave\, Milwaukee\, WI 53227
URL:https://alanon-wi.org/event/aa-open-meeting-with-al-anon-participation-saturday-december-20th-at-8pm-west-allis/
LOCATION:How to Club\, 8930 W National Ave\, West Allis\, WI\, 53227\, United States
END:VEVENT
BEGIN:VEVENT
DTSTART;TZID=America/Chicago:20251229T183000
DTEND;TZID=America/Chicago:20251229T193000
DTSTAMP:20260423T164438
CREATED:20251212T004146Z
LAST-MODIFIED:20251229T125156Z
UID:8113-1767033000-1767036600@alanon-wi.org
SUMMARY:Al-Anon Open Speaker Meeting with AA Participation\, Monday\, Dec 29\, 6:30pm\, Delafield
DESCRIPTION:Sponsored by Lake Country Let Go and Let God \nAl-Anon Speaker: Emmy \nAA Speaker: Shawn W. \nChrist The King Church\, 1600 N. Genesee St. Delafield\, WI 53018\nWalk in back door and take immediate left down the stairs to the lower level.
URL:https://alanon-wi.org/event/al-anon-open-speaker-meeting-with-aa-participation-monday-dec-29-630pm-delafield/
LOCATION:Lake Country Let Go and Let God AFG – Christ the King Lutheran Church\, 1600 N. Genesee St.\, Delafield\, Wisconsin\, 53018
END:VEVENT
BEGIN:VEVENT
DTSTART;TZID=America/Chicago:20251231T190000
DTEND;TZID=America/Chicago:20251231T200000
DTSTAMP:20260423T164438
CREATED:20251210T050239Z
LAST-MODIFIED:20251229T125708Z
UID:7970-1767207600-1767211200@alanon-wi.org
SUMMARY:Al-Anon Open Meeting with AA Participation\, Wednesday\, December 31 at 7pm\, Pewaukee
DESCRIPTION:Waukesha 12 x 12 – New Year’s Eve Open Speaker Meeting. Childcare available. \nAl-Anon Speaker: John McC; \nAA Speaker: Mumu \nFLYER_2025_Dec_31 12×12 \nNew Vision Church\, N14W27995 Silvernail Rd\, Pewaukee\, 53072
URL:https://alanon-wi.org/event/al-anon-open-meeting-with-aa-participation-wednesday-december-31-at-7pm-pewaukee/
LOCATION:Waukesha Twelve and Twelve – New Vision Church\, N14W27995 Silvernail Rd\, Pewaukee\, Wisconsin\, 53072
END:VEVENT
END:VCALENDAR