BEGIN:VCALENDAR
VERSION:2.0
PRODID:-//Al-Anon Family Groups of Southeastern Wisconsin - ECPv6.15.20//NONSGML v1.0//EN
CALSCALE:GREGORIAN
METHOD:PUBLISH
X-ORIGINAL-URL:https://alanon-wi.org
X-WR-CALDESC:Events for Al-Anon Family Groups of Southeastern Wisconsin
REFRESH-INTERVAL;VALUE=DURATION:PT1H
X-Robots-Tag:noindex
X-PUBLISHED-TTL:PT1H
BEGIN:VTIMEZONE
TZID:America/Chicago
BEGIN:DAYLIGHT
TZOFFSETFROM:-0600
TZOFFSETTO:-0500
TZNAME:CDT
DTSTART:20240310T080000
END:DAYLIGHT
BEGIN:STANDARD
TZOFFSETFROM:-0500
TZOFFSETTO:-0600
TZNAME:CST
DTSTART:20241103T070000
END:STANDARD
BEGIN:DAYLIGHT
TZOFFSETFROM:-0600
TZOFFSETTO:-0500
TZNAME:CDT
DTSTART:20250309T080000
END:DAYLIGHT
BEGIN:STANDARD
TZOFFSETFROM:-0500
TZOFFSETTO:-0600
TZNAME:CST
DTSTART:20251102T070000
END:STANDARD
BEGIN:DAYLIGHT
TZOFFSETFROM:-0600
TZOFFSETTO:-0500
TZNAME:CDT
DTSTART:20260308T080000
END:DAYLIGHT
BEGIN:STANDARD
TZOFFSETFROM:-0500
TZOFFSETTO:-0600
TZNAME:CST
DTSTART:20261101T070000
END:STANDARD
END:VTIMEZONE
BEGIN:VEVENT
DTSTART;TZID=America/Chicago:20251011T190000
DTEND;TZID=America/Chicago:20251011T200000
DTSTAMP:20260423T195544
CREATED:20250924T215519Z
LAST-MODIFIED:20250924T215519Z
UID:7722-1760209200-1760212800@alanon-wi.org
SUMMARY:AA Open Meeting with Al-Anon Participation\, Saturday\, October 11\, 2025\, 7:00 p.m.\, In Person
DESCRIPTION:DISTRICT 34 OPEN SPEAKER MEETING: Doors open at 6:30; Meeting begins at 7:00 \nAl-Anon Speaker: Jeri V.; AA Speaker: Charlie H. \nFlyer Dist 34 Open Mtg Oct 11 2025
URL:https://alanon-wi.org/event/aa-open-meeting-with-al-anon-participation-saturday-october-11-2025-700-p-m-in-person/
LOCATION:Unity Lutheran Church\, 20700 W. North Ave.\, Brookfield\, WI\, 53045\, United States
END:VEVENT
BEGIN:VEVENT
DTSTART;TZID=America/Chicago:20251015T120000
DTEND;TZID=America/Chicago:20251015T140000
DTSTAMP:20260423T195544
CREATED:20251002T213735Z
LAST-MODIFIED:20251002T222155Z
UID:7763-1760529600-1760536800@alanon-wi.org
SUMMARY:Hotline Project Volunteers Needed!  Wednesdays 12pm ZOOM
DESCRIPTION:Hotline Project Volunteers Needed!  Wednesdays 12pm ZOOM\nStarting 10/15/25  12pm\nOrganized by:  Rachel P\nAl-Anon Speaker:\nRachel P & Mina M \nEvent Details\nWe need 2 to 3 people to help us with testing out new ways to reach the newcomer\, and to facilitate 12-step work through our service center. It helps if you are good with technology but we need to test it on those who are not too– so don’t let that stop you! \nAdditional Information\nAre you passionate about helping newcomers find support?\nWe’re launching a new initiative to connect SE WI individuals reaching out via phone or web for help with caring volunteers to speak with them live. \nProject Goals:\nConnect our area’s newcomers with a volunteer for a 12 step call or suggest a meeting\nEnable technology from our office call forwarding or web chat to volunteers remotely at their homes\nCall/text Coverage needed when office is closed: Tuesdays\, Fridays\, and Sundays\, 10 AM – 4 PM \nHow You Can Help:\nBecome a project Volunteer for just 1 hour a week\nParticipate in planning and mini-trials of different solutions\nHelp us make a real difference with newcomers by creating a great process! \nProject Timeline:\nPhase 1: Team formation (Now – Oct 22) (2 volunteers)\nPhase 2: Mini-trials (Oct 22 – Nov 10). (phase 1 volunteers + 2 more)\nPhase 3: Full launch (Nov 15 – Mid January) \nWe Need 4 Volunteers to design and test this process!\n2 Volunteers for solution design (2 people) – Skills: good at designing customer service processes\, using technology / cell\, such as chats\, messenger\, phone trees\, etc. October to December. \n2 (diff) Volunteers for testing out the recommended solution \nInterested? Fill out this form online!!\n https://forms.monday.com/forms/3c79aad83da48f9111a2ac874ec9abf5?r=use1 \nUpload PDF Flyer\nHTjaWKukB8pP-Join-Our-AFG-12-Step-Outreach-Project.pdf \n 
URL:https://alanon-wi.org/event/hotline-project-volunteers-needed-wednesdays-12pm-zoom/
LOCATION:Zoom
END:VEVENT
BEGIN:VEVENT
DTSTART;TZID=America/Chicago:20251018T100000
DTEND;TZID=America/Chicago:20251018T120000
DTSTAMP:20260423T195544
CREATED:20250904T160159Z
LAST-MODIFIED:20250904T160159Z
UID:7625-1760781600-1760788800@alanon-wi.org
SUMMARY:District 2 Meeting\, Saturday\, October 18\, 10am\, West Allis
DESCRIPTION:Organized by: District 2 \nWhat’s shakin’ in District 2 (Milwaukee County–South)? Come and find out! You don’t need to be a group representative. All you need is an interest in learning more about Al-Anon above the group level. Our aim is to be of service\, and have fun! \nSummit Place\n6737 W. Washington St.\nWest Allis\, WI 53214 \nMeeting held in the Glass Patio\, room # 2143
URL:https://alanon-wi.org/event/district-2-meeting-saturday-october-18-10am-west-allis/
LOCATION:Summit Place – West Allis\, 6737 W. Washington St.\, West Allis\, WI\, 53214\, United States
END:VEVENT
BEGIN:VEVENT
DTSTART;TZID=America/Chicago:20251025T173000
DTEND;TZID=America/Chicago:20251025T200000
DTSTAMP:20260423T195544
CREATED:20250907T021705Z
LAST-MODIFIED:20250907T021705Z
UID:7640-1761413400-1761422400@alanon-wi.org
SUMMARY:Fall Fest: Al-Anon Open Meeting with AA Participation\, Saturday\, October 25\, 5:30pm\, Menomonee Falls
DESCRIPTION:The Fall Fest includes an Open Meeting\, Pot Luck Dinner and Raffle. It is a fundraiser with proceeds going to the Al-Anon Service Center. We are seeking Raffle Donations. \nAl-Anon Speaker: Tim T.\nAA Speaker: Jake L. \nSchedule\n5:30pm – Doors Open\n6:00pm – Pot Luck Dinner (Please bring a dish to pass.)\n7:00pm – Speakers \nLocation\nGood Shepherd Church\nN88W17658 Christman Rd\nMenomonee Falls\, WI 53051 \nDownload Flyer HERE.
URL:https://alanon-wi.org/event/fall-fest-al-anon-open-meeting-with-aa-participation-saturday-october-25-530pm-menomonee-falls/
LOCATION:Good Shepherd Church\, N88 W17658 Christman Rd\, Menomonee Falls\, WI\, 53051\, United States
END:VEVENT
END:VCALENDAR