BEGIN:VCALENDAR
VERSION:2.0
PRODID:-//Al-Anon Family Groups of Southeastern Wisconsin - ECPv6.15.20//NONSGML v1.0//EN
CALSCALE:GREGORIAN
METHOD:PUBLISH
X-WR-CALNAME:Al-Anon Family Groups of Southeastern Wisconsin
X-ORIGINAL-URL:https://alanon-wi.org
X-WR-CALDESC:Events for Al-Anon Family Groups of Southeastern Wisconsin
REFRESH-INTERVAL;VALUE=DURATION:PT1H
X-Robots-Tag:noindex
X-PUBLISHED-TTL:PT1H
BEGIN:VTIMEZONE
TZID:America/Chicago
BEGIN:DAYLIGHT
TZOFFSETFROM:-0600
TZOFFSETTO:-0500
TZNAME:CDT
DTSTART:20240310T080000
END:DAYLIGHT
BEGIN:STANDARD
TZOFFSETFROM:-0500
TZOFFSETTO:-0600
TZNAME:CST
DTSTART:20241103T070000
END:STANDARD
BEGIN:DAYLIGHT
TZOFFSETFROM:-0600
TZOFFSETTO:-0500
TZNAME:CDT
DTSTART:20250309T080000
END:DAYLIGHT
BEGIN:STANDARD
TZOFFSETFROM:-0500
TZOFFSETTO:-0600
TZNAME:CST
DTSTART:20251102T070000
END:STANDARD
BEGIN:DAYLIGHT
TZOFFSETFROM:-0600
TZOFFSETTO:-0500
TZNAME:CDT
DTSTART:20260308T080000
END:DAYLIGHT
BEGIN:STANDARD
TZOFFSETFROM:-0500
TZOFFSETTO:-0600
TZNAME:CST
DTSTART:20261101T070000
END:STANDARD
END:VTIMEZONE
BEGIN:VEVENT
DTSTART;TZID=America/Chicago:20250709T190000
DTEND;TZID=America/Chicago:20250709T200000
DTSTAMP:20260424T012152
CREATED:20250630T182041Z
LAST-MODIFIED:20250708T060238Z
UID:7421-1752087600-1752091200@alanon-wi.org
SUMMARY:Dynamic DR Meeting\, Wednesday\, July 9\, 7-8pm\, Online
DESCRIPTION:The District Representatives of Area 61 invite you to a Dynamic DR meeting. \nAll districts of Area 61 are welcome. You don’t have to be a District Rep to attend. If you are a current\, past\, alternate DR\, in an unrepresented district\, or just want to learn more about this vital role\, we would be delighted to have you. It’s a great support network!\nZoom Meeting ID: 879-0517-8916\nPasscode: 43592723
URL:https://alanon-wi.org/event/dynamic-dr-meeting-wednesday-july-9-2025-700-800-p-m-online/
LOCATION:WI
ORGANIZER;CN="Area 61":MAILTO:conventionregistration@area61afg.org
END:VEVENT
BEGIN:VEVENT
DTSTART;TZID=America/Chicago:20250712T093000
DTEND;TZID=America/Chicago:20250712T130000
DTSTAMP:20260424T012152
CREATED:20241229T044142Z
LAST-MODIFIED:20250616T020403Z
UID:6686-1752312600-1752325200@alanon-wi.org
SUMMARY:Lunch on Us - Step/Tradition/Concept Workshop\, Saturday\, July 12\, 9:30am\, Waukesha
DESCRIPTION:Sponsored By: District 4 \nEvent Details\nBooklet: Healing Within Our Alcoholic Relationship\nAl-Anon Workshop on the Steps\, Traditions\, Concepts\n2nd Saturday of every month for 2025\, District 4 will be doing a Step\, Tradition\, Concept of the month Workshop. \nRegistration\nRegistration is encouraged to help organizers plan for lunch and a communication tool in case of bad weather or program changes. *** Please note\, this is only registration for the July meeting. A similar sign up will be posted for future meetings.\nREGISTER AT THIS LINK \nWorkshop Timeline\n9:30-10:00 Arrival\n10:00-10:30 Step 7\n10:30-10:45 Break\n10:45-11:15 Tradition 7\n11:15-12:00 Lunch on us\n12:00-12:30 Concept 7\n12:30-1:00 Clean up\nOpen Meeting – All are Welcome \nAdditional Information\nParking lot entrance is on Corporate Dr. Park in the front of the building or right side. Enter the front doors. Stairs or elevator to 2nd Floor. \nClick Here for Flyer
URL:https://alanon-wi.org/event/lunch-on-us-step-tradition-concept-workshop-saturday-july-12/
LOCATION:Citizens Bank Community Room Waukesha\, 2109 Corporate Dr\, Waukesha\, WI\, 53189\, United States
END:VEVENT
BEGIN:VEVENT
DTSTART;TZID=America/Chicago:20250712T190000
DTEND;TZID=America/Chicago:20250712T203000
DTSTAMP:20260424T012152
CREATED:20250523T211438Z
LAST-MODIFIED:20250605T200427Z
UID:7319-1752346800-1752352200@alanon-wi.org
SUMMARY:AA Open Meeting with Al-Anon Participation\, Saturday\, July 12\, 7pm\, Oconomowoc
DESCRIPTION:AA Open Meeting with Al-Anon Participation\nSponsored by:   Lake Area Club – Oconomowoc \nAl-Anon Speaker:  Patricia K\nAA Speaker:  Ken M \nEvent Details\nOpen Speaker Meeting at Lake Area Club in Oconomowoc.\nFellowship before 6:30-7pm with speakers starting at 7pm. Parking available in front and back of building. \nVenue Name:\nLake Area Club \nAddress\nStreet Address : N60W35878 Lake Drive\nCity : Oconomowoc\nState/Province : WI\nZIP / Postal Code : 53066
URL:https://alanon-wi.org/event/aa-open-meeting-with-al-anon-participation-7pm-oconomowoc/
LOCATION:Lake Area Club\, N60W35878 Lake Dr\, Oconomowoc\, Wisconsin\, 53066
END:VEVENT
BEGIN:VEVENT
DTSTART;TZID=America/Chicago:20250713T180000
DTEND;TZID=America/Chicago:20250713T203000
DTSTAMP:20260424T012152
CREATED:20250707T164449Z
LAST-MODIFIED:20250707T164620Z
UID:7429-1752429600-1752438600@alanon-wi.org
SUMMARY:Potluck Dinner & Open AA meeting with Al-Anon participation\, Sunday\, July 13\, 6pm\, Mukwonago
DESCRIPTION:Doors open at 6pm.\nPotluck Dinner: 6:30pm – Bring a dish to pass if you wish.\nSpeakers at 7:30pm.\nAA speaker-Dave S.\nAl-Anon speaker-Janet C. \nDinner & Open Meeting Location: Vernon Evangelical Lutheran Church\nS90W27550 National Ave\, Mukwonago\, WI 53149 \nPLEASE NOTE: The Mukwonago Sunday Night Survivor Al-Anon in-person meeting at Mt. Olive Church\, will not meet on Sunday\, July 13\, 2025. HOWEVER\, the Zoom link will be available to those who want to participate in a remote AFG meeting at 7:30pm.\nJoin by Zoom: 87349229041\nMeeting ID: 873 4922 9041\nPasscode: 070457 \nPhone Dial-In Option- 646-876-9923\nMeeting number = 87349229041#\nParticipant ID = #\nPasscode = 070457#\n*6 to mute or unmute
URL:https://alanon-wi.org/event/potluck-dinner-open-aa-meeting-with-al-anon-participation-sunday-6pm-mukwonago/
LOCATION:Vernon Evangelical Lutheran Church\, S90W27550 National Ave\, Mukwonago\, WI\, 53149
END:VEVENT
BEGIN:VEVENT
DTSTART;TZID=America/Chicago:20250724T190000
DTEND;TZID=America/Chicago:20250724T203000
DTSTAMP:20260424T012152
CREATED:20241222T021701Z
LAST-MODIFIED:20250221T182926Z
UID:6643-1753383600-1753389000@alanon-wi.org
SUMMARY:Al-Anon Intergroup Meeting\, Thursday\, July 24\, 7pm\, West Allis\, Hybrid
DESCRIPTION:Access the Zoom Meeting–\nMeeting ID: 574 020 0987\nPasscode: 2572415 \nNote: All meetings are Hybrid. For those attending in-person\, the usual meeting location is in Room 2135 (First Floor). \nIntergroup Meetings: \nAll registered Al-Anon groups in the southeastern Wisconsin may elect one member to serve as the group’s representative at intergroup meetings for the Al-Anon Service Center. Each representative is called an Information Service Representative (ISR). ISRs attend intergroup meetings every other month to discuss and and vote on matters related to the Al-Anon Service Center. Intergroup generally meets on the 4th Thursday of ODD months at 7:00 pm (although dates may change to avoid conflicts).
URL:https://alanon-wi.org/event/al-anon-intergroup-meeting-thursday-july-24-7pm-hybrid/
LOCATION:Al-Anon Local Information Service Center at Summit Place\, 6737 W Washington St\, Suite 2125 (First Floor)\, West Allis\, WI\, 53214
END:VEVENT
BEGIN:VEVENT
DTSTART;TZID=America/Chicago:20250730T190000
DTEND;TZID=America/Chicago:20250730T200000
DTSTAMP:20260424T012152
CREATED:20250704T124541Z
LAST-MODIFIED:20250704T124541Z
UID:7427-1753902000-1753905600@alanon-wi.org
SUMMARY:Al-Anon Open Meeting with AA Participation\, Wednesday\, July 30\, 7:00-8:00 p.m.\, In Person
DESCRIPTION:Waukesha 12 and 12 Open Meeting \nAl-Anon Speaker: Paige H. AA Speaker: Mike H. \n  \n  \n 
URL:https://alanon-wi.org/event/al-anon-open-meeting-with-aa-participation-wednesday-july-30-700-800-p-m-in-person/
LOCATION:Waukesha Twelve and Twelve – New Vision Church\, N14W27995 Silvernail Rd\, Pewaukee\, Wisconsin\, 53072
END:VEVENT
BEGIN:VEVENT
DTSTART;TZID=America/Chicago:20250731T120000
DTEND;TZID=America/Chicago:20250731T130000
DTSTAMP:20260424T012152
CREATED:20250708T050046Z
LAST-MODIFIED:20250708T050046Z
UID:7433-1753963200-1753966800@alanon-wi.org
SUMMARY:Al-Anon Open Meeting with AA Participation\, Thursday\, July 31\, 12pm\, West Allis
DESCRIPTION:Organized by: 12 at 12 AFG \nAl-Anon Speaker: Janet C.\nAA Speaker: Manny M. \nPark in visitors lot and check in with security.\nMeeting is in the Glass Patio Room\, 1st floor\, Suite 2143 \nSummit Place\n6737 W. Washington St\nWest Allis\, WI 53214 \nDownload Flyer HERE.
URL:https://alanon-wi.org/event/al-anon-open-meeting-with-aa-participation-thursday-july-31-12pm-west-allis/
LOCATION:12 at 12 AFG – Summit Place\, 6737 W Washington St\, West Allis\, WI\, 53214
END:VEVENT
END:VCALENDAR