BEGIN:VCALENDAR
VERSION:2.0
PRODID:-//Al-Anon Family Groups of Southeastern Wisconsin - ECPv6.15.20//NONSGML v1.0//EN
CALSCALE:GREGORIAN
METHOD:PUBLISH
X-ORIGINAL-URL:https://alanon-wi.org
X-WR-CALDESC:Events for Al-Anon Family Groups of Southeastern Wisconsin
REFRESH-INTERVAL;VALUE=DURATION:PT1H
X-Robots-Tag:noindex
X-PUBLISHED-TTL:PT1H
BEGIN:VTIMEZONE
TZID:America/Chicago
BEGIN:DAYLIGHT
TZOFFSETFROM:-0600
TZOFFSETTO:-0500
TZNAME:CDT
DTSTART:20240310T080000
END:DAYLIGHT
BEGIN:STANDARD
TZOFFSETFROM:-0500
TZOFFSETTO:-0600
TZNAME:CST
DTSTART:20241103T070000
END:STANDARD
BEGIN:DAYLIGHT
TZOFFSETFROM:-0600
TZOFFSETTO:-0500
TZNAME:CDT
DTSTART:20250309T080000
END:DAYLIGHT
BEGIN:STANDARD
TZOFFSETFROM:-0500
TZOFFSETTO:-0600
TZNAME:CST
DTSTART:20251102T070000
END:STANDARD
BEGIN:DAYLIGHT
TZOFFSETFROM:-0600
TZOFFSETTO:-0500
TZNAME:CDT
DTSTART:20260308T080000
END:DAYLIGHT
BEGIN:STANDARD
TZOFFSETFROM:-0500
TZOFFSETTO:-0600
TZNAME:CST
DTSTART:20261101T070000
END:STANDARD
END:VTIMEZONE
BEGIN:VEVENT
DTSTART;TZID=America/Chicago:20250603T183000
DTEND;TZID=America/Chicago:20250603T193000
DTSTAMP:20260424T033051
CREATED:20250421T223756Z
LAST-MODIFIED:20250513T190540Z
UID:7189-1748975400-1748979000@alanon-wi.org
SUMMARY:Al-Anon Open Meeting with AA Participation\, Tuesday\, June 3\, 6:30pm\, Franklin
DESCRIPTION:Media:  In Person \nOrganized by:  Franklin Serenity \nDay of the week:  Tuesday\nEvent Start Date:  06/03/2025\nStart Time:  6:30-7:30 \nCity:  Franklin\, WI \nAl-Anon Speaker:  Kathy E.\nAA Speaker:  Anna \nEvent Details\nPlease join us for this in-person open Al-Anon meeting with AA participation to listen to this mother and daughter sharing of their experience\, strength\, and hope with refreshments and fellowship following the meeting. \nVenue Name:\nFaith Presbyterian Church \nStreet Address : 3800 W. Rawson Ave\nCity : Franklin\nState/Province : WI\nZIP / Postal Code : 53132 \n 
URL:https://alanon-wi.org/event/al-anon-open-meeting-with-aa-participation-sunday-6-3-25-630-730pm/
LOCATION:Franklin Serenity – Faith Presbyterian Church\, 3800 W. Rawson Avenue\, Franklin\, Wisconsin\, 53132
END:VEVENT
BEGIN:VEVENT
DTSTART;TZID=America/Chicago:20250605T173000
DTEND;TZID=America/Chicago:20250605T193000
DTSTAMP:20260424T033051
CREATED:20250314T210556Z
LAST-MODIFIED:20250513T190717Z
UID:7085-1749144600-1749151800@alanon-wi.org
SUMMARY:Annual Pot Luck and Al-Anon Open Meeting with AA Participation\, Thursday\, June 5\, 5:30pm\, Brookfield
DESCRIPTION:Twelve Steppers AFG Annual Pot-luck Open Mtg w/AA Participation \nAl-Anon Speaker: Jenny B. \nAA Speaker: Kane B. \nThis is the Annual Pot-Luck Open Speaker meeting with AA Participation for the Twelve Steppers AFG — please bring a dish to pass\, but not required! \nPot-Luck begins at 5:30; Speakers at 6:30. \nSt. John Lutheran Church\, 20275 Davidson Rd\, Brookfield\, WI 53045 \nTwelve Steppers June 5th Flyer \n 
URL:https://alanon-wi.org/event/al-anon-open-meeting-with-aa-participation-thursday-june-5-2025-630-p-m-in-person/
LOCATION:Twelve Steppers – St. John’s Lutheran Church\, 20275 Davidson Rd.\, Brookfield\, Wisconsin\, 53045
END:VEVENT
BEGIN:VEVENT
DTSTART;TZID=America/Chicago:20250614T093000
DTEND;TZID=America/Chicago:20250614T130000
DTSTAMP:20260424T033051
CREATED:20241229T043946Z
LAST-MODIFIED:20250513T191117Z
UID:6684-1749893400-1749906000@alanon-wi.org
SUMMARY:Lunch on Us - Step/Tradition/Concept Workshop\, Saturday\, June 14\, 9:30am\, Waukesha
DESCRIPTION:Sponsored By: District 4 \nEvent Details\nBooklet: Healing Within Our Alcoholic Relationship\nAl-Anon Workshop on the Steps\, Traditions\, Concepts\n2nd Saturday of every month for 2025\, District 4 will be doing a Step\, Tradition\, Concept of the month Workshop. \nRegistration\nRegistration is encouraged to help organizers plan for lunch and a communication tool in case of bad weather or program changes. *** Please note\, this is only registration for the June meeting. A similar sign up will be posted for future meetings.\nREGISTER AT THIS LINK \nWorkshop Timeline\n9:30-10:00 Arrival\n10:00-10:30 Step 6\n10:30-10:45 Break\n10:45-11:15 Tradition 6\n11:15-12:00 Lunch on us\n12:00-12:30 Concept 6\n12:30-1:00 Clean up\nOpen Meeting – All are Welcome \nAdditional Information\nParking lot entrance is on Corporate Dr. Park in the front of the building or right side. Enter the front doors. Stairs or elevator to 2nd Floor. \nClick Here for Flyer
URL:https://alanon-wi.org/event/lunch-on-us-step-tradition-concept-workshop-saturday-june-14/
LOCATION:Citizens Bank Community Room Waukesha\, 2109 Corporate Dr\, Waukesha\, WI\, 53189\, United States
END:VEVENT
BEGIN:VEVENT
DTSTART;TZID=America/Chicago:20250616T183000
DTEND;TZID=America/Chicago:20250616T193000
DTSTAMP:20260424T033051
CREATED:20250509T232653Z
LAST-MODIFIED:20250513T191313Z
UID:7263-1750098600-1750102200@alanon-wi.org
SUMMARY:Open Meeting with AA Participation\, Monday\, June 16\, 6:30pm\, Brookfield
DESCRIPTION:Brookfield Courage to Change Open Meeting with AA Participation \nAl-Anon Speaker: Chris C.; AA Speaker: Jerry C \nSt. John Vianney Church\, 1755 N. Calhoun Road\, room 209\, Brookfield\, WI 53005
URL:https://alanon-wi.org/event/open-meeting-with-aa-participation-monday-june-6-2025-630-730-p-m/
LOCATION:St. John Vianney Church\, 1755 N. Calhoun Rd\, Room 209\, Brookfield\, WI\, 53005\, United States
END:VEVENT
BEGIN:VEVENT
DTSTART;TZID=America/Chicago:20250621T200000
DTEND;TZID=America/Chicago:20250621T210000
DTSTAMP:20260424T033051
CREATED:20250530T042952Z
LAST-MODIFIED:20250605T191536Z
UID:7341-1750536000-1750539600@alanon-wi.org
SUMMARY:AA Open Meeting with Al-Anon Participation\, Saturday\, June 21\, 8pm\, West Allis.
DESCRIPTION:AA Open Meeting with Al-Anon Participation \nSaturday 06/21/2025 8:00 PM \nH.O.W. to Club 8930 W National Ave\, West Allis \nAl-Anon Speaker: Jennifer L. \nAA Speaker: Joyce D. \n 
URL:https://alanon-wi.org/event/aa-open-meeting-with-al-anon-participation-saturday-june-21st-8pm-west-allis/
LOCATION:How to Club\, 8930 W National Ave\, West Allis\, WI\, 53227\, United States
END:VEVENT
BEGIN:VEVENT
DTSTART;TZID=America/Chicago:20250629T173000
DTEND;TZID=America/Chicago:20250629T183000
DTSTAMP:20260424T033051
CREATED:20250616T022159Z
LAST-MODIFIED:20250616T022159Z
UID:7389-1751218200-1751221800@alanon-wi.org
SUMMARY:Al-Anon Open Meeting with AA Participation\, Sunday\, June 29\, 5:30pm\, Wauwatosa
DESCRIPTION:5th Sunday of the month\, open meeting\nHosted by Living in the Solution AFG \nAl-Anon Speaker: Katharina H.\nAA Speaker: Andrew B. \nDewey Center-The Lighthouse\n1220 Dewey Ave\nWauwatosa\, WI 53213
URL:https://alanon-wi.org/event/al-anon-open-meeting-with-aa-participation-sunday-june-29-530pm-wauwatosa/
LOCATION:Dewey Center Lighthouse Building\, 1220 Dewey Ave.\, Wauwatosa\, WI\, 53213
END:VEVENT
BEGIN:VEVENT
DTSTART;TZID=America/Chicago:20250629T190000
DTEND;TZID=America/Chicago:20250629T200000
DTSTAMP:20260424T033051
CREATED:20250530T042019Z
LAST-MODIFIED:20250605T191614Z
UID:7338-1751223600-1751227200@alanon-wi.org
SUMMARY:Al-Anon Open Speaker Meeting\, Sunday\, June 29\, 7-8pm\, Pewaukee\, Hybrid.
DESCRIPTION:Open speaker meeting at Pewaukee Serenity Group\, Sunday\, June 29th\, 2025\, 7-8 PM. \nTwo 10 minute speakers & a main speaker\, Laura K from Pewaukee. \nHeld at Galilee Lutheran Church\, N24W26430\, Crestview Drive (off of Hwy G)\, Pewaukee\, WI\, \nHybrid meeting. Zoom info: ID 346 628 7516\, Passcode 020406 \n 
URL:https://alanon-wi.org/event/al-anon-open-speaker-meeting-sunday-june-29th-7-8pm-pewaukee-hybrid/
LOCATION:Galilee Lutheran Church\, N24W26430 Crestview Dr.\, Pewaukee\, WI\, 53072\, United States
END:VEVENT
BEGIN:VEVENT
DTSTART;TZID=America/Chicago:20250630T063000
DTEND;TZID=America/Chicago:20250630T193000
DTSTAMP:20260424T033051
CREATED:20250617T005426Z
LAST-MODIFIED:20250617T175717Z
UID:7391-1751265000-1751311800@alanon-wi.org
SUMMARY:Al-Anon Open Meeting Monday 6:30 Shorewood
DESCRIPTION:Al-Anon Open Meeting with AA Participation Monday 6:30 Shorewood\n6/30/2025  6:30 pm\nSponsored by:  Eastside Monday AFG \nAl-Anon Speaker:  Sharon Y\nAA Speaker:  Kailyn H \nAdditional Information\nEnter from the parking lot \nVenue Name:\nNorth Shore Presbyterian Church \nStreet Address : 4048 N Bartlet Ave\nCity : Shorewood\nState/Province : WI\nZIP / Postal Code : 53211
URL:https://alanon-wi.org/event/al-anon-open-meeting-monday-630-shorewood/
LOCATION:Northshore Presbyterian Chuch\, 4048 N. Bartlett Ave\, Shorewood\, WI\, 53211\, United States
END:VEVENT
BEGIN:VEVENT
DTSTART;TZID=America/Chicago:20250630T183000
DTEND;TZID=America/Chicago:20250630T193000
DTSTAMP:20260424T033051
CREATED:20250507T223839Z
LAST-MODIFIED:20250604T143641Z
UID:7255-1751308200-1751311800@alanon-wi.org
SUMMARY:Al-Anon Open Meeting with AA Participation\, Monday\, June 30\, 6:30pm\, Delafield
DESCRIPTION:Meeting Hosted by :  Lake Country Let Go And Let God \nChrist the King Lutheran Church\n1600 N Genesee Str\nDelafield\, WI 53018 \nAA Speaker – Sharon B\nAlanon Speaker – Toni G \nEnter thru the East Door and proceed into the lower level\nElevator is available \nFlyer_June_30_2025
URL:https://alanon-wi.org/event/al-anon-open-meeting-with-aa-participation-monday-june-30-630-730pm/
LOCATION:Lake Country Let Go and Let God AFG – Christ the King Lutheran Church\, 1600 N. Genesee St.\, Delafield\, Wisconsin\, 53018
END:VEVENT
END:VCALENDAR