BEGIN:VCALENDAR
VERSION:2.0
PRODID:-//Al-Anon Family Groups of Southeastern Wisconsin - ECPv6.15.20//NONSGML v1.0//EN
CALSCALE:GREGORIAN
METHOD:PUBLISH
X-ORIGINAL-URL:https://alanon-wi.org
X-WR-CALDESC:Events for Al-Anon Family Groups of Southeastern Wisconsin
REFRESH-INTERVAL;VALUE=DURATION:PT1H
X-Robots-Tag:noindex
X-PUBLISHED-TTL:PT1H
BEGIN:VTIMEZONE
TZID:America/Chicago
BEGIN:DAYLIGHT
TZOFFSETFROM:-0600
TZOFFSETTO:-0500
TZNAME:CDT
DTSTART:20240310T080000
END:DAYLIGHT
BEGIN:STANDARD
TZOFFSETFROM:-0500
TZOFFSETTO:-0600
TZNAME:CST
DTSTART:20241103T070000
END:STANDARD
BEGIN:DAYLIGHT
TZOFFSETFROM:-0600
TZOFFSETTO:-0500
TZNAME:CDT
DTSTART:20250309T080000
END:DAYLIGHT
BEGIN:STANDARD
TZOFFSETFROM:-0500
TZOFFSETTO:-0600
TZNAME:CST
DTSTART:20251102T070000
END:STANDARD
BEGIN:DAYLIGHT
TZOFFSETFROM:-0600
TZOFFSETTO:-0500
TZNAME:CDT
DTSTART:20260308T080000
END:DAYLIGHT
BEGIN:STANDARD
TZOFFSETFROM:-0500
TZOFFSETTO:-0600
TZNAME:CST
DTSTART:20261101T070000
END:STANDARD
END:VTIMEZONE
BEGIN:VEVENT
DTSTART;TZID=America/Chicago:20250502T160000
DTEND;TZID=America/Chicago:20250504T120000
DTSTAMP:20260424T053722
CREATED:20250209T015133Z
LAST-MODIFIED:20250221T183440Z
UID:6859-1746201600-1746360000@alanon-wi.org
SUMMARY:36th Annual Al-Anon Adult Children Workshop\, Friday May 2 - Sunday May 4\, Green Lake\, In Person
DESCRIPTION:36th Annual Al-Anon Adult Children Workshop  –  A 3 day weekend event Friday May 2nd evening through Sunday May 4th noonish \nThere are 3 main speakers\, a panel on The Miracle of Looking Within One Day at a Time\, 30+ topics with breakout meetings\, meditations room\, games\, campfire\, movie\, games\, and new this year: “No-Talent Talent Show” \nSpeakers:  Lorena R — Elburn\, IL.  Father Tom W — Oakland\, CA.  Marielle S — Baraboo\, WI \nPlease see the flyer for registration and accommodations details plus the full weekend schedule \nGreen Lake Conference Center (GLCC) \,  W2511 State Hwy WI-23 Green Lake\, WI 54941 \nOrganized by Surviving to Thriving AFG (electronic meeting) \nClick here to download FLYER \n 
URL:https://alanon-wi.org/event/36th-annual-al-anon-adult-children-workshop-friday-sunday-may-2-4-in-person/
LOCATION:Green Lake Conference Center – Green Lake\, WI\, W2511 State Highway 23\, Green Lake\, WI
END:VEVENT
BEGIN:VEVENT
DTSTART;TZID=America/Chicago:20250503T093000
DTEND;TZID=America/Chicago:20250503T120000
DTSTAMP:20260424T053722
CREATED:20250408T020029Z
LAST-MODIFIED:20250418T165146Z
UID:7156-1746264600-1746273600@alanon-wi.org
SUMMARY:Sponsorship Workshop\, Saturday\, May 3\, 9:30-noon\, In Person
DESCRIPTION:District 2 will host a Sponsorship Workshop Saturday\, May 3\, 9:30 a.m. to noon at Summit Place\, Conference Room #2135\, 6737 W. Washington St.\, West Allis. \nAre you new to the program and in need of a sponsor? Do you feel that it may be time to change sponsors? Are you new to being a sponsor? Have you been sponsoring for years\, and accumulating burning questions along the way? We are putting on this workshop just for you! \nWe will have a panel of Al-Anon rock-stars share their ESH (experience\, strength and hope) about sponsorship. After they present\, there will be time for Q & A. \nIf you are able\, please bring a brunch item to share. We will have light refreshments and fellowship from 9:30-10am. Workshop from 10am-noon. \nFree-will donations accepted. \nDownload Flyer with details HERE. \n 
URL:https://alanon-wi.org/event/district-2-sponsorship-workshop-saturday-may-3-2025-930-noon-in-person/
LOCATION:Summit Place – West Allis\, 6737 W. Washington St.\, West Allis\, WI\, 53214\, United States
END:VEVENT
BEGIN:VEVENT
DTSTART;TZID=America/Chicago:20250510T093000
DTEND;TZID=America/Chicago:20250510T130000
DTSTAMP:20260424T053722
CREATED:20241229T043737Z
LAST-MODIFIED:20250506T130648Z
UID:6682-1746869400-1746882000@alanon-wi.org
SUMMARY:Lunch on Us - Step/Tradition/Concept Workshop\, Saturday\, May 10\, 9:30am\, Waukesha\, In Person
DESCRIPTION:Sponsored By: District 4 \nEvent Details\nBooklet: Healing Within Our Alcoholic Relationship\nAl-Anon Workshop on the Steps\, Traditions\, Concepts\n2nd Saturday of every month for 2025\, District 4 will be doing a Step\, Tradition\, Concept of the month Workshop. \nRegistration\nRegistration is encouraged to help organizers plan for lunch and a communication tool in case of bad weather or program changes. *** Please note\, this is only registration for the May meeting. A similar sign up will be posted for future meetings.\nREGISTER AT THIS LINK \nWorkshop Timeline\n9:30-10:00 Arrival\n10:00-10:30 Step 5\n10:30-10:45 Break\n10:45-11:15 Tradition 5\n11:15-12:00 Lunch on us\n12:00-12:30 Concept 5\n12:30-1:00 Clean up\nOpen Meeting – All are Welcome \nAdditional Information\nParking lot entrance is on Corporate Dr. Park in the front of the building or right side. Enter the front doors. Stairs or elevator to 2nd Floor. \nClick Here for Flyer
URL:https://alanon-wi.org/event/lunch-on-us-step-tradition-concept-workshop-saturday-may-10/
LOCATION:Citizens Bank Community Room Waukesha\, 2109 Corporate Dr\, Waukesha\, WI\, 53189\, United States
END:VEVENT
BEGIN:VEVENT
DTSTART;VALUE=DATE:20250516
DTEND;VALUE=DATE:20250519
DTSTAMP:20260424T053722
CREATED:20250416T222944Z
LAST-MODIFIED:20250416T222944Z
UID:7167-1747353600-1747612799@alanon-wi.org
SUMMARY:AA Area 74 Spring Conference with Al-Anon Participation\, May 16-18\, Sturgeon Bay\, In Person
DESCRIPTION:Conference Theme: Navigating The Waters Of Recovery Together \nThe Al-Anon component will include 5 to 6 Al-Anon meetings\, with a Double Winner/Dual Member meeting offered\, as well. \nConference Cost is $45.\nSaturday Nigh Plated Meal Cost is $40. \nHotel Information:\nStone Harbor Resort & Conference Center\n107 N. First Ave.\, Sturgeon Bay\, WI 54235 \nPhone: 920-746-0700\n110 Rooms available; discounted rate of $165.00 per night\nDeadline to book for discounted rate is April 10\, 2025 \nDownload Conference Flyer/Registration Form \nDirect Questions to: springconference2025@yahoo.com
URL:https://alanon-wi.org/event/aa-area-74-spring-conference-with-al-anon-participation-may-16-18-sturgeon-bay-in-person/
LOCATION:Stone Harbor Resort & Conference Center\, 107 N. First Ave.\, Sturgeon Bay\, WI\, 54235
END:VEVENT
BEGIN:VEVENT
DTSTART;TZID=America/Chicago:20250517T200000
DTEND;TZID=America/Chicago:20250517T210000
DTSTAMP:20260424T053722
CREATED:20250506T181920Z
LAST-MODIFIED:20250513T185843Z
UID:7239-1747512000-1747515600@alanon-wi.org
SUMMARY:AA Open Meeting with Al-Anon Participation\, Saturday\, May 17\, 8pm\, West Allis
DESCRIPTION:How To Club AA Open Meeting with Al-Anon Participation \nAA Speaker: Max M. ; Al-Anon Speaker: Michelle P. \n8930 W National Ave\, West Allis\, WI 53227 \n 
URL:https://alanon-wi.org/event/aa-open-meeting-with-al-anon-participation-saturday-may-17-2025-800-p-m/
LOCATION:How to Club\, 8930 W National Ave\, West Allis\, WI\, 53227\, United States
END:VEVENT
BEGIN:VEVENT
DTSTART;TZID=America/Chicago:20250520T173000
DTEND;TZID=America/Chicago:20250520T200000
DTSTAMP:20260424T053722
CREATED:20250514T195353Z
LAST-MODIFIED:20250514T195353Z
UID:7296-1747762200-1747771200@alanon-wi.org
SUMMARY:3rd Annual Anniversary Pot Luck and AFG Meeting\, Tuesday\, May 20\, 5:30pm\, Waukesha
DESCRIPTION:Organized by: Waukesha Keep it Simple AFG \nDoors Open & Set-up: 5:30pm\nFood Served: 6-7pm\nAFG Meeting: 7-8pm \nPlease join us for food and fellowship! Bring a dish to pass. Doors open at 5:30pm for set-up. \nChrist the Servant Luthern Church\n2016 Center Rd\, Waukesha\, WI 53189
URL:https://alanon-wi.org/event/3rd-annual-anniversary-pot-luck-and-afg-meeting-tuesday-may-20-530pm-waukesha/
LOCATION:Keep it Simple AFG – Christ the Servant Lutheran Church\, 2016 Center Rd\, Waukesha\, WI\, 53189
END:VEVENT
BEGIN:VEVENT
DTSTART;TZID=America/Chicago:20250522T190000
DTEND;TZID=America/Chicago:20250522T203000
DTSTAMP:20260424T053722
CREATED:20241222T021451Z
LAST-MODIFIED:20250221T183207Z
UID:6641-1747940400-1747945800@alanon-wi.org
SUMMARY:Al-Anon Intergroup Meeting\, Thursday\, May 22\, 7pm\, West Allis\, Hybrid
DESCRIPTION:Access the Zoom Meeting–\nMeeting ID: 574 020 0987\nPasscode: 2572415 \nNote: All meetings are Hybrid. For those attending in-person\, the usual meeting location is in Room 2135 (First Floor). \nIntergroup Meetings: \nAll registered Al-Anon groups in the southeastern Wisconsin may elect one member to serve as the group’s representative at intergroup meetings for the Al-Anon Service Center. Each representative is called an Information Service Representative (ISR). ISRs attend intergroup meetings every other month to discuss and and vote on matters related to the Al-Anon Service Center. Intergroup generally meets on the 4th Thursday of ODD months at 7:00 pm (although dates may change to avoid conflicts).
URL:https://alanon-wi.org/event/al-anon-intergroup-meeting-thursday-may-22-7pm-hybrid/
LOCATION:Al-Anon Local Information Service Center at Summit Place\, 6737 W Washington St\, Suite 2125 (First Floor)\, West Allis\, WI\, 53214
END:VEVENT
BEGIN:VEVENT
DTSTART;TZID=America/Chicago:20250529T120000
DTEND;TZID=America/Chicago:20250529T130000
DTSTAMP:20260424T053722
CREATED:20250520T014025Z
LAST-MODIFIED:20250520T014410Z
UID:7313-1748520000-1748523600@alanon-wi.org
SUMMARY:Al-Anon Open Meeting with AA Participation\, Thursday\, May 29\, 12pm\, West Allis
DESCRIPTION:Open Meeting Hosted by 12 at 12 AFG \nPlease join us as\nAA speaker: Sylvia Y. \nAl-Anon speaker: Cheryl A. \nshare their experience\, strength and hope. \nSummit Place\, 6737 W Washington St\, West Allis\, WI 53214\n(Room 2143\, aka “Glass Patio” – on the first floor\, past the cafeteria)  \nDownload Flyer
URL:https://alanon-wi.org/event/al-anon-open-meeting-with-aa-participation-thursday-may-29-12pm-west-allis/
LOCATION:12 at 12 AFG – Summit Place\, 6737 W Washington St\, West Allis\, WI\, 53214
END:VEVENT
BEGIN:VEVENT
DTSTART;TZID=America/Chicago:20250531T100000
DTEND;TZID=America/Chicago:20250531T170000
DTSTAMP:20260424T053722
CREATED:20250504T184931Z
LAST-MODIFIED:20250513T191008Z
UID:7221-1748685600-1748710800@alanon-wi.org
SUMMARY:5th Annual Lake Area Club Volleyball Tournament\, Saturday\, May 31\, 10am-5pm\, Oconomowoc
DESCRIPTION:5th Annual Lake Area Club Volleyball Tournament \nFellowship- Games- Raffles-Food- Prizes-Fundraiser. All Are Welcome! Build your own team of 5-7 co-ed players or just show up to be added to a team. \nSuggested donation $5. Bring a dish to pass. 50/50 raffle and fishbowl raffles. \nVolleyball courts are behind the building. Have an item you want to donate to the raffle?! Bring it that day to be included. \nN60W35878 Lake Dr\, Oconomowoc\, WI 53066 \nFlyer Lake Area Club Volleyball Tournament May 31
URL:https://alanon-wi.org/event/5th-annual-lake-area-club-volleyball-tournament-saturday-may-31-1000-a-m-500-p-m/
LOCATION:Lake Area Club\, N60W35878 Lake Dr\, Oconomowoc\, Wisconsin\, 53066
END:VEVENT
END:VCALENDAR