BEGIN:VCALENDAR
VERSION:2.0
PRODID:-//Al-Anon Family Groups of Southeastern Wisconsin - ECPv6.15.20//NONSGML v1.0//EN
CALSCALE:GREGORIAN
METHOD:PUBLISH
X-ORIGINAL-URL:https://alanon-wi.org
X-WR-CALDESC:Events for Al-Anon Family Groups of Southeastern Wisconsin
REFRESH-INTERVAL;VALUE=DURATION:PT1H
X-Robots-Tag:noindex
X-PUBLISHED-TTL:PT1H
BEGIN:VTIMEZONE
TZID:America/Chicago
BEGIN:DAYLIGHT
TZOFFSETFROM:-0600
TZOFFSETTO:-0500
TZNAME:CDT
DTSTART:20240310T080000
END:DAYLIGHT
BEGIN:STANDARD
TZOFFSETFROM:-0500
TZOFFSETTO:-0600
TZNAME:CST
DTSTART:20241103T070000
END:STANDARD
BEGIN:DAYLIGHT
TZOFFSETFROM:-0600
TZOFFSETTO:-0500
TZNAME:CDT
DTSTART:20250309T080000
END:DAYLIGHT
BEGIN:STANDARD
TZOFFSETFROM:-0500
TZOFFSETTO:-0600
TZNAME:CST
DTSTART:20251102T070000
END:STANDARD
BEGIN:DAYLIGHT
TZOFFSETFROM:-0600
TZOFFSETTO:-0500
TZNAME:CDT
DTSTART:20260308T080000
END:DAYLIGHT
BEGIN:STANDARD
TZOFFSETFROM:-0500
TZOFFSETTO:-0600
TZNAME:CST
DTSTART:20261101T070000
END:STANDARD
END:VTIMEZONE
BEGIN:VEVENT
DTSTART;TZID=America/Chicago:20250403T183000
DTEND;TZID=America/Chicago:20250403T193000
DTSTAMP:20260424T074352
CREATED:20250314T212956Z
LAST-MODIFIED:20250314T213208Z
UID:7087-1743705000-1743708600@alanon-wi.org
SUMMARY:Al-Anon Open Meeting with AA Participation\, April 3\, 2025\, 6:30 p.m.\, In Person
DESCRIPTION:Twelve Steppers AFG\, Al-Anon Open Meeting with AA Participation \nAl-Anon Speaker: John McC. \nAA Speaker: Cherri C \nEvent Details This is the bi-monthly open speaker meeting held by the Twelve Steppers AFG. \nSt. John Lutheran Church\, 20275 Davidson Rd\, Brookfield\, WI 53045
URL:https://alanon-wi.org/event/al-anon-open-meeting-with-aa-participation-april-3-2025-630-p-m-in-person/
LOCATION:Twelve Steppers – St. John’s Lutheran Church\, 20275 Davidson Rd.\, Brookfield\, Wisconsin\, 53045
END:VEVENT
BEGIN:VEVENT
DTSTART;TZID=America/Chicago:20250419T100000
DTEND;TZID=America/Chicago:20250419T120000
DTSTAMP:20260424T074352
CREATED:20250411T232035Z
LAST-MODIFIED:20250412T013610Z
UID:7160-1745056800-1745064000@alanon-wi.org
SUMMARY:District 2 meeting\, Saturday\, April 19\, 10:00-12:00\, In person
DESCRIPTION:District 2 meeting\, Saturday\, Summit Place\, 6737 W. Washington St.\nGlass Patio: room # 2143 \nDistrict 2 is having a lot of fun these days. We would love for you to join our district meeting. No\, you don’t have to be a Group Rep. to attend. You don’t even have to be part of District 2. Maybe you’re from a district that has no District Rep. Come to our meeting. We would be delighted to assist you with getting your district back up and active again. You’d be amazed at how easy it is to get started! \n 
URL:https://alanon-wi.org/event/district-2-meeting-saturday-april-19-1000-1200-in-person/
LOCATION:Summit Place – West Allis\, 6737 W. Washington St.\, West Allis\, WI\, 53214\, United States
END:VEVENT
BEGIN:VEVENT
DTSTART;TZID=America/Chicago:20250419T200000
DTEND;TZID=America/Chicago:20250419T210000
DTSTAMP:20260424T074352
CREATED:20250404T015652Z
LAST-MODIFIED:20250404T015652Z
UID:7142-1745092800-1745096400@alanon-wi.org
SUMMARY:AA Open Meeting with Al-Anon Participation\, Saturday\, April 19\, 8pm\, In-Person
DESCRIPTION:Sponsored by: How To Club – 8930 W National Ave. West Allis\, WI 53227 \nAl-Anon Speaker: Rebecca \nAA Speaker: Lisa
URL:https://alanon-wi.org/event/aa-open-meeting-with-al-anon-participation-saturday-april-19-8pm-in-person/
LOCATION:How to Club\, 8930 W National Ave\, West Allis\, WI\, 53227\, United States
END:VEVENT
BEGIN:VEVENT
DTSTART;TZID=America/Chicago:20250426T093000
DTEND;TZID=America/Chicago:20250426T130000
DTSTAMP:20260424T074352
CREATED:20241229T043529Z
LAST-MODIFIED:20250319T222205Z
UID:6680-1745659800-1745672400@alanon-wi.org
SUMMARY:Lunch on Us - Step/Tradition/Concept Workshop\, Saturday\, April 26\, 9:30am\, Waukesha\, In Person (note this is Fourth Saturday)
DESCRIPTION:Sponsored By: District 4 \nEvent Details\nBooklet: Healing Within Our Alcoholic Relationship\nAl-Anon Workshop on the Steps\, Traditions\, Concepts\n2nd Saturday of every month for 2025\, District 4 will be doing a Step\, Tradition\, Concept of the month Workshop.   (except April which will be April 26th / fourth Saturday of the month) \nRegistration\nRegistration is encouraged to help organizers plan for lunch and a communication tool in case of bad weather or program changes. *** Please note\, this is only registration for the April meeting. A similar sign up will be posted for future meetings.\nPLEASE CLICK HERE FOR REGISTRATION \nWorkshop Timeline\n9:30-10:00 Arrival\n10:00-10:30 Step 4\n10:30-10:45 Break\n10:45-11:15 Tradition 4\n11:15-12:00 Lunch on us\n12:00-12:30 Concept 4\n12:30-1:00 Clean up\nOpen Meeting – All are Welcome \nAdditional Information\nParking lot entrance is on Corporate Dr. Park in the front of the building or right side. Enter the front doors. Stairs or elevator to 2nd Floor. \nClick Here for Flyer
URL:https://alanon-wi.org/event/lunch-on-us-step-tradition-concept-workshop-saturday-april-26/
LOCATION:Citizens Bank Community Room Waukesha\, 2109 Corporate Dr\, Waukesha\, WI\, 53189\, United States
END:VEVENT
BEGIN:VEVENT
DTSTART;TZID=America/Chicago:20250429T100000
DTEND;TZID=America/Chicago:20250429T110000
DTSTAMP:20260424T074352
CREATED:20250306T053825Z
LAST-MODIFIED:20250306T053825Z
UID:7011-1745920800-1745924400@alanon-wi.org
SUMMARY:Al-Anon Open Meeting with AA Participation\, Tuesday\, April 29\, 10am\, Franklin\, In Person
DESCRIPTION:Organized by:  Tuesday Morning Serenity AFG \nPlease join us as\nAA speaker: Bob J.\nAl-Anon speaker: Karen V.\nshare their experience\, strength and hope. \nConservancy for Healing and Heritage\n7401 West Rawson Avenue\, Franklin\, WI 53132 \nThe meeting is held in the Healing Chapel\, located near the northeast corner of the parking lot\, opposite Ascension WI Health – Reiman Cancer Center. \nDownload Flyer Here.
URL:https://alanon-wi.org/event/al-anon-open-meeting-with-aa-participation-tuesday-april-29-10am-franklin-in-person/
LOCATION:Conservancy for Healing and Heritage\, 7410 W Rawson Ave\, Franklin\, WI\, 53132\, United States
END:VEVENT
BEGIN:VEVENT
DTSTART;TZID=America/Chicago:20250429T183000
DTEND;TZID=America/Chicago:20250429T193000
DTSTAMP:20260424T074352
CREATED:20250421T015458Z
LAST-MODIFIED:20250421T015458Z
UID:7185-1745951400-1745955000@alanon-wi.org
SUMMARY:Al-Anon Open Meeting with AA Participation\, Tuesday\, April 29\, 6:30pm\, Hybrid
DESCRIPTION:Open Meeting organized by: Northwoods Serenity AFG\nIn-Person at Holy Family Church\, Woodruff AND Online via Zoom \nAl-Anon Speaker: Gina S.\nAA Speaker: Fran H. \nSupport the North Woods Hybrid Meeting! \nOnline:\nZoom ID: 827 0241 8617\nPassword NWAFG \nIn-Person attendees come to:\nHoly Family Catholic Church\n8950 Co Hwy J\, Woodruff\, WI 54568\nPark in rear lot\, enter through rear door\nRooms 5-6 on lower level\, Handicap Accessible \nDownload Flyer HERE.
URL:https://alanon-wi.org/event/al-anon-open-meeting-with-aa-participation-tuesday-april-29-630pm-hybrid/
LOCATION:Holy Family Catholic Church\, 8950 Co Hwy J\, Woodruff\, WI\, 54568
END:VEVENT
BEGIN:VEVENT
DTSTART;TZID=America/Chicago:20250430T190000
DTEND;TZID=America/Chicago:20250430T200000
DTSTAMP:20260424T074352
CREATED:20250407T200404Z
LAST-MODIFIED:20250407T200404Z
UID:7152-1746039600-1746043200@alanon-wi.org
SUMMARY:Al-Anon Open Meeting with AA Participation\, Wednesday\, April 30\, 7:00 pm\, In Person
DESCRIPTION:Al-Anon Open Meeting with AA Participation\, In Person \nWaukesha 12 x 12 AFG. Wednesday\, April 30th\, 7:00 p.m. \nAl-Anon Speaker: Judy Ti. \nAA Speaker: Amy P. \nNew Vision Church\, N14W27995 Silvernail Rd\, Pewaukee 53072
URL:https://alanon-wi.org/event/al-anon-open-meeting-with-aa-participation-wednesday-april-30-700-pm-in-person/
LOCATION:Waukesha Twelve and Twelve – New Vision Church\, N14W27995 Silvernail Rd\, Pewaukee\, Wisconsin\, 53072
END:VEVENT
END:VCALENDAR