BEGIN:VCALENDAR
VERSION:2.0
PRODID:-//Al-Anon Family Groups of Southeastern Wisconsin - ECPv6.15.20//NONSGML v1.0//EN
CALSCALE:GREGORIAN
METHOD:PUBLISH
X-ORIGINAL-URL:https://alanon-wi.org
X-WR-CALDESC:Events for Al-Anon Family Groups of Southeastern Wisconsin
REFRESH-INTERVAL;VALUE=DURATION:PT1H
X-Robots-Tag:noindex
X-PUBLISHED-TTL:PT1H
BEGIN:VTIMEZONE
TZID:America/Chicago
BEGIN:DAYLIGHT
TZOFFSETFROM:-0600
TZOFFSETTO:-0500
TZNAME:CDT
DTSTART:20240310T080000
END:DAYLIGHT
BEGIN:STANDARD
TZOFFSETFROM:-0500
TZOFFSETTO:-0600
TZNAME:CST
DTSTART:20241103T070000
END:STANDARD
BEGIN:DAYLIGHT
TZOFFSETFROM:-0600
TZOFFSETTO:-0500
TZNAME:CDT
DTSTART:20250309T080000
END:DAYLIGHT
BEGIN:STANDARD
TZOFFSETFROM:-0500
TZOFFSETTO:-0600
TZNAME:CST
DTSTART:20251102T070000
END:STANDARD
BEGIN:DAYLIGHT
TZOFFSETFROM:-0600
TZOFFSETTO:-0500
TZNAME:CDT
DTSTART:20260308T080000
END:DAYLIGHT
BEGIN:STANDARD
TZOFFSETFROM:-0500
TZOFFSETTO:-0600
TZNAME:CST
DTSTART:20261101T070000
END:STANDARD
END:VTIMEZONE
BEGIN:VEVENT
DTSTART;TZID=America/Chicago:20250304T183000
DTEND;TZID=America/Chicago:20250304T193000
DTSTAMP:20260424T091652
CREATED:20250221T171804Z
LAST-MODIFIED:20250221T171804Z
UID:6922-1741113000-1741116600@alanon-wi.org
SUMMARY:Al-Anon Open Meeting with AA Participation\, Tuesday\, March 4\, 6:30pm\, Franklin\, In Person
DESCRIPTION:Organized by: Franklin Serenity. \nAl-Anon Speaker: Monica\nAA Speaker: Keith H. \nLocation: Faith Presbyterian Church\, 3800 W. Rawson Ave\, Franklin\, WI 53132 \nJoin us in fellowship after the meeting.
URL:https://alanon-wi.org/event/al-anon-open-meeting-with-aa-participation-tuesday-march-4-630pm-franklin-in-person/
LOCATION:Franklin Serenity – Faith Presbyterian Church\, 3800 W. Rawson Avenue\, Franklin\, Wisconsin\, 53132
END:VEVENT
BEGIN:VEVENT
DTSTART;TZID=America/Chicago:20250307T173000
DTEND;TZID=America/Chicago:20250307T193000
DTSTAMP:20260424T091652
CREATED:20250211T192249Z
LAST-MODIFIED:20250221T181523Z
UID:6866-1741368600-1741375800@alanon-wi.org
SUMMARY:Al-Anon Service Center Open House and Meeting\, Friday\, March 7\, 5:30pm\, West Allis\, In Person
DESCRIPTION:Organized by: Service Center & Board Members \nPlease join us to support and learn about the Service Center \nPotluck Supper: 5:30-6:30 pm ~ Bring a simple dish to share.\nOpen Meeting: 6:30-7:30 pm ~ Al-Anon Speakers: Cheryl A.\, Mike S.\, Judy Th. \nLocation: Summit Place\, 6737 W. Washington St.\, West Allis\, WI\, 54214 \nDownload Flyer Here. \n 
URL:https://alanon-wi.org/event/al-anon-service-center-open-house-and-meeting-friday-march-7-530-730-p-m-in-person/
LOCATION:Al-Anon Local Information Service Center at Summit Place\, 6737 W Washington St\, Suite 2125 (First Floor)\, West Allis\, WI\, 53214
END:VEVENT
BEGIN:VEVENT
DTSTART;TZID=America/Chicago:20250308T093000
DTEND;TZID=America/Chicago:20250308T130000
DTSTAMP:20260424T091652
CREATED:20241229T043314Z
LAST-MODIFIED:20250307T213730Z
UID:6678-1741426200-1741438800@alanon-wi.org
SUMMARY:Lunch on Us - Step/Tradition/Concept Workshop\, Saturday\, March 8\, 9:30am\, Waukesha\, In Person
DESCRIPTION:Sponsored By: District 4 \nEvent Details\nBooklet: Healing Within Our Alcoholic Relationship\nAl-Anon Workshop on the Steps\, Traditions\, Concepts\n2nd Saturday of every month for 2025\, District 4 will be doing a Step\, Tradition\, Concept of the month Workshop. \nRegistration\nRegistration is encouraged to help organizers plan for lunch and a communication tool in case of bad weather or program changes. *** Please note\, this is only registration for the March meeting. A similar sign up will be posted for future meetings.\nPLEASE CLICK FOR REGISTRATION HERE.\n \nWorkshop Timeline\n9:30-10:00 Arrival\n10:00-10:30 Step 3\n10:30-10:45 Break\n10:45-11:15 Tradition 3\n11:15-12:00 Lunch on us\n12:00-12:30 Concept 3\n12:30-1:00 Clean up\nOpen Meeting – All are Welcome \nAdditional Information\nParking lot entrance is on Corporate Dr. Park in the front of the building or right side. Enter the front doors. Stairs or elevator to 2nd Floor. \nClick Here for Flyer \n 
URL:https://alanon-wi.org/event/lunch-on-us-step-tradition-concept-workshop-saturday-march-8/
LOCATION:Citizens Bank Community Room Waukesha\, 2109 Corporate Dr\, Waukesha\, WI\, 53189\, United States
END:VEVENT
BEGIN:VEVENT
DTSTART;TZID=America/Chicago:20250312T190000
DTEND;TZID=America/Chicago:20250312T200000
DTSTAMP:20260424T091653
CREATED:20250305T045922Z
LAST-MODIFIED:20250305T050205Z
UID:6998-1741806000-1741809600@alanon-wi.org
SUMMARY:Dynamic DR Meeting\, Wednesday March 12\, 2025 7pm\, Zoom
DESCRIPTION:Dynamic DR Meeting – Wednesday\, March 12\, 2025 from 7pm-8pm. \nOrganized by: Area 61 DRs \nAl-Anon Speaker: Annemarie A. will be leading the discussion. \nEvent Details: The District Representative role is extremely important. DRs organize the groups of their district. They work with Groups Reps and Area 61 to connect groups to Al-Anon as a whole. Are you wondering what DRs do? Do you want support in your role as a DR? Do you have ESH to share with others? Do you live in a district that currently has no DR? Wow\, this meeting is for you! We welcome all members to join us. \nPlease join us on Zoom\, Meeting ID 87905178916\, Passcode 43592723.
URL:https://alanon-wi.org/event/dynamic-dr-meeting-wednesday-march-12-2025-7pm-zoom/
LOCATION:WI
END:VEVENT
BEGIN:VEVENT
DTSTART;TZID=America/Chicago:20250315T200000
DTEND;TZID=America/Chicago:20250315T210000
DTSTAMP:20260424T091653
CREATED:20250305T051051Z
LAST-MODIFIED:20250305T051051Z
UID:7002-1742068800-1742072400@alanon-wi.org
SUMMARY:AA Open Meeting with Al-Anon Participation\, Saturday March 15\, 2025\, 8pm\, In-Person
DESCRIPTION:AA Open Meeting with Al-Anon Participation\, Saturday March 15th at 8pm \nAl-Anon Speaker: Todd D. \nAA Speaker: Mike C. \nVenue : How To Club 8930 W National Ave\, Milwaukee\, WI 53227
URL:https://alanon-wi.org/event/aa-open-meeting-with-al-anon-participation-saturday-march-15-2025-8pm-in-person/
LOCATION:How to Club\, 8930 W National Ave\, West Allis\, WI\, 53227\, United States
END:VEVENT
BEGIN:VEVENT
DTSTART;TZID=America/Chicago:20250317T183000
DTEND;TZID=America/Chicago:20250317T193000
DTSTAMP:20260424T091653
CREATED:20250309T055709Z
LAST-MODIFIED:20250310T003622Z
UID:7042-1742236200-1742239800@alanon-wi.org
SUMMARY:Al-Anon Open Meeting with AA Participation\, Monday\, March 17\, 6:30pm\, Brookfield\, In-Person
DESCRIPTION:Event Name Al-Anon Open Meeting with AA Participation\, Monday\, March 17\, 6:30pm\, Brookfield\, In-Person \nOrganized by: Brookfield Courage to Change \nAl-Anon Speaker: Diana R. \nAA Speaker: Bill H. \nEvent Details Join us on the 2nd floor. Greeter at the door to welcome you. \nVenue Name: St. John Vianney church\,  1755 N. Calhoun Rd\,  Brookfield\, WI 53005
URL:https://alanon-wi.org/event/al-anon-open-meeting-with-aa-participation-monday-march-17-630pm-brookfield-in-person/
LOCATION:St. John Vianney Church\, 1755 N. Calhoun Rd\, Room 209\, Brookfield\, WI\, 53005\, United States
END:VEVENT
BEGIN:VEVENT
DTSTART;TZID=America/Chicago:20250322T150000
DTEND;TZID=America/Chicago:20250322T163000
DTSTAMP:20260424T091653
CREATED:20250314T204317Z
LAST-MODIFIED:20250314T205005Z
UID:7077-1742655600-1742661000@alanon-wi.org
SUMMARY:AA Open Meeting with Al-Anon Participation\, Saturday\, Mar 22\, 2025\, 3:00-4:30 p.m.\, Hybrid
DESCRIPTION:Wellbrook w/District 34 Participation open Meeting 4th Saturday every month. Rotating AA & Alanon Speakers \nNew Time! 3:00 pm Fellowship; 3:30 pm Speakers \nAl-Anon Speaker: Kelly L \nAA Speaker: Jake L \nPark in front\nBack Entrance\nMeeting in the Basement \nZOOM MEETING ID: 788 125 9940 Passcode: 02468 \nWellbrook Recovery Center\, 13850 W. Capitol Drive\, Brookfield\, WI 53005 \nClick here for flyer
URL:https://alanon-wi.org/event/aa-open-meeting-with-al-anon-participation-saturday-mar-22-2025-300-430-p-m-hybrid/
LOCATION:Wellbrook Recovery\, 13850 W Capitol Dr\, Brookfield\, WI\, 53005
END:VEVENT
BEGIN:VEVENT
DTSTART;TZID=America/Chicago:20250327T190000
DTEND;TZID=America/Chicago:20250327T203000
DTSTAMP:20260424T091653
CREATED:20241222T021252Z
LAST-MODIFIED:20250221T184054Z
UID:6638-1743102000-1743107400@alanon-wi.org
SUMMARY:Al-Anon Intergroup Meeting\, Thursday\, March 27\, 7pm\, West Allis\, Hybrid
DESCRIPTION:Access the Zoom Meeting–\nMeeting ID: 574 020 0987\nPasscode: 2572415 \nNote: All meetings are Hybrid. For those attending in-person\, the usual meeting location is in Room 2135 (First Floor). \nIntergroup Meetings: \nAll registered Al-Anon groups in the southeastern Wisconsin may elect one member to serve as the group’s representative at intergroup meetings for the Al-Anon Service Center. Each representative is called an Information Service Representative (ISR). ISRs attend intergroup meetings every other month to discuss and and vote on matters related to the Al-Anon Service Center. Intergroup generally meets on the 4th Thursday of ODD months at 7:00 pm (although dates may change to avoid conflicts).
URL:https://alanon-wi.org/event/al-anon-intergroup-meeting-thursday-march-27-7pm-hybrid/
LOCATION:Al-Anon Local Information Service Center at Summit Place\, 6737 W Washington St\, Suite 2125 (First Floor)\, West Allis\, WI\, 53214
END:VEVENT
BEGIN:VEVENT
DTSTART;TZID=America/Chicago:20250329T080000
DTEND;TZID=America/Chicago:20250329T200000
DTSTAMP:20260424T091653
CREATED:20250223T231730Z
LAST-MODIFIED:20250225T175220Z
UID:6957-1743235200-1743278400@alanon-wi.org
SUMMARY:AA Open Meeting with Al-Anon Participation Saturday 3/29/25 8:00am-8:00pm
DESCRIPTION:AA Open Meeting with Al-Anon Participation\nSaturday 3/29/25 8:00am-7:00pm\nGurnee\, IL \nSponsored by:  The Power of Fellowship\nAl-Anon Speaker:  main TBA: Annemarie A. on a panel\nAA Speaker: multiple \nEvent Details\nRegistration 08:00 1$ at door (no preregistration needed)\n09:00 AA speaker Dave N.\n09:30 Al-Anon TBA\n10:30 Panels (Al-Anon and Alcathon)      Panels continue throughout the day\nNoon: Chili lunch: 2$\n4:00 Skits\n6:00 Banquet\n7:00 AA speaker Mark C. Kenosha \nVenue Name:  Lakeland Church\nAddress\nStreet Address : 440 N. Hunt Club Road\nCity : Gurnee\nState/Province : IL\nZIP / Postal Code : 60031 \nAdditional Information\nFor banquet: registration and payment needed by 3/15/25\n30$ Check payable to: Tri-County Conference\nInclude your name\, address and which fellowship you belong to.\nMail to:\nJeanne  For further info:\n1510 20th St. tri-countyconference.com\nZion\, IL. 60099\n 
URL:https://alanon-wi.org/event/aa-open-meeting-with-al-anon-participation-saturday-3-29-25-800am-800pm/
LOCATION:WI
END:VEVENT
BEGIN:VEVENT
DTSTART;TZID=America/Chicago:20250330T173000
DTEND;TZID=America/Chicago:20250330T183000
DTSTAMP:20260424T091653
CREATED:20250311T195941Z
LAST-MODIFIED:20250311T211329Z
UID:7046-1743355800-1743359400@alanon-wi.org
SUMMARY:Al-Anon Open Meeting with AA Participation\, Sunday\, March 30\, 2025\, 5:30pm\, In Person
DESCRIPTION:Living in the Solution Al-Anon Open Meeting with AA Participation \nAl-Anon Speaker: Morgan M\nAA Speaker: Todd U \nDewey Lighthouse Building\, 1220 Dewey Ave\, Wauwatosa\, WI 53213
URL:https://alanon-wi.org/event/al-anon-open-meeting-with-aa-participation-sunday-march-30-2025-530pm/
LOCATION:Dewey Center Lighthouse Building\, 1220 Dewey Ave.\, Wauwatosa\, WI\, 53213
END:VEVENT
BEGIN:VEVENT
DTSTART;TZID=America/Chicago:20250330T190000
DTEND;TZID=America/Chicago:20250330T200000
DTSTAMP:20260424T091653
CREATED:20250309T054601Z
LAST-MODIFIED:20250309T054601Z
UID:7039-1743361200-1743364800@alanon-wi.org
SUMMARY:Al-Anon Open Meeting\, Sunday March 30\, 2025 at 7pm in Pewaukee - In Person
DESCRIPTION:Al-Anon Open Meeting\, Pewaukee\, Sunday March 30\, 7pm – In Person \nOrganized by: Pewaukee Serenity Al-Anon Meeting \nAl-Anon Speaker: Pam W. \nAdditional Information: Park in lower parking lot. Use lower parking lot entrance. \nVenue Name: Galilee Lutheran Church N24 W26430 Crestview Drive. Pewaukee\, WI 53072
URL:https://alanon-wi.org/event/al-anon-open-meeting-sunday-march-30-2025-at-7pm-in-pewaukee-in-person/
LOCATION:Galilee Lutheran Church\, N24W26430 Crestview Dr.\, Pewaukee\, WI\, 53072\, United States
END:VEVENT
BEGIN:VEVENT
DTSTART;TZID=America/Chicago:20250331T183000
DTEND;TZID=America/Chicago:20250331T193000
DTSTAMP:20260424T091653
CREATED:20250209T011720Z
LAST-MODIFIED:20250221T184026Z
UID:6854-1743445800-1743449400@alanon-wi.org
SUMMARY:Al-Anon Open Meeting with AA Participation\, Monday\, March 31\, 6:30pm\, Delafield\, In Person
DESCRIPTION:Organized by: Lake Country Let Go and Let God \nAl-Anon Speaker: Sarah P\nAA Speaker: John P \nLocation: Christ the King Lutheran Church\, 1600 N Genesee Street\, Delafield\, WI 53018 \nEnter the doors in the back and proceed down the stairs. \n 
URL:https://alanon-wi.org/event/lake-country-let-go-and-let-god-al-anon-open-meeting-monday-march-31-at-630pm-in-person/
LOCATION:Lake Country Let Go and Let God AFG – Christ the King Lutheran Church\, 1600 N. Genesee St.\, Delafield\, Wisconsin\, 53018
END:VEVENT
BEGIN:VEVENT
DTSTART;TZID=America/Chicago:20250331T183000
DTEND;TZID=America/Chicago:20250331T193000
DTSTAMP:20260424T091653
CREATED:20250323T180546Z
LAST-MODIFIED:20250323T202800Z
UID:7121-1743445800-1743449400@alanon-wi.org
SUMMARY:Al-Anon Open Meeting with AA Participation\, Monday 03/31/25 6:30pm
DESCRIPTION:Al-Anon Open Meeting with AA Participation\, Monday 03/31/25 6:30pm    HYBRID \nOrganized by:  Eastside Monday Night AFG\nDay of the week:   Monday\nEvent Start Date: 03/31/2025\nStart Time:  6:30 PM\nCity:  Shorewood \nAl-Anon Speaker:  Ruth P.\nAA Speaker:  Monica S.\nAlateen Speaker:  Jen S. \nVenue Name:\nNorth Shore Presbyterian Church \nStreet Address : 4048 N. Bartlett\nCity : Shorewood\nState/Province : WI\nZIP / Postal Code : 53211 \nUpload PDF Flyer  Flyer2_March_23_2025
URL:https://alanon-wi.org/event/al-anon-open-meeting-with-aa-participation-monday-03-31-25-630pm/
LOCATION:Northshore Presbyterian Chuch\, 4048 N. Bartlett Ave\, Shorewood\, WI\, 53211\, United States
END:VEVENT
END:VCALENDAR