BEGIN:VCALENDAR
VERSION:2.0
PRODID:-//Al-Anon Family Groups of Southeastern Wisconsin - ECPv6.15.20//NONSGML v1.0//EN
CALSCALE:GREGORIAN
METHOD:PUBLISH
X-ORIGINAL-URL:https://alanon-wi.org
X-WR-CALDESC:Events for Al-Anon Family Groups of Southeastern Wisconsin
REFRESH-INTERVAL;VALUE=DURATION:PT1H
X-Robots-Tag:noindex
X-PUBLISHED-TTL:PT1H
BEGIN:VTIMEZONE
TZID:America/Chicago
BEGIN:DAYLIGHT
TZOFFSETFROM:-0600
TZOFFSETTO:-0500
TZNAME:CDT
DTSTART:20230312T080000
END:DAYLIGHT
BEGIN:STANDARD
TZOFFSETFROM:-0500
TZOFFSETTO:-0600
TZNAME:CST
DTSTART:20231105T070000
END:STANDARD
BEGIN:DAYLIGHT
TZOFFSETFROM:-0600
TZOFFSETTO:-0500
TZNAME:CDT
DTSTART:20240310T080000
END:DAYLIGHT
BEGIN:STANDARD
TZOFFSETFROM:-0500
TZOFFSETTO:-0600
TZNAME:CST
DTSTART:20241103T070000
END:STANDARD
BEGIN:DAYLIGHT
TZOFFSETFROM:-0600
TZOFFSETTO:-0500
TZNAME:CDT
DTSTART:20250309T080000
END:DAYLIGHT
BEGIN:STANDARD
TZOFFSETFROM:-0500
TZOFFSETTO:-0600
TZNAME:CST
DTSTART:20251102T070000
END:STANDARD
END:VTIMEZONE
BEGIN:VEVENT
DTSTART;TZID=America/Chicago:20241201T180000
DTEND;TZID=America/Chicago:20241201T193000
DTSTAMP:20260424T135103
CREATED:20241104T235218Z
LAST-MODIFIED:20241113T041817Z
UID:6323-1733076000-1733081400@alanon-wi.org
SUMMARY:Post Thanksgiving - Annual 94 1/2 Group Open Meeting\, Sunday\, December 1\, 6pm\, In Person
DESCRIPTION:Join us for a post-Thanksgiving evening of fellowship! Listen to invited guest speakers while meeting and socializing with some wonderful people who share experiences\, strength and hope with one another. This meeting is open to the public. \nSunday\, December 1st at 6:00 – 7:30 PM \nAl-Anon Speaker: Kevin \nAA Speaker: Alex \nAll Saint’s Cathedral\, 818 E. Juneau Ave\, Milwaukee\, WI 53202  \nStreet parking available\, Enter Doors on the LEFT when facing the front of the building.  \nFLYER_Dec_1_2024 \nSnacks and refreshments will be provided.  Bring an individually portioned snack if you are so inclined.
URL:https://alanon-wi.org/event/post-thanksgiving-group-94-1-2-open-meeting-sunday-december-1st-6pm-in-person/
LOCATION:Group 94-1/2 – Cathedral Church of All Saints\, 816 E Juneau Avenue\, Milwaukee\, WI\, 53202\, United States
END:VEVENT
BEGIN:VEVENT
DTSTART;TZID=America/Chicago:20241203T183000
DTEND;TZID=America/Chicago:20241203T193000
DTSTAMP:20260424T135103
CREATED:20241115T175436Z
LAST-MODIFIED:20241115T175436Z
UID:6525-1733250600-1733254200@alanon-wi.org
SUMMARY:Al-Anon Open Meeting with AA Participation\, Tuesday\, December 3\, 6:30pm\, In Person
DESCRIPTION:Al-Anon Speaker: Sid\nAA Speaker: Steve W \nSponsored by: Franklin Serenity. \nFaith Presbyterian Church\, 3800 W. Rawson Ave\, Franklin\, WI 53132 \nJoin us in fellowship after the meeting. \nDownload Flyer
URL:https://alanon-wi.org/event/al-anon-open-meeting-with-aa-participation-tuesday-december-3-630pm-in-person/
LOCATION:Franklin Serenity – Faith Presbyterian Church\, 3800 W. Rawson Avenue\, Franklin\, Wisconsin\, 53132
END:VEVENT
BEGIN:VEVENT
DTSTART;TZID=America/Chicago:20241205T183000
DTEND;TZID=America/Chicago:20241205T193000
DTSTAMP:20260424T135103
CREATED:20241115T172004Z
LAST-MODIFIED:20241203T202642Z
UID:6523-1733423400-1733427000@alanon-wi.org
SUMMARY:Al-Anon Open Meeting with AA Participation\, Thursday\, December 5\, 6:30pm\, In Person
DESCRIPTION:Al-Anon Speaker: Joanie S.\nAA Speaker: Ryan V. \nSponsored by: Twelve Steppers\, Brookfield \nSt. John’s Lutheran Church\, 20275 Davidson Rd\, Brookfield\, WI 53045
URL:https://alanon-wi.org/event/al-anon-open-meeting-with-aa-participation-thursday-december-5-630pm-in-person/
LOCATION:Twelve Steppers – St. John’s Lutheran Church\, 20275 Davidson Rd.\, Brookfield\, Wisconsin\, 53045
END:VEVENT
BEGIN:VEVENT
DTSTART;TZID=America/Chicago:20241207T183000
DTEND;TZID=America/Chicago:20241207T200000
DTSTAMP:20260424T135103
CREATED:20241115T170912Z
LAST-MODIFIED:20241115T170912Z
UID:6520-1733596200-1733601600@alanon-wi.org
SUMMARY:District 12 Monthly Open Meeting\, Saturday\, December 7\, 6:30pm\, Hybrid
DESCRIPTION:6:30pm Fellowship and 7pm Open Meeting\nAl-Anon Speaker: Christi F. Menomonee Falls\, WI\nAA Speaker: Bruce L. Richfield\, WI \nLiving Word Lutheran Church\, 2240 Living Word Lane\, Jackson\, WI 53037\n(Parking and entrance in the rear of the church) \nHosted by: The Living Sober Group\, Germantown\, WI \nA snack or dish to pass is appreciated. \nDownload Flyer
URL:https://alanon-wi.org/event/district-12-monthly-open-meeting-saturday-december-7-630pm-hybrid/
LOCATION:Living Word Lutheran Church\, 2240 Living Word Lane\, Jackson\, WI\, 53037\, United States
END:VEVENT
BEGIN:VEVENT
DTSTART;TZID=America/Chicago:20241216T181500
DTEND;TZID=America/Chicago:20241216T203000
DTSTAMP:20260424T135103
CREATED:20241119T222714Z
LAST-MODIFIED:20241119T222714Z
UID:6532-1734372900-1734381000@alanon-wi.org
SUMMARY:Slinger Monday Night December Open Meeting\, Monday\, December 16\, 6:15pm
DESCRIPTION:Al-Anon and AA Open Meeting \nDoors Open 6:15 p.m. \nLite Supper is served at 6:30pm\, Speakers 7:15pm \nAA Speaker: Annette D. \nAl-Anon Speaker: Barb M. \nFLYER_DEC_16_2024
URL:https://alanon-wi.org/event/slinger-monday-night-december-open-meeting-monday-december-16-615pm/
LOCATION:Slinger – St. Luke Lutheran Church\, 4860 Arthur Rd.\, Slinger\, WI\, 53086\, United States
END:VEVENT
BEGIN:VEVENT
DTSTART;TZID=America/Chicago:20241222T180000
DTEND;TZID=America/Chicago:20241222T203000
DTSTAMP:20260424T135103
CREATED:20241212T014207Z
LAST-MODIFIED:20241217T030750Z
UID:6596-1734890400-1734899400@alanon-wi.org
SUMMARY:Open Candle Light Meeting\, Sunday\, December 22\, 6pm\, In Person.
DESCRIPTION:Al-Anon: Mukwonago Sunday Survivors and Mukwonago AA New Beginnings Group                                                    Open Candle Light Meeting \nSunday\, December 22\, 2024\nDoors open at 6pm. Pot Luck Dinner from 6:30-7:30pm. Candle Light Meeting to follow.\nVernon Lutheran Church –  S90W27550 National Ave\, Mukwonago\nPlease bring a dish to pass. Coffee\, Water\, Soft drinks will be served\nP.S. Bring along a friend or family member\nNote: Mukwonago Sunday Survivors will still have a Zoom meeting at their usual time.
URL:https://alanon-wi.org/event/open-candle-light-meeting-sunday-december-22nd-6pm-in-person/
LOCATION:Vernon Evangelical Lutheran Church\, S90W27550 National Ave\, Mukwonago\, WI\, 53149
END:VEVENT
BEGIN:VEVENT
DTSTART;TZID=America/Chicago:20241226T183000
DTEND;TZID=America/Chicago:20241226T200000
DTSTAMP:20260424T135103
CREATED:20231120T185215Z
LAST-MODIFIED:20240903T043239Z
UID:5457-1735237800-1735243200@alanon-wi.org
SUMMARY:Al-Anon Service Board Meeting\, Thursday\, December 26\, 6:30pm
DESCRIPTION:
URL:https://alanon-wi.org/event/al-anon-service-board-meeting-thursday-december-26-630pm/
LOCATION:WI
END:VEVENT
BEGIN:VEVENT
DTSTART;TZID=America/Chicago:20241229T173000
DTEND;TZID=America/Chicago:20241229T183000
DTSTAMP:20260424T135103
CREATED:20241212T022107Z
LAST-MODIFIED:20241212T022107Z
UID:6607-1735493400-1735497000@alanon-wi.org
SUMMARY:Al-Anon Open Meeting with AA Participation\, Sunday December 29 at 5:30pm\, In Person
DESCRIPTION:Living In The Solution Open meeting with AA Participation\nSunday\, December 29th at 5:30 PM – Wauwatosa\n\n\n\n\n\n\n\nAl-Anon Speaker: Monica C.\n\n\nAA Speaker: Rob M.\n\n\n\n\n\nDewey Center – Lighthouse Building \n\n\n\n\n\n1220 Dewey Ave. Wauwatosa
URL:https://alanon-wi.org/event/al-anon-open-meeting-with-aa-participation-sunday-december-29-at-530pm-in-person/
LOCATION:Dewey Center Lighthouse Building\, 1220 Dewey Ave.\, Wauwatosa\, WI\, 53213
END:VEVENT
BEGIN:VEVENT
DTSTART;TZID=America/Chicago:20241230T183000
DTEND;TZID=America/Chicago:20241230T193000
DTSTAMP:20260424T135103
CREATED:20241216T222850Z
LAST-MODIFIED:20241216T222850Z
UID:6616-1735583400-1735587000@alanon-wi.org
SUMMARY:Al-Anon Open Meeting with AA Participation\, Monday\, December 30\, 6:30pm\, In Person
DESCRIPTION:Organized By: Lake Country Let Go and Let God AFG\, Delafield\nAl-Anon Speaker: Rebecca A.\nAA Speaker: Rachell T.\nOpen meeting with AA & Al Anon speakers at Christ the King Church\, 1600 N Genesee Street\, Delafield\, WI 53018
URL:https://alanon-wi.org/event/al-anon-open-meeting-with-aa-participation-monday-december-30-630pm-in-person/
LOCATION:Lake Country Let Go and Let God AFG – Christ the King Lutheran Church\, 1600 N. Genesee St.\, Delafield\, Wisconsin\, 53018
END:VEVENT
BEGIN:VEVENT
DTSTART;TZID=America/Chicago:20241230T183000
DTEND;TZID=America/Chicago:20241230T193000
DTSTAMP:20260424T135103
CREATED:20241217T030317Z
LAST-MODIFIED:20241217T030317Z
UID:6622-1735583400-1735587000@alanon-wi.org
SUMMARY:Al-Anon Open Meeting with AA Participation\, Monday\, December 30\, 6:30pm\, Hybrid
DESCRIPTION:Organized By: Eastside Monday Night AFG\, Shorewood \nAl-Anon Speaker: Cindy P.\nAA Speaker: TBA \nJoin us on New Year’s Eve-Eve (Dec 30) for an Open Meeting\, great fellowship and treats at Northshore Presbyterian Church (The Parlor)\, 4048 N Bartlett Ave\, Shorewood \nIn person and on Zoom:\nMeeting ID: 821 6375 0224\nPasscode: 193800 \nDownload Flyer HERE
URL:https://alanon-wi.org/event/al-anon-open-meeting-with-aa-participation-monday-december-30-630pm-hybrid/
LOCATION:Eastside Monday Night – North Shore Presbyterian Church\, 4048 N. Bartlett Ave.\, Shorewood\, WI\, 53211\, United States
END:VEVENT
BEGIN:VEVENT
DTSTART;TZID=America/Chicago:20241231T183000
DTEND;TZID=America/Chicago:20241231T193000
DTSTAMP:20260424T135103
CREATED:20241212T014332Z
LAST-MODIFIED:20241212T014332Z
UID:6588-1735669800-1735673400@alanon-wi.org
SUMMARY:Northwoods Serenity Open Meeting Tuesday December 31\, 2024 6:30pm\, Zoom
DESCRIPTION:Al-Anon Panel \nNew Year’s Eve Topic: “Expectations “ (of ourselves and others) \nPlease join our guest panelists Pam M.\, Sandy W.\, Angela B.\nand TBA as they share their experience\, strength and hope as we prepare for working our programs in 2025! \nZoom ID: 827 0241 8617  Password NWAFG \nSupport of Al-Anon in Northwoods Wisconsin is much appreciated. \nDownload FLYER \n  \n 
URL:https://alanon-wi.org/event/northwoods-serenity-open-meeting-tuesday-december-31-2024-630pm-zoom/
LOCATION:WI
END:VEVENT
END:VCALENDAR