BEGIN:VCALENDAR
VERSION:2.0
PRODID:-//Al-Anon Family Groups of Southeastern Wisconsin - ECPv6.15.20//NONSGML v1.0//EN
CALSCALE:GREGORIAN
METHOD:PUBLISH
X-WR-CALNAME:Al-Anon Family Groups of Southeastern Wisconsin
X-ORIGINAL-URL:https://alanon-wi.org
X-WR-CALDESC:Events for Al-Anon Family Groups of Southeastern Wisconsin
REFRESH-INTERVAL;VALUE=DURATION:PT1H
X-Robots-Tag:noindex
X-PUBLISHED-TTL:PT1H
BEGIN:VTIMEZONE
TZID:America/Chicago
BEGIN:DAYLIGHT
TZOFFSETFROM:-0600
TZOFFSETTO:-0500
TZNAME:CDT
DTSTART:20230312T080000
END:DAYLIGHT
BEGIN:STANDARD
TZOFFSETFROM:-0500
TZOFFSETTO:-0600
TZNAME:CST
DTSTART:20231105T070000
END:STANDARD
BEGIN:DAYLIGHT
TZOFFSETFROM:-0600
TZOFFSETTO:-0500
TZNAME:CDT
DTSTART:20240310T080000
END:DAYLIGHT
BEGIN:STANDARD
TZOFFSETFROM:-0500
TZOFFSETTO:-0600
TZNAME:CST
DTSTART:20241103T070000
END:STANDARD
BEGIN:DAYLIGHT
TZOFFSETFROM:-0600
TZOFFSETTO:-0500
TZNAME:CDT
DTSTART:20250309T080000
END:DAYLIGHT
BEGIN:STANDARD
TZOFFSETFROM:-0500
TZOFFSETTO:-0600
TZNAME:CST
DTSTART:20251102T070000
END:STANDARD
END:VTIMEZONE
BEGIN:VEVENT
DTSTART;TZID=America/Chicago:20241102T183000
DTEND;TZID=America/Chicago:20241102T200000
DTSTAMP:20260424T152856
CREATED:20241004T021802Z
LAST-MODIFIED:20241005T011345Z
UID:6250-1730572200-1730577600@alanon-wi.org
SUMMARY:District 12 Open meeting\, Saturday\, November 2\, In-Person and Zoom
DESCRIPTION:District 12 AA Monthly AA open meeting with Al-anon. \nHosted by: The Simply Sober Group \n2240 Living word Lane\, Jackson\, WI Parking in entrance in rear of church. \nZoom: Dial 1-646-558-8656. Meeting ID 859 6450 8345. Password 202425. Participant ID #0 \n6:30 Fellowship\, A snack or dish to pass is appreciated. \n7pm Open Meeting. \nAl-Anon speaker: Judy T. Sussex\, WI. \nAA speaker: Terry H. West Bend\, WI. \nQuestions\, call or text 262.389.4159. \nFLYER_Nov_2_2024_District_12
URL:https://alanon-wi.org/event/district-12-open-meeting-saturday-november-2-in-person-and-zoom-2/
LOCATION:Living Word Lutheran Church\, 2240 Living Word Lane\, Jackson\, WI\, 53037\, United States
END:VEVENT
BEGIN:VEVENT
DTSTART;TZID=America/Chicago:20241109T083000
DTEND;TZID=America/Chicago:20241109T150000
DTSTAMP:20260424T152856
CREATED:20241011T011613Z
LAST-MODIFIED:20241011T011933Z
UID:6272-1731141000-1731164400@alanon-wi.org
SUMMARY:Al-Anon District 21 Annual Workshop\, Saturday\, Nov 9\, 8:30am\, In-Person
DESCRIPTION:Carrying the Message \n10:30am – AA Speaker: Al S.\, Kenosha\, WI \n2:00pm – Al-Anon Speaker: Jeri V\, Milwaukee\, WI \n\nPanels\nBasket Raffles\nPotluck Lunch\nSuggested Donation $6\n\nFLYER_NOV_09_2024
URL:https://alanon-wi.org/event/al-anon-district-21-annual-workshop-saturday-nov-9-830am-in-person/
LOCATION:Kenosha Alano Club\, 630 56th Street\, Kenosha\, WI\, 53140\, United States
END:VEVENT
BEGIN:VEVENT
DTSTART;TZID=America/Chicago:20241116T173000
DTEND;TZID=America/Chicago:20241116T200000
DTSTAMP:20260424T152856
CREATED:20241113T041448Z
LAST-MODIFIED:20241113T041612Z
UID:6342-1731778200-1731787200@alanon-wi.org
SUMMARY:Pass It On Club 29th Anniversary Dinner and Open Meeting\, Saturday\, November 16\, 5:30pm\, In Person
DESCRIPTION:Dinner begins at 5:30pm; Dinner cost is $15\nOpen Speaker Meeting begins at 7pm\nAl-Anon Speaker: Katie S.\nAA Speaker: Linely H. \nPass It On Club\n6229 W Forest Home Ave\nMilwaukee\, WI 53220
URL:https://alanon-wi.org/event/pass-it-on-club-29th-anniversary-dinner-and-open-meeting-saturday-november-16-530pm-in-person/
LOCATION:Pass It On Club\, 6229 W. Forest Home Ave.\, Milwaukee\, WI\, 53220\, United States
END:VEVENT
BEGIN:VEVENT
DTSTART;TZID=America/Chicago:20241121T190000
DTEND;TZID=America/Chicago:20241121T203000
DTSTAMP:20260424T152856
CREATED:20231120T184053Z
LAST-MODIFIED:20231120T184053Z
UID:5446-1732215600-1732221000@alanon-wi.org
SUMMARY:Al-Anon Intergroup Meeting\, Thursday\, November 21\, 7pm\, Hybrid
DESCRIPTION:*** THIS MEETING IS THE 3rd THURSDAY\, DUE TO THANKSGIVING *** \nAccess the Zoom Meeting–\nMeeting ID: 574 020 0987\nPasscode: 2572415 \nNote: All meetings are Hybrid. For those attending in-person\, the usual meeting location is in Room 2135 (First Floor).
URL:https://alanon-wi.org/event/al-anon-intergroup-meeting-thursday-november-21-7pm-hybrid/
LOCATION:Al-Anon Local Information Service Center at Summit Place\, 6737 W Washington St\, Suite 2125 (First Floor)\, West Allis\, WI\, 53214
END:VEVENT
BEGIN:VEVENT
DTSTART;TZID=America/Chicago:20241123T163000
DTEND;TZID=America/Chicago:20241123T180000
DTSTAMP:20260424T152856
CREATED:20241118T230726Z
LAST-MODIFIED:20241118T230726Z
UID:6528-1732379400-1732384800@alanon-wi.org
SUMMARY:AA Open Meeting with Al-Anon Participation\, Saturday\, November 23\, 4:30pm\, Hybrid
DESCRIPTION:This Open Meeting is at Wellbrook Recovery and on Zoom\,\nwith District 34 participation.\nAl-Anon Speaker: Sheri\nAA Speaker: John B.\nFellowship at 4:30pm and Speakers at 5pm. Use the Back Entrance; Meeting Room in Basement is handicapped accessible. \nZoom Meeting ID: 910 2258 3983\nPasscoade: WBSaturday \nWellbrook Recovery\n13850 W. Capitol Drive\nBrookfield\, WI 53005\nParking is behind the building. \nDownload Flyer
URL:https://alanon-wi.org/event/aa-open-meeting-with-al-anon-participation-saturday-november-23-430pm-hybrid/
LOCATION:Wellbrook Recovery\, 13850 W Capitol Dr\, Brookfield\, WI\, 53005
END:VEVENT
END:VCALENDAR