BEGIN:VCALENDAR
VERSION:2.0
PRODID:-//Al-Anon Family Groups of Southeastern Wisconsin - ECPv6.15.20//NONSGML v1.0//EN
CALSCALE:GREGORIAN
METHOD:PUBLISH
X-WR-CALNAME:Al-Anon Family Groups of Southeastern Wisconsin
X-ORIGINAL-URL:https://alanon-wi.org
X-WR-CALDESC:Events for Al-Anon Family Groups of Southeastern Wisconsin
REFRESH-INTERVAL;VALUE=DURATION:PT1H
X-Robots-Tag:noindex
X-PUBLISHED-TTL:PT1H
BEGIN:VTIMEZONE
TZID:America/Chicago
BEGIN:DAYLIGHT
TZOFFSETFROM:-0600
TZOFFSETTO:-0500
TZNAME:CDT
DTSTART:20230312T080000
END:DAYLIGHT
BEGIN:STANDARD
TZOFFSETFROM:-0500
TZOFFSETTO:-0600
TZNAME:CST
DTSTART:20231105T070000
END:STANDARD
BEGIN:DAYLIGHT
TZOFFSETFROM:-0600
TZOFFSETTO:-0500
TZNAME:CDT
DTSTART:20240310T080000
END:DAYLIGHT
BEGIN:STANDARD
TZOFFSETFROM:-0500
TZOFFSETTO:-0600
TZNAME:CST
DTSTART:20241103T070000
END:STANDARD
BEGIN:DAYLIGHT
TZOFFSETFROM:-0600
TZOFFSETTO:-0500
TZNAME:CDT
DTSTART:20250309T080000
END:DAYLIGHT
BEGIN:STANDARD
TZOFFSETFROM:-0500
TZOFFSETTO:-0600
TZNAME:CST
DTSTART:20251102T070000
END:STANDARD
END:VTIMEZONE
BEGIN:VEVENT
DTSTART;TZID=America/Chicago:20241003T183000
DTEND;TZID=America/Chicago:20241003T193000
DTSTAMP:20260424T165516
CREATED:20240920T193259Z
LAST-MODIFIED:20240928T171642Z
UID:6210-1727980200-1727983800@alanon-wi.org
SUMMARY:Al-Anon Open Meeting Thursday October 3\, 6:30pm  In Person
DESCRIPTION:Meeting Hosted By:   Twelve Steppers – Thursday at 6:30pm – Brookfield \nAl-Anon Speaker:   Lindsey K.\nAA Speaker:   Veronica \nAl-Anon Open Meeting with AA Participation \nAdditional Information:   Park in main lot off of Davidson Rd. Use north entrance. Main room immediately off to the right. \n Download Flyer \n  \n  \n  \n  \n 
URL:https://alanon-wi.org/event/al-anon-open-meeting-thursday-october-3-630pm-in-person/
LOCATION:Twelve Steppers – St. John’s Lutheran Church\, 20275 Davidson Rd.\, Brookfield\, Wisconsin\, 53045
END:VEVENT
BEGIN:VEVENT
DTSTART;TZID=America/Chicago:20241005T183000
DTEND;TZID=America/Chicago:20241005T200000
DTSTAMP:20260424T165516
CREATED:20240504T034215Z
LAST-MODIFIED:20240504T034215Z
UID:5879-1728153000-1728158400@alanon-wi.org
SUMMARY:District 12 Open meeting\, Saturday\, October 5\, In-Person and Zoom
DESCRIPTION:District 12 Monthly open meeting Hosted by:  Sunday Sisterhood Group \nSaturday\, October 5th\, 6:30 Fellowship\, A snack or dish to pass is appreciated. \n7pm Open Meeting. 2240 Living word Lane\, Jackson\, WI Parking in entrance in rear of church. \nZoom: Dial 1-646-558-8656. Meeting ID 859 6540 8345. Password 202425. Participant ID #0 \nAl-Anon speaker: TBA \nAA Speaker: TBA
URL:https://alanon-wi.org/event/district-12-open-meeting-saturday-october-5-in-person-and-zoom/
LOCATION:Living Word Lutheran Church\, 2240 Living Word Lane\, Jackson\, WI\, 53037\, United States
END:VEVENT
BEGIN:VEVENT
DTSTART;TZID=America/Chicago:20241020T180000
DTEND;TZID=America/Chicago:20241020T200000
DTSTAMP:20260424T165516
CREATED:20240924T215504Z
LAST-MODIFIED:20240926T220331Z
UID:6216-1729447200-1729454400@alanon-wi.org
SUMMARY:Al-Anon Anniversary Pot Luck and Open Meeting with AA Participation\, Sunday\, October 20\, 6pm\, In-Person
DESCRIPTION:The pot luck and open meeting is sponsored by Pewaukee Serenity AFG and held at Galilee Lutheran Church. Supper is at 6pm and meeting is at 7pm.\nAl-Anon Speaker: Amy T.\nAA Speaker: Steve W. \nParking is located behind Galilee Lutheran Church\, with the entrance off of the lot.
URL:https://alanon-wi.org/event/al-anon-anniversary-pot-luck-and-open-meeting-with-aa-participation-sunday-october-20-6pm-in-person/
LOCATION:Galilee Lutheran Church\, N24W26430 Crestview Dr.\, Pewaukee\, WI\, 53072\, United States
END:VEVENT
BEGIN:VEVENT
DTSTART;TZID=America/Chicago:20241024T183000
DTEND;TZID=America/Chicago:20241024T200000
DTSTAMP:20260424T165516
CREATED:20231120T185039Z
LAST-MODIFIED:20240903T043114Z
UID:5455-1729794600-1729800000@alanon-wi.org
SUMMARY:Al-Anon Service Board Meeting\, Thursday\, October 24\, 6:30pm
DESCRIPTION:
URL:https://alanon-wi.org/event/al-anon-service-board-meeting-thursday-october-24-630pm/
LOCATION:WI
END:VEVENT
BEGIN:VEVENT
DTSTART;TZID=America/Chicago:20241025T140000
DTEND;TZID=America/Chicago:20241027T110000
DTSTAMP:20260424T165516
CREATED:20240812T183433Z
LAST-MODIFIED:20240812T215344Z
UID:5928-1729864800-1730026800@alanon-wi.org
SUMMARY:Area 61 AFG Convention\, Friday\, Oct 25 - Sunday\, Oct 27\, In-Person
DESCRIPTION:Al-Anon Open Meeting with AA Participation \nAl-Anon Speaker: Dee K\, Tom C\, Joanna F\nAA Speaker: Chris K\, Chuck K-S\nAlateen Speaker: Shae S \nEvent Details\nAll details can be found on the convention website: http://convention.area61afg.org/ \nClick Here for Flyer & Convention Registration Form \nFLYERAUG122024 \n 
URL:https://alanon-wi.org/event/area-61-afg-convention-friday-oct-25-sunday-oct-27-in-person/
LOCATION:Chula Vista Resort & Waterpark\, 1000 Chula Vista Pkwy\, Wisconsin Dells\, Wisconsin\, 53965
ORGANIZER;CN="Area 61":MAILTO:conventionregistration@area61afg.org
END:VEVENT
BEGIN:VEVENT
DTSTART;TZID=America/Chicago:20241026T163000
DTEND;TZID=America/Chicago:20241026T180000
DTSTAMP:20260424T165516
CREATED:20241016T223149Z
LAST-MODIFIED:20241016T223149Z
UID:6300-1729960200-1729965600@alanon-wi.org
SUMMARY:AA Open Meeting with Al-Anon Participation\, Saturday\, October 26\, 4:30pm\, Hybrid
DESCRIPTION:Sponsored by Wellbrook Recovery with District 34 participation \nAA Speaker: Colleen S.\nAl-Anon Speaker: Mike S. \nFellowship-4:30pm; Speakers-5pm \nWellbrook Recovery\, 13850 W Capitol Dr\, Brookfield\, WI 53005\nUse the back entrance. The meeting room is located in the basement and is handicapped accessible. \nZoom Information:\nMeeting ID: 910 2258 3983\nPasscode: WBSaturday \nDownload flyer HERE.
URL:https://alanon-wi.org/event/aa-open-meeting-with-al-anon-participation-saturday-october-26-430pm-hybrid/
LOCATION:Wellbrook Recovery\, 13850 W Capitol Dr\, Brookfield\, WI\, 53005
END:VEVENT
BEGIN:VEVENT
DTSTART;TZID=America/Chicago:20241027T163000
DTEND;TZID=America/Chicago:20241027T183000
DTSTAMP:20260424T165516
CREATED:20241009T214027Z
LAST-MODIFIED:20241009T235128Z
UID:6261-1730046600-1730053800@alanon-wi.org
SUMMARY:Living in the Solution Anniversary Open Meeting\, Sunday\, Oct 27\, 4:30pm\, In-Person
DESCRIPTION:Al-Anon Open Meeting with AA Participation \nAl-Anon Speaker: Sarah J. \nAA Speaker: Jeff J. \nEvent Details\nPotluck and Fellowship @ 4:30\nSpeakers from 5:30 – 6:30
URL:https://alanon-wi.org/event/living-in-the-solution-anniversary-open-meeting-sunday-oct-27-430pm-in-person/
LOCATION:Dewey Center Lighthouse Building\, 1220 Dewey Ave.\, Wauwatosa\, WI\, 53213
END:VEVENT
BEGIN:VEVENT
DTSTART;TZID=America/Chicago:20241030T174500
DTEND;TZID=America/Chicago:20241030T200000
DTSTAMP:20260424T165516
CREATED:20241008T194810Z
LAST-MODIFIED:20241008T194839Z
UID:6255-1730310300-1730318400@alanon-wi.org
SUMMARY:Waukesha 12 & 12 Anniversary Potluck\, Weds\, Oct 30\, 5:45pm
DESCRIPTION:Al-Anon Open Meeting with AA Participation \nAl-Anon Speaker: Angie R.M. \nAA Speaker: Niki D. \nEvent Details\nPotluck starts at 5:45 pm\nMeeting at 7:00 pm-8:00 pm \nFLYER_OCT_30_2024
URL:https://alanon-wi.org/event/waukesha-12-12-anniversary-potluck-weds-oct-30-545pm/
LOCATION:Waukesha Twelve and Twelve – New Vision Church\, N14W27995 Silvernail Rd\, Pewaukee\, Wisconsin\, 53072
END:VEVENT
BEGIN:VEVENT
DTSTART;TZID=America/Chicago:20241030T190000
DTEND;TZID=America/Chicago:20241030T200000
DTSTAMP:20260424T165516
CREATED:20241013T211713Z
LAST-MODIFIED:20241013T211713Z
UID:6276-1730314800-1730318400@alanon-wi.org
SUMMARY:Al-Anon Open Meeting with AA Participation\, Wednesday\, October 30\, 7pm\, Zoom
DESCRIPTION:Sponsored by Just 4 Today Wednesday AFG.\nAA Speaker: Dawn B\, Omaha\, Nebraska\nAl-Anon Speaker: Robyn W\, Cincinnati\, Ohio\nMeeting by Zoom only.\nMeeting ID: 845 0322 7889\nPlease email just42daywednesday1@gmail.com for the Zoom password. \nDownload flyer HERE.
URL:https://alanon-wi.org/event/al-anon-open-meeting-with-aa-participation-wednesday-october-30-7pm-zoom/
LOCATION:WI
END:VEVENT
BEGIN:VEVENT
DTSTART;TZID=America/Chicago:20241031T120000
DTEND;TZID=America/Chicago:20241031T130000
DTSTAMP:20260424T165516
CREATED:20241009T223223Z
LAST-MODIFIED:20241009T223223Z
UID:6264-1730376000-1730379600@alanon-wi.org
SUMMARY:Al-Anon Open Meeting with AA Participation\, Thursday\, October 31\, 12pm\, In-Person
DESCRIPTION:Open Meeting Hosted by 12 at 12 AFG\nPlease join us as\nBill P: AA speaker\nFe P: Al-Anon speaker\nshare their experience\, strength and hope. \nDownload Flyer \nSummit Place\, 6737 W Washington St\, West Allis\, WI 53214\n(Room 2143\, aka “Glass Patio” – on the first floor\, past the cafeteria) \n 
URL:https://alanon-wi.org/event/al-anon-open-meeting-with-aa-participation-thursday-october-31-12pm-in-person/
LOCATION:12 at 12 AFG – Summit Place\, 6737 W Washington St\, West Allis\, WI\, 53214
END:VEVENT
END:VCALENDAR