BEGIN:VCALENDAR
VERSION:2.0
PRODID:-//Al-Anon Family Groups of Southeastern Wisconsin - ECPv6.15.20//NONSGML v1.0//EN
CALSCALE:GREGORIAN
METHOD:PUBLISH
X-WR-CALNAME:Al-Anon Family Groups of Southeastern Wisconsin
X-ORIGINAL-URL:https://alanon-wi.org
X-WR-CALDESC:Events for Al-Anon Family Groups of Southeastern Wisconsin
REFRESH-INTERVAL;VALUE=DURATION:PT1H
X-Robots-Tag:noindex
X-PUBLISHED-TTL:PT1H
BEGIN:VTIMEZONE
TZID:America/Chicago
BEGIN:DAYLIGHT
TZOFFSETFROM:-0600
TZOFFSETTO:-0500
TZNAME:CDT
DTSTART:20230312T080000
END:DAYLIGHT
BEGIN:STANDARD
TZOFFSETFROM:-0500
TZOFFSETTO:-0600
TZNAME:CST
DTSTART:20231105T070000
END:STANDARD
BEGIN:DAYLIGHT
TZOFFSETFROM:-0600
TZOFFSETTO:-0500
TZNAME:CDT
DTSTART:20240310T080000
END:DAYLIGHT
BEGIN:STANDARD
TZOFFSETFROM:-0500
TZOFFSETTO:-0600
TZNAME:CST
DTSTART:20241103T070000
END:STANDARD
BEGIN:DAYLIGHT
TZOFFSETFROM:-0600
TZOFFSETTO:-0500
TZNAME:CDT
DTSTART:20250309T080000
END:DAYLIGHT
BEGIN:STANDARD
TZOFFSETFROM:-0500
TZOFFSETTO:-0600
TZNAME:CST
DTSTART:20251102T070000
END:STANDARD
END:VTIMEZONE
BEGIN:VEVENT
DTSTART;TZID=America/Chicago:20240903T183000
DTEND;TZID=America/Chicago:20240903T193000
DTSTAMP:20260424T181653
CREATED:20240815T222740Z
LAST-MODIFIED:20240815T222740Z
UID:6149-1725388200-1725391800@alanon-wi.org
SUMMARY:Al-Anon Open Meeting with AA Participation\, Tuesday\, September 3\, 6:30pm\, In-Person
DESCRIPTION:Sponsored by Franklin Serenity (Tuesday Night AFG) at Faith Presbyterian Church \nAl-Anon Speaker: Anna G.\nAA Speaker: Jim D. \nJoin us in fellowship after the meeting. \nFLYER_SEP_03_2024.pdf
URL:https://alanon-wi.org/event/al-anon-open-meeting-with-aa-participation-tuesday-september-3-630pm-in-person/
LOCATION:Franklin Serenity – Faith Presbyterian Church\, 3800 W. Rawson Avenue\, Franklin\, Wisconsin\, 53132
END:VEVENT
BEGIN:VEVENT
DTSTART;TZID=America/Chicago:20240916T183000
DTEND;TZID=America/Chicago:20240916T203000
DTSTAMP:20260424T181653
CREATED:20240823T034755Z
LAST-MODIFIED:20240902T193514Z
UID:6169-1726511400-1726518600@alanon-wi.org
SUMMARY:Brookfield Courage to Change Open Meeting\, Monday\, September 16\, 6:30pm
DESCRIPTION:Al-Anon Open Meeting with AA Participation \nSponsored By: Brookfield Courage To Change – Monday at 6:30 PM \nAl-Anon Speaker: Jenny S \nAA Speaker: Dick S
URL:https://alanon-wi.org/event/brookfield-courage-to-change-open-meeting-monday-sep-16-630pm/
LOCATION:St. John Vianney Church\, 1755 N. Calhoun Rd\, Room 209\, Brookfield\, WI\, 53005\, United States
END:VEVENT
BEGIN:VEVENT
DTSTART;TZID=America/Chicago:20240921T043000
DTEND;TZID=America/Chicago:20240921T193000
DTSTAMP:20260424T181653
CREATED:20240716T184411Z
LAST-MODIFIED:20240729T225600Z
UID:6074-1726893000-1726947000@alanon-wi.org
SUMMARY:Primary Purpose Waukesha Annual Dinner\, Saturday\, Sept. 21\, 4:30pm
DESCRIPTION:Al-Anon Open Meeting \nSocial: 4:30pm \nDinner: 5:00pm \nSpeakers: 6:30pm \n(Al-Anon) Angela S.\, Cottage Grove\, WI \nJoe C.\, San Diego\, CA \nTickets: 10:00 \nFLYER_SEP_21_2024
URL:https://alanon-wi.org/event/primary-purpose-waukesha-annual-dinner-saturday-sep-21-430pm/
LOCATION:Elk’s Lodge – Waukesha\, 2301 Springdale Road\, Waukesha\, WI\, 53186\, United States
END:VEVENT
BEGIN:VEVENT
DTSTART;TZID=America/Chicago:20240926T190000
DTEND;TZID=America/Chicago:20240926T203000
DTSTAMP:20260424T181653
CREATED:20231120T183603Z
LAST-MODIFIED:20231120T183603Z
UID:5444-1727377200-1727382600@alanon-wi.org
SUMMARY:Al-Anon Intergroup Meeting\, Thursday\, September 26\, 7pm\, Hybrid
DESCRIPTION:Access the Zoom Meeting–\nMeeting ID: 574 020 0987\nPasscode: 2572415 \nNote: All meetings are Hybrid. For those attending in-person\, the usual meeting location is in Room 2135 (First Floor).
URL:https://alanon-wi.org/event/al-anon-intergroup-meeting-thursday-september-26-7pm-hybrid/
LOCATION:Al-Anon Local Information Service Center at Summit Place\, 6737 W Washington St\, Suite 2125 (First Floor)\, West Allis\, WI\, 53214
END:VEVENT
BEGIN:VEVENT
DTSTART;TZID=America/Chicago:20240928T163000
DTEND;TZID=America/Chicago:20240928T180000
DTSTAMP:20260424T181653
CREATED:20240926T014655Z
LAST-MODIFIED:20240926T014859Z
UID:6224-1727541000-1727546400@alanon-wi.org
SUMMARY:AA Open Meeting with Al-Anon Participation\, Saturday\, September 28\, 4:30pm\, In-Person
DESCRIPTION:This Open Meeting is at Wellbrook Recovery in Brookfield.\nAl-Anon Speaker: Judy T.\nAA Speaker: Tami R.\nFellowship at 4:30pm and Speakers at 5pm. Light refreshments provided.\nWellbrook Recovery\n13850 W. Capitol Drive\nBrookfield\, WI 53005\nParking is behind the building.
URL:https://alanon-wi.org/event/aa-open-meeting-with-al-anon-participation-saturday-september-28-430pm-in-person/
LOCATION:Wellbrook Recovery\, 13850 W Capitol Dr\, Brookfield\, WI\, 53005
END:VEVENT
BEGIN:VEVENT
DTSTART;TZID=America/Chicago:20240929T173000
DTEND;TZID=America/Chicago:20240929T183000
DTSTAMP:20260424T181653
CREATED:20240821T211936Z
LAST-MODIFIED:20240911T185507Z
UID:6166-1727631000-1727634600@alanon-wi.org
SUMMARY:Living In The Solution Open Meeting\, Sunday\, September 29\, 5:30pm
DESCRIPTION:Al-Anon Open Meeting with AA Participation \nSponsored By: Living In The Solution – Sunday at 5:30 PM – Wauwatosa \nAl-Anon Speaker: Sarah L. \nAA Speaker: Brain Q. \n 
URL:https://alanon-wi.org/event/living-in-the-solution-open-meeting-sunday-sep-29-530pm/
LOCATION:Dewey Center Lighthouse Building\, 1220 Dewey Ave.\, Wauwatosa\, WI\, 53213
END:VEVENT
BEGIN:VEVENT
DTSTART;TZID=America/Chicago:20240929T190000
DTEND;TZID=America/Chicago:20240929T200000
DTSTAMP:20260424T181653
CREATED:20240925T180205Z
LAST-MODIFIED:20240926T020450Z
UID:6221-1727636400-1727640000@alanon-wi.org
SUMMARY:Al-Anon Open Meeting\, Sunday\, September 29\, 7pm\, In-Person
DESCRIPTION:An Al-Anon open meeting sponsored by Pewaukee Serenity at Galilee Lutheran Church.\nAl-Anon Speaker: Melissa L\, Wauwatosa\nand 2 surprise 10-minute speakers.\nDownload Flyer
URL:https://alanon-wi.org/event/al-anon-open-meeting-sunday-september-29-7pm-in-person/
LOCATION:Galilee Lutheran Church\, N24W26430 Crestview Dr.\, Pewaukee\, WI\, 53072\, United States
END:VEVENT
BEGIN:VEVENT
DTSTART;TZID=America/Chicago:20240930T183000
DTEND;TZID=America/Chicago:20240930T193000
DTSTAMP:20260424T181653
CREATED:20240902T190303Z
LAST-MODIFIED:20240902T190303Z
UID:6188-1727721000-1727724600@alanon-wi.org
SUMMARY:Al-Anon Open Meeting with AA Participation\, Monday\, September 30\, 6:30pm\, In-Person
DESCRIPTION:Sponsored By: Lake Country Let Go and Let God AFG at Christ the King Lutheran Church\, Delafield \nAl-Anon Speaker: Colleen L.\nAA Speaker: Kendra Z. \nDownload Flyer
URL:https://alanon-wi.org/event/al-anon-open-meeting-with-aa-participation-monday-september-30-630pm-in-person/
LOCATION:Lake Country Let Go and Let God AFG – Christ the King Lutheran Church\, 1600 N. Genesee St.\, Delafield\, Wisconsin\, 53018
END:VEVENT
END:VCALENDAR