BEGIN:VCALENDAR
VERSION:2.0
PRODID:-//Al-Anon Family Groups of Southeastern Wisconsin - ECPv6.15.20//NONSGML v1.0//EN
CALSCALE:GREGORIAN
METHOD:PUBLISH
X-WR-CALNAME:Al-Anon Family Groups of Southeastern Wisconsin
X-ORIGINAL-URL:https://alanon-wi.org
X-WR-CALDESC:Events for Al-Anon Family Groups of Southeastern Wisconsin
REFRESH-INTERVAL;VALUE=DURATION:PT1H
X-Robots-Tag:noindex
X-PUBLISHED-TTL:PT1H
BEGIN:VTIMEZONE
TZID:America/Chicago
BEGIN:DAYLIGHT
TZOFFSETFROM:-0600
TZOFFSETTO:-0500
TZNAME:CDT
DTSTART:20230312T080000
END:DAYLIGHT
BEGIN:STANDARD
TZOFFSETFROM:-0500
TZOFFSETTO:-0600
TZNAME:CST
DTSTART:20231105T070000
END:STANDARD
BEGIN:DAYLIGHT
TZOFFSETFROM:-0600
TZOFFSETTO:-0500
TZNAME:CDT
DTSTART:20240310T080000
END:DAYLIGHT
BEGIN:STANDARD
TZOFFSETFROM:-0500
TZOFFSETTO:-0600
TZNAME:CST
DTSTART:20241103T070000
END:STANDARD
BEGIN:DAYLIGHT
TZOFFSETFROM:-0600
TZOFFSETTO:-0500
TZNAME:CDT
DTSTART:20250309T080000
END:DAYLIGHT
BEGIN:STANDARD
TZOFFSETFROM:-0500
TZOFFSETTO:-0600
TZNAME:CST
DTSTART:20251102T070000
END:STANDARD
END:VTIMEZONE
BEGIN:VEVENT
DTSTART;TZID=America/Chicago:20240916T183000
DTEND;TZID=America/Chicago:20240916T203000
DTSTAMP:20260424T113834
CREATED:20240823T034755Z
LAST-MODIFIED:20240902T193514Z
UID:6169-1726511400-1726518600@alanon-wi.org
SUMMARY:Brookfield Courage to Change Open Meeting\, Monday\, September 16\, 6:30pm
DESCRIPTION:Al-Anon Open Meeting with AA Participation \nSponsored By: Brookfield Courage To Change – Monday at 6:30 PM \nAl-Anon Speaker: Jenny S \nAA Speaker: Dick S
URL:https://alanon-wi.org/event/brookfield-courage-to-change-open-meeting-monday-sep-16-630pm/
LOCATION:St. John Vianney Church\, 1755 N. Calhoun Rd\, Room 209\, Brookfield\, WI\, 53005\, United States
END:VEVENT
BEGIN:VEVENT
DTSTART;TZID=America/Chicago:20240903T183000
DTEND;TZID=America/Chicago:20240903T193000
DTSTAMP:20260424T113834
CREATED:20240815T222740Z
LAST-MODIFIED:20240815T222740Z
UID:6149-1725388200-1725391800@alanon-wi.org
SUMMARY:Al-Anon Open Meeting with AA Participation\, Tuesday\, September 3\, 6:30pm\, In-Person
DESCRIPTION:Sponsored by Franklin Serenity (Tuesday Night AFG) at Faith Presbyterian Church \nAl-Anon Speaker: Anna G.\nAA Speaker: Jim D. \nJoin us in fellowship after the meeting. \nFLYER_SEP_03_2024.pdf
URL:https://alanon-wi.org/event/al-anon-open-meeting-with-aa-participation-tuesday-september-3-630pm-in-person/
LOCATION:Franklin Serenity – Faith Presbyterian Church\, 3800 W. Rawson Avenue\, Franklin\, Wisconsin\, 53132
END:VEVENT
BEGIN:VEVENT
DTSTART;TZID=America/Chicago:20240829T120000
DTEND;TZID=America/Chicago:20240829T130000
DTSTAMP:20260424T113834
CREATED:20240722T225047Z
LAST-MODIFIED:20240722T225321Z
UID:6083-1724932800-1724936400@alanon-wi.org
SUMMARY:Al-Anon Open Meeting with AA Participation\, Thursday August 29\, Noon\, In-Person
DESCRIPTION:Join the 12 at 12 open meeting Thursday August 29th at Noon. \nAl-Anon Speaker: Annette G \nAA Speaker – Jill C \nSummit Place 6737 W. Washington St. West Allis\, WI 53214 \nRoom 2143 – on the first floor\, past the cafeteria \nWe hope to see you there! FLYER
URL:https://alanon-wi.org/event/al-anon-open-meeting-with-aa-participation-thursday-august-29-noon-in-person/
LOCATION:12 at 12 AFG – Summit Place\, 6737 W Washington St\, West Allis\, WI\, 53214
ORGANIZER;CN="12 at 12":MAILTO:alanon@alanon-wi.org
END:VEVENT
BEGIN:VEVENT
DTSTART;TZID=America/Chicago:20240822T183000
DTEND;TZID=America/Chicago:20240822T200000
DTSTAMP:20260424T113834
CREATED:20231120T184928Z
LAST-MODIFIED:20240903T043838Z
UID:5453-1724351400-1724356800@alanon-wi.org
SUMMARY:Al-Anon Service Board Meeting\, Thursday\, August 22\, 6:30pm
DESCRIPTION:
URL:https://alanon-wi.org/event/al-anon-service-board-meeting-thursday-august-22-630pm/
LOCATION:WI
END:VEVENT
BEGIN:VEVENT
DTSTART;TZID=America/Chicago:20240817T120000
DTEND;TZID=America/Chicago:20240817T150000
DTSTAMP:20260424T113834
CREATED:20240521T194451Z
LAST-MODIFIED:20240605T211921Z
UID:5937-1723896000-1723906800@alanon-wi.org
SUMMARY:District 5 AFG Family Picnic\, Saturday\, Aug 17\, 12pm\, In-Person
DESCRIPTION:Where: Pavilion at Ridge Run Park in West Bend\, WI – West Entrance (see flyer for directions and map). \nWhen: Noon to 2pm\, Lunch and Fellowship; Speakers start at 2pm \nAA Speaker: Chris K.\, West Bend \nAl-Anon Speaker: Cathy T.\, Wisconsin Dells \nBring a lawn chair\, otherwise picnic table seating will be available. \nPotluck –  \nLast Names beginning with A-M bring Desserts and N-Z bring Side Dishes \nFLYER_AUG_17_2024 \n 
URL:https://alanon-wi.org/event/district-5-afg-family-picnic-saturday-aug-17-12pm-in-person/
LOCATION:Ridge Run Park\, 300 S University Drive\, West Bend\, WI\, 53090
END:VEVENT
BEGIN:VEVENT
DTSTART;TZID=America/Chicago:20240817T100000
DTEND;TZID=America/Chicago:20240817T120000
DTSTAMP:20260424T113834
CREATED:20240726T031539Z
LAST-MODIFIED:20240729T224657Z
UID:6100-1723888800-1723896000@alanon-wi.org
SUMMARY:District 2 Meeting\, Saturday\, August 17\, 10 am\, In-Person
DESCRIPTION:District 2: district meeting at Summit Place in West Allis\, Room #2147 \nYou do NOT have to be a Group Representative to attend. Everyone is welcome. This includes all people of District 2. It also includes anyone from a surrounding district with no District Rep. Come see firsthand what a district meeting is all about. You will witness us having fun! Maybe you will want to bring some of the excitement back to your home district! That would make Annemarie A. so happy!!!
URL:https://alanon-wi.org/event/district-2-meeting-saturday-august-17th-at-10-am-in-person/
LOCATION:Al-Anon Local Information Service Center at Summit Place\, 6737 W Washington St\, Suite 2125 (First Floor)\, West Allis\, WI\, 53214
END:VEVENT
BEGIN:VEVENT
DTSTART;TZID=America/Chicago:20240803T183000
DTEND;TZID=America/Chicago:20240803T200000
DTSTAMP:20260424T113834
CREATED:20240504T033547Z
LAST-MODIFIED:20240504T035306Z
UID:5873-1722709800-1722715200@alanon-wi.org
SUMMARY:District 12 Open Meeting\, Saturday\, August 3\, In-Person and Zoom
DESCRIPTION:District 12 Monthly open meeting Hosted by:  Hartford Sunday Morning Group \nSaturday\, August 3rd\, 6:30 Fellowship\, A snack or dish to pass is appreciated. \n7pm Open Meeting. 2240 Living word Lane\, Jackson\, WI Parking in entrance in rear of church. \nZoom: Dial 1-646-558-8656. Meeting ID 859 6540 8345. Password 202425. Participant ID #0 \nAl-Anon speaker: TBA \nAA Speaker: TBA
URL:https://alanon-wi.org/event/district-12-open-meeting-saturday-august-8-in-person-and-zoom/
LOCATION:Living Word Lutheran Church\, 2240 Living Word Lane\, Jackson\, WI\, 53037\, United States
END:VEVENT
BEGIN:VEVENT
DTSTART;TZID=America/Chicago:20240801T183000
DTEND;TZID=America/Chicago:20240801T193000
DTSTAMP:20260424T113834
CREATED:20240712T161923Z
LAST-MODIFIED:20240718T030809Z
UID:6070-1722537000-1722540600@alanon-wi.org
SUMMARY:Al-Anon Open Meeting with AA Participation\, Thursday\, 8/1/24\, 6:30pm\, In-Person
DESCRIPTION:Meeting Hosted by:  Twelve Steppers – Thursday at 6:30 PM – Brookfield \nVenue Name:  St Johns Lutheran Church \nAl-Anon Speaker:  Amanda H-South Milwaukee \nAA Speaker:  Sophia W-Hartland \n 
URL:https://alanon-wi.org/event/al-anon-open-meeting-with-aa-participation-thursday-8-1-24-630pm-in-person/
LOCATION:Twelve Steppers – St. John’s Lutheran Church\, 20275 Davidson Rd.\, Brookfield\, Wisconsin\, 53045
END:VEVENT
BEGIN:VEVENT
DTSTART;TZID=America/Chicago:20240731T190000
DTEND;TZID=America/Chicago:20240731T200000
DTSTAMP:20260424T113834
CREATED:20240726T024535Z
LAST-MODIFIED:20240726T024535Z
UID:6092-1722452400-1722456000@alanon-wi.org
SUMMARY:Waukesha 12x12 Open Meeting\, Wednesday\, July 31 at 7pm\, In-Person
DESCRIPTION:Waukesha 12×12 Open Meeting at New Vision Church in Pewaukee. \nWednesday\, July 31st at 7:00 PM\n\n\n\n\n\nAl-Anon Speaker: Molly H\n\n\nAA Speaker: Seth\n\n\n\n\n\nJoin us for Al Anon Open Meeting. We’ll have 2 speakers Al Anon Speaker and AA Speaker
URL:https://alanon-wi.org/event/waukesha-12x12-open-meeting-wednesday-july-31-at-7pm-in-person/
LOCATION:Waukesha Twelve and Twelve – New Vision Church\, N14W27995 Silvernail Rd\, Pewaukee\, Wisconsin\, 53072
END:VEVENT
BEGIN:VEVENT
DTSTART;TZID=America/Chicago:20240731T190000
DTEND;TZID=America/Chicago:20240731T200000
DTSTAMP:20260424T113834
CREATED:20240629T165434Z
LAST-MODIFIED:20240629T165434Z
UID:6030-1722452400-1722456000@alanon-wi.org
SUMMARY:Just For Today Al-Anon Open Meeting\, Wednesday\, July 31\, 7pm\, Zoom
DESCRIPTION:Just For Today Wednesday Night Al-Anon Open Meeting with AA Participation on Zoom\n\n\n07/31/2024 at 7pm \nAl-Anon Speaker: Angie R.M. \nAA Speaker: Paul H. \nJoin us on Zoom for an AA speaker followed by an Al-Anon speaker: \nMeeting ID:  845 0322 7889\npassword: just42day
URL:https://alanon-wi.org/event/just-for-today-al-anon-open-meeting-wednesday-july-31-7pm-zoom/
LOCATION:WI
END:VEVENT
BEGIN:VEVENT
DTSTART;TZID=America/Chicago:20240729T063000
DTEND;TZID=America/Chicago:20240729T193000
DTSTAMP:20260424T113834
CREATED:20240710T162136Z
LAST-MODIFIED:20240726T023334Z
UID:6057-1722234600-1722281400@alanon-wi.org
SUMMARY:Updated speakers: Al-Anon Open Meeting\, Monday\, July 29\, 6:30\, In-Person
DESCRIPTION:Sponsored By:  Eastside Monday Night – Shorewood \nAl-Anon Speaker: Chris B.  \nAA Speaker:  Steve G.  \nEvent Details\nPlease join us for our quarterly open meeting! \nUpload PDF Flyer\nFLYERJUL07292024
URL:https://alanon-wi.org/event/al-anon-open-meeting-monday-july-29-630-in-person/
LOCATION:Eastside Monday Night – North Shore Presbyterian Church\, 4048 N. Bartlett Ave.\, Shorewood\, WI\, 53211\, United States
END:VEVENT
BEGIN:VEVENT
DTSTART;TZID=America/Chicago:20240729T063000
DTEND;TZID=America/Chicago:20240729T193000
DTSTAMP:20260424T113834
CREATED:20240709T221710Z
LAST-MODIFIED:20240709T223829Z
UID:6049-1722234600-1722281400@alanon-wi.org
SUMMARY:Al-Anon Open Meeting with AA Participation\, Monday July 29\, 6:30pm  In-Person
DESCRIPTION:Meeting Sponsored By:  Lake Country Let Go and Let God AFG – Monday at 6:30 PM – Delafield \nAl-Anon Speaker:  Melissa L. \nAA Speaker:  Amy N \nClick for flyer: \nLCLGLG-July-29
URL:https://alanon-wi.org/event/al-anon-open-meeting-with-aa-participation-monday-july-29-630pm-in-person/
LOCATION:Lake Country Let Go and Let God AFG – Christ the King Lutheran Church\, 1600 N. Genesee St.\, Delafield\, Wisconsin\, 53018
END:VEVENT
BEGIN:VEVENT
DTSTART;TZID=America/Chicago:20240725T190000
DTEND;TZID=America/Chicago:20240725T203000
DTSTAMP:20260424T113834
CREATED:20231120T183332Z
LAST-MODIFIED:20231120T183332Z
UID:5442-1721934000-1721939400@alanon-wi.org
SUMMARY:Al-Anon Intergroup Meeting\, Thursday\, July 25\, 7pm\, Hybrid
DESCRIPTION:Access the Zoom Meeting–\nMeeting ID: 574 020 0987\nPasscode: 2572415 \nNote: All meetings are Hybrid. For those attending in-person\, the usual meeting location is in Room 2135 (First Floor).
URL:https://alanon-wi.org/event/al-anon-intergroup-meeting-thursday-july-25-7pm-hybrid/
LOCATION:Al-Anon Local Information Service Center at Summit Place\, 6737 W Washington St\, Suite 2125 (First Floor)\, West Allis\, WI\, 53214
END:VEVENT
BEGIN:VEVENT
DTSTART;TZID=America/Chicago:20240715T183000
DTEND;TZID=America/Chicago:20240715T200000
DTSTAMP:20260424T113834
CREATED:20240623T005654Z
LAST-MODIFIED:20240623T005654Z
UID:6022-1721068200-1721073600@alanon-wi.org
SUMMARY:Brookfield Courage To Change Al-Anon Open Meeting\, Monday\, July 15\, 6:30pm
DESCRIPTION:Al-Anon Open Meeting with AA Participation \nAl-Anon Speaker: Christopher T \nAA Speaker: Lisa B \n  \n 
URL:https://alanon-wi.org/event/brookfield-courage-to-change-al-anon-open-meeting-monday-july-15-630pm/
LOCATION:St. John Vianney Church\, 1755 N. Calhoun Rd\, Room 209\, Brookfield\, WI\, 53005\, United States
END:VEVENT
BEGIN:VEVENT
DTSTART;TZID=America/Chicago:20240706T183000
DTEND;TZID=America/Chicago:20240706T200000
DTSTAMP:20260424T113834
CREATED:20240603T211807Z
LAST-MODIFIED:20240603T211807Z
UID:5973-1720290600-1720296000@alanon-wi.org
SUMMARY:District 12 Open Meeting\, Saturday\, July 6\, 6:30pm\, In-Person and Zoom
DESCRIPTION:Meeting hosted by: District 12 – “All Hands on Deck!”\n6:30pm Fellowship\n7pm Open Meeting\nAl-Anon Speaker: Pamela K.\, Racine\, WI\nAA Speaker: Emily H.\, Fond du Lac\, WI\nParking and entrance in the rear of the church. \nNEW ZOOM INFO <<<\nDIAL 1-646-558-8656\nMEETING ID 859 6450 8345\nPASSWORD 202425\n#0 PARTICIPANT ID \nFLYER_2024_07-06.pdf
URL:https://alanon-wi.org/event/district-12-open-meeting-saturday-july-6-630pm-in-person-and-zoom/
LOCATION:Living Word Lutheran Church\, 2240 Living Word Lane\, Jackson\, WI\, 53037\, United States
END:VEVENT
BEGIN:VEVENT
DTSTART;TZID=America/Chicago:20240630T190000
DTEND;TZID=America/Chicago:20240630T200000
DTSTAMP:20260424T113834
CREATED:20240613T135921Z
LAST-MODIFIED:20240613T222436Z
UID:5999-1719774000-1719777600@alanon-wi.org
SUMMARY:Al-Anon Open Meeting\, Sunday\, June 30\, 7pm\, In-Person
DESCRIPTION:Meeting hosted by:  Pewaukee Serenity \nAl-Anon Speaker: Kay W. from Brookfield \nOpen Meeting with Al-Anon main speaker + 2 surprise 10 min Al-Anon speakers \nAdditional Information:  Park in SE lot off of Crestview Drive. Enter building from the east entrance. \n 
URL:https://alanon-wi.org/event/al-anon-open-meeting-sunday-june-30-7pm-in-person/
LOCATION:Galilee Lutheran Church\, N24W26430 Crestview Dr.\, Pewaukee\, WI\, 53072\, United States
END:VEVENT
BEGIN:VEVENT
DTSTART;TZID=America/Chicago:20240627T190000
DTEND;TZID=America/Chicago:20240627T203000
DTSTAMP:20260424T113834
CREATED:20231120T184657Z
LAST-MODIFIED:20231120T184657Z
UID:5450-1719514800-1719520200@alanon-wi.org
SUMMARY:Al-Anon Service Board Meeting\, Thursday\, June 27\, 7pm\, Hybrid
DESCRIPTION:Access the Zoom Meeting–\nMeeting ID: 574 020 0987\nPasscode: 2572415 \nNote: All meetings are Hybrid. For those attending in-person\, the usual meeting location is in Room 2125 (First Floor).
URL:https://alanon-wi.org/event/al-anon-service-board-meeting-thursday-june-27-7pm-hybrid/
LOCATION:Al-Anon Local Information Service Center at Summit Place\, 6737 W Washington St\, Suite 2125 (First Floor)\, West Allis\, WI\, 53214
END:VEVENT
BEGIN:VEVENT
DTSTART;TZID=America/Chicago:20240614T170000
DTEND;TZID=America/Chicago:20240617T170000
DTSTAMP:20260424T113834
CREATED:20240409T005817Z
LAST-MODIFIED:20240409T005935Z
UID:5793-1718384400-1718643600@alanon-wi.org
SUMMARY:S'More Recovery Al-Anon Camping Retreat\, Friday to Sunday\, June 14-16\, In Person
DESCRIPTION:Al-Anon Camping Retreat at Governor Dodge State Park \nSpeaker: Bonnie R.\, Illinois \nFriday: Arrive at 5pm; Set up Camp; Fireside Meeting + S’mores at 7pm \nSaturday: Light Breakfast; Morning Meditation; Hike\, Bike\, Swim\, Paddle + Activitities; Lunch on your own; Grillables + Potluck Dinner at 5pm; and Speaker at 6pm \nSunday: Continental Breakfast; Morning Meeting at 10am; and Cleanup Camp \nRegistration cost is $20 per “adult” — people who are 15 years old or older. \nRegister at https://tinyurl.com/smore-recovery-2024 \nDownload Flyer
URL:https://alanon-wi.org/event/smore-recovery-al-anon-camping-retreat-friday-to-sunday-june-14-16-in-person/
LOCATION:WI
END:VEVENT
BEGIN:VEVENT
DTSTART;TZID=America/Chicago:20240606T173000
DTEND;TZID=America/Chicago:20240606T193000
DTSTAMP:20260424T113834
CREATED:20240422T152030Z
LAST-MODIFIED:20240506T154326Z
UID:5824-1717695000-1717702200@alanon-wi.org
SUMMARY:Twelve Steppers 33rd Anniversary Dinner\, Thursday\, June 6\, 5:30pm In-Person
DESCRIPTION:Al-Anon Open Meeting with AA Participation \nAl-Anon Speaker: Bridget C. from Muskego \nAA Speaker: Sway J. from Hartland \nEvent Details\nPotluck Dinner at 5:30pm \nPlease Bring Your Favorite Dish\, Salad\, or Dessert to Pass \nSpeakers at 6:30pm \nFLYER_JUN_6_2024
URL:https://alanon-wi.org/event/twelve-steppers-33rd-anniversary-dinner-thursday-june-1-530pm-in-person/
LOCATION:St. John’s Lutheran Church\, 20275 Davidson Rd\, Brookfield\, WI\, 53045\, United States
END:VEVENT
BEGIN:VEVENT
DTSTART;TZID=America/Chicago:20240604T183000
DTEND;TZID=America/Chicago:20240604T193000
DTSTAMP:20260424T113834
CREATED:20240422T140954Z
LAST-MODIFIED:20240506T154932Z
UID:5809-1717525800-1717529400@alanon-wi.org
SUMMARY:Franklin Serenity Al-Anon Open Speaker Meeting\, Tuesday\, June 4\, 6:30pm In-Person
DESCRIPTION:Al-Anon Open Meeting with AA Participation \nAl-Anon Speaker:  Sharon Y. \nAA Speaker:  Jim D. \nJoin us for fellowship after the meeting. \nFLYER_JUN_4_2024
URL:https://alanon-wi.org/event/franklin-serenity-al-anon-open-speaker-meeting-tuesday-june-4-630pm-in-person/
LOCATION:Franklin Serenity – Faith Presbyterian Church\, 3800 W. Rawson Avenue\, Franklin\, Wisconsin\, 53132
END:VEVENT
BEGIN:VEVENT
DTSTART;TZID=America/Chicago:20240601T183000
DTEND;TZID=America/Chicago:20240601T200000
DTSTAMP:20260424T113834
CREATED:20240504T033046Z
LAST-MODIFIED:20240504T033046Z
UID:5864-1717266600-1717272000@alanon-wi.org
SUMMARY:District 12 Open Meeting\, Saturday\, June 1\, In-Person and Zoom
DESCRIPTION:District 12 Monthly open meeting Hosted by:  Wednesday Morning Step into Promises Group \nSaturday\, June 1st\, 6:30 Fellowship\, A snack or dish to pass is appreciated. \n7pm Open Meeting. 2240 Living word Lane\, Jackson\, WI  Parking in entrance in rear of church. \nZoom: Dial 1-646-558-8656. Meeting ID 859 6540 8345. Password 202425. Participant ID #0 \nAl-Anon speaker: TBA \nAA Speaker: TBA
URL:https://alanon-wi.org/event/district-12-open-meeting-saturday-june-1-in-person-and-zoom/
LOCATION:Living Word Lutheran Church\, 2240 Living Word Lane\, Jackson\, WI\, 53037\, United States
END:VEVENT
BEGIN:VEVENT
DTSTART;TZID=America/Chicago:20240530T190000
DTEND;TZID=America/Chicago:20240530T200000
DTSTAMP:20260424T113834
CREATED:20240509T205637Z
LAST-MODIFIED:20240509T205637Z
UID:5903-1717095600-1717099200@alanon-wi.org
SUMMARY:Al-Anon Open Meeting with AA Participation\, Thursday\, May 30\, 7pm\, In-Person
DESCRIPTION:Sponsored by Friends of Lois AFG \nAA Speaker: Bob J. of Milwaukee\, WI \nAl-Anon Speaker: John McC. of Brookfield\, WI \nPlease join us for fellowship and snacks after the meeting. \nFLYER_MAY_30_2024.pdf
URL:https://alanon-wi.org/event/al-anon-open-meeting-with-aa-participation-thursday-may-30-7pm-in-person/
LOCATION:Friends of Lois – Martin Luther Church\, 9235 W. Bluemound Road\, Wauwatosa\, Wisconsin\, 53226
END:VEVENT
BEGIN:VEVENT
DTSTART;TZID=America/Chicago:20240530T120000
DTEND;TZID=America/Chicago:20240530T130000
DTSTAMP:20260424T113834
CREATED:20240516T200425Z
LAST-MODIFIED:20240516T200425Z
UID:5921-1717070400-1717074000@alanon-wi.org
SUMMARY:Al-Anon Open Meeting with AA Participation\, Thursday\, May 30\, 12pm\, In-Person
DESCRIPTION:Sponsored by the 12 at 12 AFG. You are invited to come and hear the experience\, strength and hope of our guest speakers. \nAl-Anon Speaker: Janet C.\nAA Speaker: Bob J. \nParking available in the visitors lot of the Summit Place building. The open meeting will be held in Room 2143 (Glass Patio) on the first floor.
URL:https://alanon-wi.org/event/al-anon-open-meeting-with-aa-participation-thursday-may-30-12pm-in-person/
LOCATION:12 at 12 AFG – Summit Place\, 6737 W Washington St\, West Allis\, WI\, 53214
END:VEVENT
BEGIN:VEVENT
DTSTART;TZID=America/Chicago:20240529T190000
DTEND;TZID=America/Chicago:20240529T203000
DTSTAMP:20260424T113834
CREATED:20240524T203002Z
LAST-MODIFIED:20240524T203804Z
UID:5945-1717009200-1717014600@alanon-wi.org
SUMMARY:Al-Anon Open Meeting with AA Participation\, Wednesday\, May 29\, 7pm\, Remote
DESCRIPTION:Just For Today Wednesday Al-Anon Zoom meeting – Open Speaker Meeting – Alanon w/ AA participation \nAl-Anon Speaker: Sue V \nAA Speaker: Kevin S \nJoin by Zoom: 84503227889 \nMeeting ID: 845 0322 7889\nPasscode: just42day \nOne tap mobile\n+13126266799\,\,84503227889#\,\,\,\,*464380502# US (Chicago)\n+19292056099\,\,84503227889#\,\,\,\,*464380502# US (New York) \nDial by your location\n+1 312 626 6799 US (Chicago)\n+1 929 205 6099 US (New York)\n+1 301 715 8592 US (Washington DC)\n+1 346 248 7799 US (Houston)\n+1 669 900 6833 US (San Jose)\n+1 253 215 8782 US (Tacoma)\nMeeting ID: 845 0322 7889\nPasscode: 464380502\nFind your local number: https://us02web.zoom.us/u/kdPTzMydh
URL:https://alanon-wi.org/event/al-anon-open-meeting-with-aa-participation-wednesday-may-29-7pm-remote/
LOCATION:Zoom
END:VEVENT
BEGIN:VEVENT
DTSTART;TZID=America/Chicago:20240529T190000
DTEND;TZID=America/Chicago:20240529T200000
DTSTAMP:20260424T113834
CREATED:20240510T153155Z
LAST-MODIFIED:20240510T153550Z
UID:5905-1717009200-1717012800@alanon-wi.org
SUMMARY:Al-Anon Open Meeting with AA Participation\, Wednesday\, May 29\, 7pm\, In-Person
DESCRIPTION:Sponsored by Waukesha Twelve and Twelve AFG at New Vision Church in Pewaukee \nAl-Anon Speaker: Kiel T.\nAA Speaker: Nate H. \nPlease join us!
URL:https://alanon-wi.org/event/al-anon-open-meeting-with-aa-participation-wednesday-may-29-7pm-in-person/
LOCATION:Waukesha Twelve and Twelve – New Vision Church\, N14W27995 Silvernail Rd\, Pewaukee\, Wisconsin\, 53072
END:VEVENT
BEGIN:VEVENT
DTSTART;TZID=America/Chicago:20240523T190000
DTEND;TZID=America/Chicago:20240523T203000
DTSTAMP:20260424T113834
CREATED:20231120T183143Z
LAST-MODIFIED:20231120T183143Z
UID:5440-1716490800-1716496200@alanon-wi.org
SUMMARY:Al-Anon Intergroup Meeting\, Thursday\, May 23\, 7pm\, Hybrid
DESCRIPTION:Access the Zoom Meeting–\nMeeting ID: 574 020 0987\nPasscode: 2572415 \nNote: All meetings are Hybrid. For those attending in-person\, the usual meeting location is in Room 2135 (First Floor).
URL:https://alanon-wi.org/event/al-anon-intergroup-meeting-thursday-may-23-7pm-hybrid/
LOCATION:Al-Anon Local Information Service Center at Summit Place\, 6737 W Washington St\, Suite 2125 (First Floor)\, West Allis\, WI\, 53214
END:VEVENT
BEGIN:VEVENT
DTSTART;TZID=America/Chicago:20240521T180000
DTEND;TZID=America/Chicago:20240521T200000
DTSTAMP:20260424T113834
CREATED:20240508T190554Z
LAST-MODIFIED:20240508T195914Z
UID:5891-1716314400-1716321600@alanon-wi.org
SUMMARY:Keep it Simple 2nd Anniversary Potluck & Meeting\, Tuesday\, May 21\, 6pm\, In Person
DESCRIPTION:Join us to celebrate the 2nd Anniversary of Keep It Simple AFG at Christ the Servant Lutheran Church in Waukesha. The potluck starts at 6pm. – Please bring a dish to pass. The regular Al-Anon meeting starts at 7pm. \nEnter building near sign for the Office Door.
URL:https://alanon-wi.org/event/keep-it-simple-2nd-anniversary-potluck-meeting-tuesday-may-21-6pm-in-person/
LOCATION:Keep it Simple AFG – Christ the Servant Lutheran Church\, 2016 Center Rd\, Waukesha\, WI\, 53189
END:VEVENT
BEGIN:VEVENT
DTSTART;TZID=America/Chicago:20240509T123000
DTEND;TZID=America/Chicago:20240509T140000
DTSTAMP:20260424T113834
CREATED:20240408T154312Z
LAST-MODIFIED:20240408T154312Z
UID:5788-1715257800-1715263200@alanon-wi.org
SUMMARY:Al-Anon Open Meeting with AA Participation\, Thursday\, May 9\, 12:30pm\, In Person
DESCRIPTION:Spring Open Meeting sponsored by: Thursday Afternoon Discussion\, Menomonee Falls \nAl-Anon Speaker: Dee K.\nAA Speaker: Jim K. \nOpen Meeting with appetizers and desserts \nParking in rear. Use rear entrance. \nDownload Event Flyer
URL:https://alanon-wi.org/event/al-anon-open-meeting-with-aa-participation-thursday-may-9-1230pm-in-person/
LOCATION:Thursday Afternoon Discussion – Gloria Dei Church\, W180N7863 Town Hall Road\, Menomonee Falls\, Wisconsin\, 53051
END:VEVENT
BEGIN:VEVENT
DTSTART;TZID=America/Chicago:20240504T183000
DTEND;TZID=America/Chicago:20240504T200000
DTSTAMP:20260424T113834
CREATED:20240504T031521Z
LAST-MODIFIED:20240504T031919Z
UID:5857-1714847400-1714852800@alanon-wi.org
SUMMARY:District 12 Open Meeting\, Saturday\, May 4\, 2024\, In-Person and Zoom
DESCRIPTION:SEE  FLYER  FOR DETOUR INSTRUCTIONS! \nDistrict 12 Monthly open meeting Hosted by: The Happy Hour Group\, Unity Club\, West Bend\, WI \nSaturday\, May 4th 6:30 Fellowship\, A snack or dish to pass is appreciated. \n7pm Open Meeting. 2240 Living word Lane\, Jackson\, WI 53037 Parking in entrance in rear of church. \nZoom: Dial 1-646-558-8656. Meeting ID 859 6540 8345. Password 202425. Participant ID #0 \nAl-Anon speaker: Nancy H. Hartford\, WI \nAA Speaker: Marty P. Campbellsport\, WI
URL:https://alanon-wi.org/event/district-12-open-meeting-saturday-may-4-2024-in-person-and-zoom/
LOCATION:Living Word Lutheran Church\, 2240 Living Word Lane\, Jackson\, WI\, 53037\, United States
END:VEVENT
BEGIN:VEVENT
DTSTART;TZID=America/Chicago:20240429T183000
DTEND;TZID=America/Chicago:20240429T193000
DTSTAMP:20260424T113834
CREATED:20240413T224757Z
LAST-MODIFIED:20240413T224757Z
UID:5806-1714415400-1714419000@alanon-wi.org
SUMMARY:Al-Anon Open Meeting with AA Participation\, Monday\, April 29\, 6:30pm\, In Person and Zoom
DESCRIPTION:Hosted by: Eastside Monday Night – Shorewood\nAl-Anon Speaker: Paige H.\nAA Speaker: Sarah B. \nThe open meeting is on the second floor of the church in the Parlor Room.\nIn person – Parking lot and street parking available.\nZoom: 82163750224\, Meeting ID: 821 6375 0224\, Passcode: 193800
URL:https://alanon-wi.org/event/al-anon-open-meeting-with-aa-participation-monday-april-29-630pm-in-person-and-zoom/
LOCATION:Eastside Monday Night – North Shore Presbyterian Church\, 4048 N. Bartlett Ave.\, Shorewood\, WI\, 53211\, United States
END:VEVENT
END:VCALENDAR