BEGIN:VCALENDAR
VERSION:2.0
PRODID:-//Al-Anon Family Groups of Southeastern Wisconsin - ECPv6.15.20//NONSGML v1.0//EN
CALSCALE:GREGORIAN
METHOD:PUBLISH
X-WR-CALNAME:Al-Anon Family Groups of Southeastern Wisconsin
X-ORIGINAL-URL:https://alanon-wi.org
X-WR-CALDESC:Events for Al-Anon Family Groups of Southeastern Wisconsin
REFRESH-INTERVAL;VALUE=DURATION:PT1H
X-Robots-Tag:noindex
X-PUBLISHED-TTL:PT1H
BEGIN:VTIMEZONE
TZID:America/Chicago
BEGIN:DAYLIGHT
TZOFFSETFROM:-0600
TZOFFSETTO:-0500
TZNAME:CDT
DTSTART:20230312T080000
END:DAYLIGHT
BEGIN:STANDARD
TZOFFSETFROM:-0500
TZOFFSETTO:-0600
TZNAME:CST
DTSTART:20231105T070000
END:STANDARD
BEGIN:DAYLIGHT
TZOFFSETFROM:-0600
TZOFFSETTO:-0500
TZNAME:CDT
DTSTART:20240310T080000
END:DAYLIGHT
BEGIN:STANDARD
TZOFFSETFROM:-0500
TZOFFSETTO:-0600
TZNAME:CST
DTSTART:20241103T070000
END:STANDARD
BEGIN:DAYLIGHT
TZOFFSETFROM:-0600
TZOFFSETTO:-0500
TZNAME:CDT
DTSTART:20250309T080000
END:DAYLIGHT
BEGIN:STANDARD
TZOFFSETFROM:-0500
TZOFFSETTO:-0600
TZNAME:CST
DTSTART:20251102T070000
END:STANDARD
END:VTIMEZONE
BEGIN:VEVENT
DTSTART;TZID=America/Chicago:20240604T183000
DTEND;TZID=America/Chicago:20240604T193000
DTSTAMP:20260425T063813
CREATED:20240422T140954Z
LAST-MODIFIED:20240506T154932Z
UID:5809-1717525800-1717529400@alanon-wi.org
SUMMARY:Franklin Serenity Al-Anon Open Speaker Meeting\, Tuesday\, June 4\, 6:30pm In-Person
DESCRIPTION:Al-Anon Open Meeting with AA Participation \nAl-Anon Speaker:  Sharon Y. \nAA Speaker:  Jim D. \nJoin us for fellowship after the meeting. \nFLYER_JUN_4_2024
URL:https://alanon-wi.org/event/franklin-serenity-al-anon-open-speaker-meeting-tuesday-june-4-630pm-in-person/
LOCATION:Franklin Serenity – Faith Presbyterian Church\, 3800 W. Rawson Avenue\, Franklin\, Wisconsin\, 53132
END:VEVENT
BEGIN:VEVENT
DTSTART;TZID=America/Chicago:20240601T183000
DTEND;TZID=America/Chicago:20240601T200000
DTSTAMP:20260425T063813
CREATED:20240504T033046Z
LAST-MODIFIED:20240504T033046Z
UID:5864-1717266600-1717272000@alanon-wi.org
SUMMARY:District 12 Open Meeting\, Saturday\, June 1\, In-Person and Zoom
DESCRIPTION:District 12 Monthly open meeting Hosted by:  Wednesday Morning Step into Promises Group \nSaturday\, June 1st\, 6:30 Fellowship\, A snack or dish to pass is appreciated. \n7pm Open Meeting. 2240 Living word Lane\, Jackson\, WI  Parking in entrance in rear of church. \nZoom: Dial 1-646-558-8656. Meeting ID 859 6540 8345. Password 202425. Participant ID #0 \nAl-Anon speaker: TBA \nAA Speaker: TBA
URL:https://alanon-wi.org/event/district-12-open-meeting-saturday-june-1-in-person-and-zoom/
LOCATION:Living Word Lutheran Church\, 2240 Living Word Lane\, Jackson\, WI\, 53037\, United States
END:VEVENT
BEGIN:VEVENT
DTSTART;TZID=America/Chicago:20240530T190000
DTEND;TZID=America/Chicago:20240530T200000
DTSTAMP:20260425T063813
CREATED:20240509T205637Z
LAST-MODIFIED:20240509T205637Z
UID:5903-1717095600-1717099200@alanon-wi.org
SUMMARY:Al-Anon Open Meeting with AA Participation\, Thursday\, May 30\, 7pm\, In-Person
DESCRIPTION:Sponsored by Friends of Lois AFG \nAA Speaker: Bob J. of Milwaukee\, WI \nAl-Anon Speaker: John McC. of Brookfield\, WI \nPlease join us for fellowship and snacks after the meeting. \nFLYER_MAY_30_2024.pdf
URL:https://alanon-wi.org/event/al-anon-open-meeting-with-aa-participation-thursday-may-30-7pm-in-person/
LOCATION:Friends of Lois – Martin Luther Church\, 9235 W. Bluemound Road\, Wauwatosa\, Wisconsin\, 53226
END:VEVENT
BEGIN:VEVENT
DTSTART;TZID=America/Chicago:20240530T120000
DTEND;TZID=America/Chicago:20240530T130000
DTSTAMP:20260425T063813
CREATED:20240516T200425Z
LAST-MODIFIED:20240516T200425Z
UID:5921-1717070400-1717074000@alanon-wi.org
SUMMARY:Al-Anon Open Meeting with AA Participation\, Thursday\, May 30\, 12pm\, In-Person
DESCRIPTION:Sponsored by the 12 at 12 AFG. You are invited to come and hear the experience\, strength and hope of our guest speakers. \nAl-Anon Speaker: Janet C.\nAA Speaker: Bob J. \nParking available in the visitors lot of the Summit Place building. The open meeting will be held in Room 2143 (Glass Patio) on the first floor.
URL:https://alanon-wi.org/event/al-anon-open-meeting-with-aa-participation-thursday-may-30-12pm-in-person/
LOCATION:12 at 12 AFG – Summit Place\, 6737 W Washington St\, West Allis\, WI\, 53214
END:VEVENT
BEGIN:VEVENT
DTSTART;TZID=America/Chicago:20240529T190000
DTEND;TZID=America/Chicago:20240529T203000
DTSTAMP:20260425T063813
CREATED:20240524T203002Z
LAST-MODIFIED:20240524T203804Z
UID:5945-1717009200-1717014600@alanon-wi.org
SUMMARY:Al-Anon Open Meeting with AA Participation\, Wednesday\, May 29\, 7pm\, Remote
DESCRIPTION:Just For Today Wednesday Al-Anon Zoom meeting – Open Speaker Meeting – Alanon w/ AA participation \nAl-Anon Speaker: Sue V \nAA Speaker: Kevin S \nJoin by Zoom: 84503227889 \nMeeting ID: 845 0322 7889\nPasscode: just42day \nOne tap mobile\n+13126266799\,\,84503227889#\,\,\,\,*464380502# US (Chicago)\n+19292056099\,\,84503227889#\,\,\,\,*464380502# US (New York) \nDial by your location\n+1 312 626 6799 US (Chicago)\n+1 929 205 6099 US (New York)\n+1 301 715 8592 US (Washington DC)\n+1 346 248 7799 US (Houston)\n+1 669 900 6833 US (San Jose)\n+1 253 215 8782 US (Tacoma)\nMeeting ID: 845 0322 7889\nPasscode: 464380502\nFind your local number: https://us02web.zoom.us/u/kdPTzMydh
URL:https://alanon-wi.org/event/al-anon-open-meeting-with-aa-participation-wednesday-may-29-7pm-remote/
LOCATION:Zoom
END:VEVENT
BEGIN:VEVENT
DTSTART;TZID=America/Chicago:20240529T190000
DTEND;TZID=America/Chicago:20240529T200000
DTSTAMP:20260425T063813
CREATED:20240510T153155Z
LAST-MODIFIED:20240510T153550Z
UID:5905-1717009200-1717012800@alanon-wi.org
SUMMARY:Al-Anon Open Meeting with AA Participation\, Wednesday\, May 29\, 7pm\, In-Person
DESCRIPTION:Sponsored by Waukesha Twelve and Twelve AFG at New Vision Church in Pewaukee \nAl-Anon Speaker: Kiel T.\nAA Speaker: Nate H. \nPlease join us!
URL:https://alanon-wi.org/event/al-anon-open-meeting-with-aa-participation-wednesday-may-29-7pm-in-person/
LOCATION:Waukesha Twelve and Twelve – New Vision Church\, N14W27995 Silvernail Rd\, Pewaukee\, Wisconsin\, 53072
END:VEVENT
BEGIN:VEVENT
DTSTART;TZID=America/Chicago:20240523T190000
DTEND;TZID=America/Chicago:20240523T203000
DTSTAMP:20260425T063813
CREATED:20231120T183143Z
LAST-MODIFIED:20231120T183143Z
UID:5440-1716490800-1716496200@alanon-wi.org
SUMMARY:Al-Anon Intergroup Meeting\, Thursday\, May 23\, 7pm\, Hybrid
DESCRIPTION:Access the Zoom Meeting–\nMeeting ID: 574 020 0987\nPasscode: 2572415 \nNote: All meetings are Hybrid. For those attending in-person\, the usual meeting location is in Room 2135 (First Floor).
URL:https://alanon-wi.org/event/al-anon-intergroup-meeting-thursday-may-23-7pm-hybrid/
LOCATION:Al-Anon Local Information Service Center at Summit Place\, 6737 W Washington St\, Suite 2125 (First Floor)\, West Allis\, WI\, 53214
END:VEVENT
BEGIN:VEVENT
DTSTART;TZID=America/Chicago:20240521T180000
DTEND;TZID=America/Chicago:20240521T200000
DTSTAMP:20260425T063813
CREATED:20240508T190554Z
LAST-MODIFIED:20240508T195914Z
UID:5891-1716314400-1716321600@alanon-wi.org
SUMMARY:Keep it Simple 2nd Anniversary Potluck & Meeting\, Tuesday\, May 21\, 6pm\, In Person
DESCRIPTION:Join us to celebrate the 2nd Anniversary of Keep It Simple AFG at Christ the Servant Lutheran Church in Waukesha. The potluck starts at 6pm. – Please bring a dish to pass. The regular Al-Anon meeting starts at 7pm. \nEnter building near sign for the Office Door.
URL:https://alanon-wi.org/event/keep-it-simple-2nd-anniversary-potluck-meeting-tuesday-may-21-6pm-in-person/
LOCATION:Keep it Simple AFG – Christ the Servant Lutheran Church\, 2016 Center Rd\, Waukesha\, WI\, 53189
END:VEVENT
BEGIN:VEVENT
DTSTART;TZID=America/Chicago:20240509T123000
DTEND;TZID=America/Chicago:20240509T140000
DTSTAMP:20260425T063813
CREATED:20240408T154312Z
LAST-MODIFIED:20240408T154312Z
UID:5788-1715257800-1715263200@alanon-wi.org
SUMMARY:Al-Anon Open Meeting with AA Participation\, Thursday\, May 9\, 12:30pm\, In Person
DESCRIPTION:Spring Open Meeting sponsored by: Thursday Afternoon Discussion\, Menomonee Falls \nAl-Anon Speaker: Dee K.\nAA Speaker: Jim K. \nOpen Meeting with appetizers and desserts \nParking in rear. Use rear entrance. \nDownload Event Flyer
URL:https://alanon-wi.org/event/al-anon-open-meeting-with-aa-participation-thursday-may-9-1230pm-in-person/
LOCATION:Thursday Afternoon Discussion – Gloria Dei Church\, W180N7863 Town Hall Road\, Menomonee Falls\, Wisconsin\, 53051
END:VEVENT
BEGIN:VEVENT
DTSTART;TZID=America/Chicago:20240504T183000
DTEND;TZID=America/Chicago:20240504T200000
DTSTAMP:20260425T063813
CREATED:20240504T031521Z
LAST-MODIFIED:20240504T031919Z
UID:5857-1714847400-1714852800@alanon-wi.org
SUMMARY:District 12 Open Meeting\, Saturday\, May 4\, 2024\, In-Person and Zoom
DESCRIPTION:SEE  FLYER  FOR DETOUR INSTRUCTIONS! \nDistrict 12 Monthly open meeting Hosted by: The Happy Hour Group\, Unity Club\, West Bend\, WI \nSaturday\, May 4th 6:30 Fellowship\, A snack or dish to pass is appreciated. \n7pm Open Meeting. 2240 Living word Lane\, Jackson\, WI 53037 Parking in entrance in rear of church. \nZoom: Dial 1-646-558-8656. Meeting ID 859 6540 8345. Password 202425. Participant ID #0 \nAl-Anon speaker: Nancy H. Hartford\, WI \nAA Speaker: Marty P. Campbellsport\, WI
URL:https://alanon-wi.org/event/district-12-open-meeting-saturday-may-4-2024-in-person-and-zoom/
LOCATION:Living Word Lutheran Church\, 2240 Living Word Lane\, Jackson\, WI\, 53037\, United States
END:VEVENT
BEGIN:VEVENT
DTSTART;TZID=America/Chicago:20240429T183000
DTEND;TZID=America/Chicago:20240429T193000
DTSTAMP:20260425T063813
CREATED:20240413T224757Z
LAST-MODIFIED:20240413T224757Z
UID:5806-1714415400-1714419000@alanon-wi.org
SUMMARY:Al-Anon Open Meeting with AA Participation\, Monday\, April 29\, 6:30pm\, In Person and Zoom
DESCRIPTION:Hosted by: Eastside Monday Night – Shorewood\nAl-Anon Speaker: Paige H.\nAA Speaker: Sarah B. \nThe open meeting is on the second floor of the church in the Parlor Room.\nIn person – Parking lot and street parking available.\nZoom: 82163750224\, Meeting ID: 821 6375 0224\, Passcode: 193800
URL:https://alanon-wi.org/event/al-anon-open-meeting-with-aa-participation-monday-april-29-630pm-in-person-and-zoom/
LOCATION:Eastside Monday Night – North Shore Presbyterian Church\, 4048 N. Bartlett Ave.\, Shorewood\, WI\, 53211\, United States
END:VEVENT
BEGIN:VEVENT
DTSTART;TZID=America/Chicago:20240429T183000
DTEND;TZID=America/Chicago:20240429T193000
DTSTAMP:20260425T063813
CREATED:20240404T185807Z
LAST-MODIFIED:20240404T185859Z
UID:5764-1714415400-1714419000@alanon-wi.org
SUMMARY:Al-Anon Open Meeting with AA Participation\, Monday\, April 29\, 6:30pm\, In-Person
DESCRIPTION:Sponsored By: Lake Country Let Go and Let God AFG at Christ the King Lutheran Church in Delafield. \nAl-Anon Speaker: Sydney S. of Brookfield\nAA Speaker: Carl G. of Waukesha
URL:https://alanon-wi.org/event/al-anon-open-meeting-with-aa-participation-april-29-630pm-in-person/
LOCATION:Lake Country Let Go and Let God AFG – Christ the King Lutheran Church\, 1600 N. Genesee St.\, Delafield\, Wisconsin\, 53018
END:VEVENT
BEGIN:VEVENT
DTSTART;TZID=America/Chicago:20240427T093000
DTEND;TZID=America/Chicago:20240427T140000
DTSTAMP:20260425T063813
CREATED:20240404T173443Z
LAST-MODIFIED:20240422T145929Z
UID:5755-1714210200-1714226400@alanon-wi.org
SUMMARY:Spring Into Recovery 2024 Fundraiser\, Saturday\, April 27\, 9:30am - 2pm\, In Person
DESCRIPTION:Spring into Recovery! ~ Al-Anon Service Center’s Annual Fundraiser includes: Morning Speakers\, Afternoon Panel\, Lunch (optional – only 200 available)\, Raffle Baskets\, Silent Auction and Free Parking. \nRaffle Guidelines: English Information OR Spanish Information \nClick here for Silent Auction \nDoors open 9:30am ~ Speakers at 10am\nAl-Anon Speaker: Sharon Y.\nAA Speaker: John F. \nLunch at Noon ~ Panel at 1pm\nAl-Anon panel members: Melissa L. and Kiel T.\nAA panel members: Michelle N. and Matt K. \nEvent location: Summit Place\, 6737 W. Washington St.\, West Allis\, WI 53214 ~ Atrium & conference rooms \nTicket Cost: $25/each (includes box lunch ~ choice of: __Regular __Vegetarian __Gluten Free)\nEvent Only Cost: $10/each \nRegister online at\nhttps://alanonfgsewi.betterworld.org/\nOr fill out the form on the downloadable event flyer and mail it with check payable to: AFG of SE Wisconsin\, 6737 W. Washington St.\, Suite 2125\, West Allis\, WI 53214 \nDownloadable Event ENGLISH Flyer \nDownloadable Event SPANISH Flyer
URL:https://alanon-wi.org/event/spring-into-recovery-2024-fundraiser/
LOCATION:Summit Place – West Allis\, 6737 W. Washington St.\, West Allis\, WI\, 53214\, United States
END:VEVENT
BEGIN:VEVENT
DTSTART;TZID=America/Chicago:20240426T160000
DTEND;TZID=America/Chicago:20240428T123000
DTSTAMP:20260425T063813
CREATED:20240228T034234Z
LAST-MODIFIED:20240229T033238Z
UID:5660-1714147200-1714307400@alanon-wi.org
SUMMARY:35th Annual Al-Anon Adult Child Workshop\, Friday 4/26 - Sunday 4/28\, In-Person
DESCRIPTION:Al-Anon SpeakerS:  Cristina N.\, Jessica L.\, Dave H. \nOver Friday through Sunday there are 3 main speakers\, a panel discussion\, 30+ topics with breakout meetings\, guided meditations\, crafts\, movie\, campfire\, and a dance. \nAttendees need to register for the event and also reserve their room with GLCC. \nVenue Name:\nGreen Lake Conference Center (GLCC) \nSee Flyer for details and registration information – FLYER_04-24_04-26-24
URL:https://alanon-wi.org/event/35th-annual-al-anon-adult-child-workshop-friday-4-26-sunday-4-28-in-person/
LOCATION:Green Lake Conference Center – Green Lake\, WI\, W2511 State Highway 23\, Green Lake\, WI
ORGANIZER;CN="ACAFG Committee":MAILTO:acafgworkshop@gmail.com
END:VEVENT
BEGIN:VEVENT
DTSTART;TZID=America/Chicago:20240425T190000
DTEND;TZID=America/Chicago:20240425T203000
DTSTAMP:20260425T063813
CREATED:20231120T184541Z
LAST-MODIFIED:20231120T184541Z
UID:5448-1714071600-1714077000@alanon-wi.org
SUMMARY:Al-Anon Service Board Meeting\, Thursday\, April 25\, 7pm\, Hybrid
DESCRIPTION:Access the Zoom Meeting–\nMeeting ID: 574 020 0987\nPasscode: 2572415 \nNote: All meetings are Hybrid. For those attending in-person\, the usual meeting location is in Room 2125 (First Floor).
URL:https://alanon-wi.org/event/al-anon-service-board-meeting-thursday-april-25-7pm-hybrid/
LOCATION:Al-Anon Local Information Service Center at Summit Place\, 6737 W Washington St\, Suite 2125 (First Floor)\, West Allis\, WI\, 53214
END:VEVENT
BEGIN:VEVENT
DTSTART;TZID=America/Chicago:20240420T100000
DTEND;TZID=America/Chicago:20240420T120000
DTSTAMP:20260425T063813
CREATED:20240222T174905Z
LAST-MODIFIED:20240222T174905Z
UID:5648-1713607200-1713614400@alanon-wi.org
SUMMARY:District 2: Al-Anon District Meeting\, Saturday\, April 20\, 10am\, In Person
DESCRIPTION:Open to all members. You do not have to be a Group Representative (GR) to attend!
URL:https://alanon-wi.org/event/district-2-al-anon-district-meeting-saturday-april-20-10am-in-person/
LOCATION:Summit Place – West Allis\, 6737 W. Washington St.\, West Allis\, WI\, 53214\, United States
END:VEVENT
BEGIN:VEVENT
DTSTART;TZID=America/Chicago:20240415T183000
DTEND;TZID=America/Chicago:20240415T193000
DTSTAMP:20260425T063813
CREATED:20240402T214040Z
LAST-MODIFIED:20240402T214040Z
UID:5747-1713205800-1713209400@alanon-wi.org
SUMMARY:Al-Anon Open Meeting with AA Participation\, Monday\, April 15\, 6:30pm\, In Person
DESCRIPTION:Hosted by: Brookfield Courage To Change\nAl-Anon Speaker: Mike S.\nAA Speaker: Shari A.
URL:https://alanon-wi.org/event/al-anon-open-meeting-with-aa-participation-monday-april-15-630pm-in-person/
LOCATION:St. John Vianney Church\, 1755 N. Calhoun Rd\, Room 209\, Brookfield\, WI\, 53005\, United States
END:VEVENT
BEGIN:VEVENT
DTSTART;TZID=America/Chicago:20240407T190000
DTEND;TZID=America/Chicago:20240407T200000
DTSTAMP:20260425T063813
CREATED:20240222T175513Z
LAST-MODIFIED:20240222T175636Z
UID:5651-1712516400-1712520000@alanon-wi.org
SUMMARY:Al-Anon Open Speaker Meeting\, Sunday\, April 7\, 7pm\, In Person
DESCRIPTION:Al-Anon Speaker: Colleen L from Waukesha \nThere will be 2 Al-Anon ten minute speakers (TBA) & a main speaker. The event will end promptly at 8PM. \nSponsored By: Pewaukee Serenity
URL:https://alanon-wi.org/event/al-anon-open-speaker-meeting-sunday-april-7-7pm-in-person/
LOCATION:Galilee Lutheran Church\, N24W26430 Crestview Dr.\, Pewaukee\, WI\, 53072\, United States
END:VEVENT
BEGIN:VEVENT
DTSTART;TZID=America/Chicago:20240406T183000
DTEND;TZID=America/Chicago:20240406T200000
DTSTAMP:20260425T063813
CREATED:20240319T172614Z
LAST-MODIFIED:20240319T172800Z
UID:5723-1712428200-1712433600@alanon-wi.org
SUMMARY:District 12 Monthly Open Meeting\, Saturday\, April 6\, 6:30pm\, Hybrid
DESCRIPTION:AA Open Meeting with Al-Anon Participation \nHosted by: The Tuesday Women’s Big Book Group\, Hartford\, WI \n6:30pm Fellowship | 7:00pm Speakers \nAl-Anon Speaker: Julie G\, New Berlin\, WI \nAA Speaker: Nancy G. Madison\, WI \nA dish to pass is appreciated. \nParking and entrance in the rear of the church. \nFLYER_APRIL 6_2024 \n>>> NEW ZOOM INFO <<<\nDIAL 1-646-558-8656\nMEETING ID 859 6450 8345\nPASSWORD 202425\n#0 PARTICIPANT ID
URL:https://alanon-wi.org/event/district-12-monthly-open-meeting-saturday-april-6-630pm-hybrid/
LOCATION:Living Word Lutheran Church\, 2240 Living Word Lane\, Jackson\, WI\, 53037\, United States
END:VEVENT
BEGIN:VEVENT
DTSTART;TZID=America/Chicago:20240404T183000
DTEND;TZID=America/Chicago:20240404T193000
DTSTAMP:20260425T063813
CREATED:20240322T145756Z
LAST-MODIFIED:20240322T150013Z
UID:5733-1712255400-1712259000@alanon-wi.org
SUMMARY:Al-Anon Open Meeting with AA Participation\, Thursday\, April 4\, 6:30pm\, In Person
DESCRIPTION:Al-Anon Open Meeting with AA Participation \nHosted By: Brookfield Twelve Steppers \n6:30 – 7:30pm \nAl-Anon Speaker: Sheri M-Richfield \nAA Speaker: Jenny S-Menomonee Falls
URL:https://alanon-wi.org/event/al-anon-open-meeting-with-aa-participation-thursday-april-4-630pm-in-person/
LOCATION:Twelve Steppers – St. John’s Lutheran Church\, 20275 Davidson Rd.\, Brookfield\, Wisconsin\, 53045
END:VEVENT
BEGIN:VEVENT
DTSTART;TZID=America/Chicago:20240328T190000
DTEND;TZID=America/Chicago:20240328T203000
DTSTAMP:20260425T063813
CREATED:20231120T183006Z
LAST-MODIFIED:20231120T183006Z
UID:5438-1711652400-1711657800@alanon-wi.org
SUMMARY:Al-Anon Intergroup Meeting\, Thursday\, March 28\, 7pm\, Hybrid
DESCRIPTION:Access the Zoom Meeting–\nMeeting ID: 574 020 0987\nPasscode: 2572415 \nNote: All meetings are Hybrid. For those attending in-person\, the usual meeting location is in Room 2135 (First Floor).
URL:https://alanon-wi.org/event/al-anon-intergroup-meeting-thursday-march-28-7pm-hybrid/
LOCATION:Al-Anon Local Information Service Center at Summit Place\, 6737 W Washington St\, Suite 2125 (First Floor)\, West Allis\, WI\, 53214
END:VEVENT
BEGIN:VEVENT
DTSTART;TZID=America/Chicago:20240324T173000
DTEND;TZID=America/Chicago:20240324T183000
DTSTAMP:20260425T063813
CREATED:20240312T045510Z
LAST-MODIFIED:20240312T045510Z
UID:5685-1711301400-1711305000@alanon-wi.org
SUMMARY:Living in the Solution Open Meeting\, Sunday\, March 24\, 5:30pm\, In-Person
DESCRIPTION:Al-Anon Open Meeting with AA Participation\nSponsored by Living in the Solution AFG\nAl-Anon Speaker: Kevin M.\nAA Speaker: Lucas P. \nLocation:\nDewey Center Lighthouse Building\n7711 W Chestnut St\, Wauwatosa\, WI 53213\nParking lots off of Chestnut St and Meyer Way \nFLYER_MAR_24_2024.pdf
URL:https://alanon-wi.org/event/living-in-the-solution-open-meeting-sunday-march-24-530pm-in-person/
LOCATION:Dewey Center Lighthouse Building\, 1220 Dewey Ave.\, Wauwatosa\, WI\, 53213
END:VEVENT
BEGIN:VEVENT
DTSTART;TZID=America/Chicago:20240323T133000
DTEND;TZID=America/Chicago:20240323T160000
DTSTAMP:20260425T063813
CREATED:20240214T214824Z
LAST-MODIFIED:20240223T211400Z
UID:5645-1711200600-1711209600@alanon-wi.org
SUMMARY:District 2 Al-Anon Movie Event\, Saturday\, March 23\, 1:30pm\, In Person
DESCRIPTION:Please join in this District 2 fundraising event as Al-Anon members gather to celebrate recovery and view the movie “When Love Is Not Enough: The Lois Wilson Story.” Seventh Tradition donations at this event will support District 2 work and activities. \nBeverages and snacks will be provided. If you wish to bring something to share\, you are welcome to do so. \nSocial time and refreshments at 1:30 pm\nMovie showing at 2:00 pm\nLocation is Room 2135 at Summit Place in West Allis.
URL:https://alanon-wi.org/event/district-2-al-anon-movie-event-saturday-march-23-130pm-in-person/
LOCATION:Summit Place – West Allis\, 6737 W. Washington St.\, West Allis\, WI\, 53214\, United States
END:VEVENT
BEGIN:VEVENT
DTSTART;TZID=America/Chicago:20240316T200000
DTEND;TZID=America/Chicago:20240316T200000
DTSTAMP:20260425T063813
CREATED:20240207T230136Z
LAST-MODIFIED:20240214T212612Z
UID:5610-1710619200-1710619200@alanon-wi.org
SUMMARY:District 8 2024 Spaghetti Dinner\, Saturday\, March 16\, 4:30pm\, In Person
DESCRIPTION:2024 Spaghetti Dinner and Speaker Meeting \nDoors Open at 4:30pm | Dinner served at 5:00pm | Speakers start at 6:30pm \n*See Eventbrite link for details.  Must pre-register. \nAlanon Speaker: Ann C. \nAA Speaker: Chuck K.S. \nBring a dessert to share.
URL:https://alanon-wi.org/event/district-8-2024-spaghetti-dinner-saturday-march-16-430pm/
LOCATION:St. Dennis Parish\, 413 Dempsey Rd\, Madison\, WI\, 53714\, United States
END:VEVENT
BEGIN:VEVENT
DTSTART;TZID=America/Chicago:20240305T183000
DTEND;TZID=America/Chicago:20240305T200000
DTSTAMP:20260425T063813
CREATED:20240226T025327Z
LAST-MODIFIED:20240226T025327Z
UID:5657-1709663400-1709668800@alanon-wi.org
SUMMARY:Franklin Serenity Open Speaker Meeting\, Tuesday\, March 5\, 2024\, 6:30pm\, In-Person
DESCRIPTION:Al-Anon Open Speaker Meeting\nwith AA Participation \nSpeakers: Al-Anon: Marilyn D \nAA: Jim D \nFLYER_03-05-24 \nJoin us in fellowship after the meeting.
URL:https://alanon-wi.org/event/franklin-serenity-open-speaker-meeting-tuesday-march-5-2024-630pm-in-person/
LOCATION:Franklin Serenity – Faith Presbyterian Church\, 3800 W. Rawson Avenue\, Franklin\, Wisconsin\, 53132
END:VEVENT
BEGIN:VEVENT
DTSTART;TZID=America/Chicago:20240302T183000
DTEND;TZID=America/Chicago:20240302T203000
DTSTAMP:20260425T063813
CREATED:20240208T223806Z
LAST-MODIFIED:20240208T224011Z
UID:5627-1709404200-1709411400@alanon-wi.org
SUMMARY:District 12 Monthly Open Meeting\, Saturday\, March 2\, 6:30pm\, Hybrid
DESCRIPTION:AA Open Meeting with Al-Anon Participation \nHosted by: The New Freedom Slinger Group \n6:30pm Fellowship | 7:00pm Speakers \nAl-Anon Speaker: Laurie B.\, Germantown \nAA Speaker: Sam R.\, Nashota \nA dish to pass is appreciated. \nParking and entrance in the rear of the church. \nFLYER_MAR_2_2024 \n>>> NEW ZOOM INFO <<<\nDIAL 1-646-558-8656\nMEETING ID 859 6450 8345\nPASSWORD 202425\n#0 PARTICIPANT ID
URL:https://alanon-wi.org/event/district-12-monthly-open-meeting-saturday-march-2-630pm-hybrid/
LOCATION:Living Word Lutheran Church\, 2240 Living Word Lane\, Jackson\, WI\, 53037\, United States
END:VEVENT
BEGIN:VEVENT
DTSTART;TZID=America/Chicago:20240302T080000
DTEND;TZID=America/Chicago:20240303T130000
DTSTAMP:20260425T063813
CREATED:20240301T025945Z
LAST-MODIFIED:20240301T025945Z
UID:5663-1709366400-1709470800@alanon-wi.org
SUMMARY:Lake Area Club Annual Buzzards Roost Recovery Weekend\, March 2-3\, 2024\, In-Person
DESCRIPTION:AA Event with Al-Anon participation \nSpeakers every 1/2 Hour from 8:30am to 1pm \nBreakfast will be served from 8am to 12pm both days. \nTickets not needed for speakers. \nSee flyer for details – FLYER_0302_0303_2024 \nSpeaker list follows:
URL:https://alanon-wi.org/event/lake-area-club-annual-buzzards-roost-recovery-weekend-march-2-3-2024-in-person/
LOCATION:Lake Area Club\, N60W35878 Lake Dr\, Oconomowoc\, Wisconsin\, 53066
END:VEVENT
BEGIN:VEVENT
DTSTART;TZID=America/Chicago:20240229T120000
DTEND;TZID=America/Chicago:20240229T130000
DTSTAMP:20260425T063813
CREATED:20240203T021324Z
LAST-MODIFIED:20240203T023848Z
UID:5595-1709208000-1709211600@alanon-wi.org
SUMMARY:Open Al-Anon Meeting with AA participation\, Thursday\, February 29 at Noon\, In Person
DESCRIPTION:Al-Anon Open Meeting With AA participation\nThursday\, February 29th at 12pm\nAl-Anon speaker is Megan O.\nAA speaker is Roque\nSummit Place\n6737 W. Washington Street\nWest Allis\, 53214\nPark in the visitor’s lot\nGlass Patio 1st floor room 2143\nPast the deli on the right\nSponsored by Al-Anon ‘12 at 12’ group \nFlyer – click here: FLYER \n 
URL:https://alanon-wi.org/event/open-al-anon-meeting-with-aa-participation-thursday-february-29-at-noon-in-person/
LOCATION:Summit Place – West Allis\, 6737 W. Washington St.\, West Allis\, WI\, 53214\, United States
ORGANIZER;CN="Al-Anon 12 at 12 Group":MAILTO:alanon@alanon-wi.org
END:VEVENT
BEGIN:VEVENT
DTSTART;TZID=America/Chicago:20240222T183000
DTEND;TZID=America/Chicago:20240222T203000
DTSTAMP:20260425T063813
CREATED:20231120T182351Z
LAST-MODIFIED:20240816T121813Z
UID:5436-1708626600-1708633800@alanon-wi.org
SUMMARY:Al-Anon Service Board Meeting\, Thursday\, February 22\, 6:30pm
DESCRIPTION:
URL:https://alanon-wi.org/event/al-anon-service-board-meeting-thursday-february-22-7pm-hybrid/
LOCATION:Al-Anon Local Information Service Center at Summit Place\, 6737 W Washington St\, Suite 2125 (First Floor)\, West Allis\, WI\, 53214
END:VEVENT
BEGIN:VEVENT
DTSTART;TZID=America/Chicago:20240217T180000
DTEND;TZID=America/Chicago:20240217T210000
DTSTAMP:20260425T063813
CREATED:20240203T014509Z
LAST-MODIFIED:20240203T014509Z
UID:5587-1708192800-1708203600@alanon-wi.org
SUMMARY:Group 48 - 51st Anniversary Meeting\, Saturday\, February 17 at 6pm\, In Person
DESCRIPTION:Group 48 – 51st Anniversary Meeting \nAl-Anon Speaker: Katie S.\nAA Speaker: Houston S.\n6:00 – 7:00pm Hospitality\n7:00 – 9:00pm Speakers\nDesserts\, snacks\, coffee\, soda and lots of fellowship. \nImmaculate Conception\n1051 E Russell Ave – Enter on Russell Ave – School Hall\nMilwaukee\, WI 53207
URL:https://alanon-wi.org/event/group-48-51st-anniversary-meeting-saturday-february-17-at-6pm-in-person/
LOCATION:Immaculate Conception\, 1051 E Russell Ave\, Milwaukee\, WI\, 54207
END:VEVENT
END:VCALENDAR