BEGIN:VCALENDAR
VERSION:2.0
PRODID:-//Al-Anon Family Groups of Southeastern Wisconsin - ECPv6.15.20//NONSGML v1.0//EN
CALSCALE:GREGORIAN
METHOD:PUBLISH
X-WR-CALNAME:Al-Anon Family Groups of Southeastern Wisconsin
X-ORIGINAL-URL:https://alanon-wi.org
X-WR-CALDESC:Events for Al-Anon Family Groups of Southeastern Wisconsin
REFRESH-INTERVAL;VALUE=DURATION:PT1H
X-Robots-Tag:noindex
X-PUBLISHED-TTL:PT1H
BEGIN:VTIMEZONE
TZID:America/Chicago
BEGIN:DAYLIGHT
TZOFFSETFROM:-0600
TZOFFSETTO:-0500
TZNAME:CDT
DTSTART:20250309T080000
END:DAYLIGHT
BEGIN:STANDARD
TZOFFSETFROM:-0500
TZOFFSETTO:-0600
TZNAME:CST
DTSTART:20251102T070000
END:STANDARD
BEGIN:DAYLIGHT
TZOFFSETFROM:-0600
TZOFFSETTO:-0500
TZNAME:CDT
DTSTART:20260308T080000
END:DAYLIGHT
BEGIN:STANDARD
TZOFFSETFROM:-0500
TZOFFSETTO:-0600
TZNAME:CST
DTSTART:20261101T070000
END:STANDARD
BEGIN:DAYLIGHT
TZOFFSETFROM:-0600
TZOFFSETTO:-0500
TZNAME:CDT
DTSTART:20270314T080000
END:DAYLIGHT
BEGIN:STANDARD
TZOFFSETFROM:-0500
TZOFFSETTO:-0600
TZNAME:CST
DTSTART:20271107T070000
END:STANDARD
END:VTIMEZONE
BEGIN:VEVENT
DTSTART;TZID=America/Chicago:20260316T183000
DTEND;TZID=America/Chicago:20260316T193000
DTSTAMP:20260423T150509
CREATED:20260208T223444Z
LAST-MODIFIED:20260224T002121Z
UID:8261-1773685800-1773689400@alanon-wi.org
SUMMARY:Al-Anon Open Meeting with AA Participation\, Mon Mar 16\, 6:30pm\, Brookfield
DESCRIPTION:Brookfield Courage to Change Al-Anon Open Meeting with AA Participation\, Monday\, March 16\, 6:30-7:30 p.m.\, 2nd floor at St. John Vianney Church\, 1755 N. Calhoun Rd\, Brookfield\, WI \nAl-Anon Speaker: Kelly K; AA Speaker: Josh \n  \n 
URL:https://alanon-wi.org/event/al-anon-open-meeting-with-aa-participation-monday-march-16-2026-630-p-m/
LOCATION:Brookfield Courage to Change\, 1755 N. Calhoun Rd\, Brookfield\, WI\, 53005\, United States
END:VEVENT
BEGIN:VEVENT
DTSTART;TZID=America/Chicago:20260321T160000
DTEND;TZID=America/Chicago:20260321T203000
DTSTAMP:20260423T150509
CREATED:20260204T201402Z
LAST-MODIFIED:20260224T002523Z
UID:8224-1774108800-1774125000@alanon-wi.org
SUMMARY:Al-Anon Open Meeting with AA Participation Sat Mar 21\, 5pm\, Cross Plains\, WI
DESCRIPTION:2026 District 8 Al-Anon Spaghetti Dinner & Speaker Meeting\, Saturday\, March 21st\nSt. Francis Xavier Catholic Church\, 2947 Thinnes Street\, Cross Plains\, WI 53528 \nAl-Anon Speaker: Bridget C. from Muskego\, WI\nAA Speaker: Brian L. from Elmhurst\, IL \nPlease join us for the 2026 District 8 Al-Anon Spaghetti Dinner & Speaker Meeting!\n– Join us for delicious food\, fun raffle baskets and amazing speakers!\n– Doors open at 4:00 PM\, with dinner served at 5:00 PM and speakers beginning at 6:15 PM.\n– Register before March 14; no walk-ins\n– Free childcare\n– Please bring a dessert to share\n– Interested in service opportunities at the event? Please email spaghettidinnerafg@gmail.com \n  \n 
URL:https://alanon-wi.org/event/al-anon-open-meeting-with-aa-participation-saturday-march-21-2026-5pm-cross-plains-wi/
LOCATION:St. Francis Xavier Church\, 2947 Tinnes St\, Cross Plaines\, WI\, 53528\, United States
END:VEVENT
BEGIN:VEVENT
DTSTART;TZID=America/Chicago:20260328T083000
DTEND;TZID=America/Chicago:20260328T143000
DTSTAMP:20260423T150509
CREATED:20260206T123055Z
LAST-MODIFIED:20260309T180020Z
UID:8249-1774686600-1774708200@alanon-wi.org
SUMMARY:Spring Into Recovery 2026\, Sat Mar 28\, 8:30am\, West Allis
DESCRIPTION:Spring Into Recovery 2026 Fundraiser\nJoin in supporting the Al-Anon Service Center’s Annual Fundraiser on March 28. \nProgram includes: speakers\, panel presentation\, optional box lunch\, raffle baskets and free parking. \nSchedule:\n8:30am     Doors Open\n9:30am     Welcome by our Board Chair\n9:45am     Al-Anon / AA / Alateen Speakers\n12:00pm   Lunch *Pre-order by March 20\n1:15pm     Panel of Al-Anon & AA Speakers\n2:15pm     Announce Winners of Baskets & 50/50 Raffle **Must be present to win\n2:30pm     Closing \nEvent page: HERE \nBuy your tickets: HERE\nor use the QR code \n \nDownload & Share the Event Flyer with family & friends: HERE \nIf you plan to attend\, consider signing up to volunteer and/or contributing a baked good for the event. Choose a volunteer spot or sign up to bring a baked good HERE. \nLocation: Summit Place\, 6737 W. Washington St.\, West Allis\, WI 53214 \n 
URL:https://alanon-wi.org/event/spring-fling-sat-mar-28-9am-west-allis/
LOCATION:Al-Anon Local Information Service Center at Summit Place\, 6737 W Washington St\, Suite 2125 (First Floor)\, West Allis\, WI\, 53214
ORGANIZER;CN="Information Service Office":MAILTO:alanon@alanon-wi.org
END:VEVENT
BEGIN:VEVENT
DTSTART;TZID=America/Chicago:20260329T173000
DTEND;TZID=America/Chicago:20260329T183000
DTSTAMP:20260423T150509
CREATED:20260224T200126Z
LAST-MODIFIED:20260319T211418Z
UID:8326-1774805400-1774809000@alanon-wi.org
SUMMARY:Al-Anon Open Meeting\, Sun Mar 29\, 5:30pm Wauwatosa
DESCRIPTION:Open Al-Anon meeting with AA participation\nOrganized by:  Living in the Solution \nAl-Anon Speaker: Julie W\nAA Speaker: Josue (Sway) J \nDewey Center Lighthouse \n1220 Dewey Ave\nWauwatosa\, WI 53213 \nDownload flyer here
URL:https://alanon-wi.org/event/al-anon-open-meeting-sunday-march-29-530pm-wauwatosa/
LOCATION:Dewey Center Lighthouse Building\, 1220 Dewey Ave.\, Wauwatosa\, WI\, 53213
END:VEVENT
BEGIN:VEVENT
DTSTART;TZID=America/Chicago:20260330T183000
DTEND;TZID=America/Chicago:20260330T193000
DTSTAMP:20260423T150509
CREATED:20260212T192313Z
LAST-MODIFIED:20260224T002212Z
UID:8264-1774895400-1774899000@alanon-wi.org
SUMMARY:Al-Anon Open Meeting with AA Participation\, Mon Mar 30\, 6:30pm\, Delafield
DESCRIPTION:Lake Country Let Go and Let God AFG will host an Al-Anon Open Meeting with AA Participation 6:30 p.m. Monday\, March 30\, 2026 at Christ the King Lutheran Church\, 1600 N. Genesee St.\, Delafield. \nAl-Anon Speaker: Jill    AA Speaker: Dani \n 
URL:https://alanon-wi.org/event/al-anon-open-meeting-with-aa-participation-monday-march-30-630-p-m/
LOCATION:Lake Country Let Go and Let God AFG – Christ the King Lutheran Church\, 1600 N. Genesee St.\, Delafield\, Wisconsin\, 53018
END:VEVENT
BEGIN:VEVENT
DTSTART;TZID=America/Chicago:20260330T183000
DTEND;TZID=America/Chicago:20260330T193000
DTSTAMP:20260423T150509
CREATED:20260311T201215Z
LAST-MODIFIED:20260319T210725Z
UID:8415-1774895400-1774899000@alanon-wi.org
SUMMARY:Al-Anon Open Meeting with AA Participation\, Mon Mar 30\, 6:30pm\, Shorewood
DESCRIPTION:Eastside Monday Night Al-Anon invites you to our 30th Birthday Open Meeting!\nMonday\, March 30\, 2026 6:30 p.m. \nAl-Anon Speaker:  Marybeth;\nAA-Speaker: TBA \nNorth Shore Presbyterian Church\n4048 N Bartlett Ave\nShorewood\, WI 53211 \nInstructions: Entry from the parking lot\, up one flight \n 
URL:https://alanon-wi.org/event/al-anon-open-meeting-with-aa-participation-monday-mar-30-630-730/
LOCATION:Eastside Monday Night – North Shore Presbyterian Church\, 4048 N. Bartlett Ave.\, Shorewood\, WI\, 53211\, United States
END:VEVENT
BEGIN:VEVENT
DTSTART;TZID=America/Chicago:20260404T183000
DTEND;TZID=America/Chicago:20260404T200000
DTSTAMP:20260423T150509
CREATED:20250205T053931Z
LAST-MODIFIED:20260331T200334Z
UID:6841-1775327400-1775332800@alanon-wi.org
SUMMARY:District 12 Monthly Open Meeting\, Sat Apr 4\, 6:30pm\, Jackson\, Hybrid
DESCRIPTION:District 12 AA Open AA Meeting with Al-Anon Participation on Saturday April 4 at 6:30pm\nIn Person & Zoom (info below) \nLiving Word Lutheran Church:  2240 Living Word Lane\, Jackson\, WI \nParking and entrance is at the rear of the Church\nHosted By:  The Tuesday Women’s Big Book Group\, Hartford\, WI \nAl-Anon Speaker:  Niki M\, Menomonee Falls\, WI\nAA Speaker:  Kelli C\, Silver Lake WI \nAdditional Information: A snack or dish to pass is appreciated \n>>> ZOOM INFO <<<\nDIAL 1-646-558-8656\nMEETING ID 859 6450 8345\nPASSWORD 202425\n#0 PARTICIPANT ID \nFLYER_APR_4 \nPlease note.\nJuly 4 – HOST NEEDED.\nSeptember 5 – NO MEETING / Month of District picnic \nHELP to SUPPORT DISTRICT 12\n*Share your group message – host an Open Meeting\n*Get Involved – become a committee chairperson or GR\n*Attend District 12 monthly meetings – 1st Wed. of the month 6pm\, Jackson Community Center\, Jackson WI
URL:https://alanon-wi.org/event/district-12-monthly-open-meeting-saturday-april-4-630pm-jackson-hybrid/
LOCATION:Living Word Lutheran Church\, 2240 Living Word Lane\, Jackson\, WI\, 53037\, United States
END:VEVENT
BEGIN:VEVENT
DTSTART;TZID=America/Chicago:20260411T063000
DTEND;TZID=America/Chicago:20260411T200000
DTSTAMP:20260423T150509
CREATED:20260309T193518Z
LAST-MODIFIED:20260406T164428Z
UID:8393-1775889000-1775937600@alanon-wi.org
SUMMARY:Al-Anon Open Meeting with AA Participation\, Sat Apr 11\, 6:30pm\, Jackson
DESCRIPTION:DISTRICT 12 MONTHLY OPEN MEETING Organized by: The Tuesday Women’s Big Book Group Hartford\, WI. 6:30 pm Fellowship; 7:00 pm Meeting. A snack or dish to pass is appreciated. Al-Anon Speaker: TBA; AA Speaker:  Kurt W. from Barton\, WI \nLiving Word Lutheran Church\, 2240 Living Word Lane\, Jackson\, WI 53037 (Parking and entrance in the rear of the church) \nFlyer_APR_11_2026
URL:https://alanon-wi.org/event/al-anon-open-meeting-with-aa-participation-saturday-april-11-630-p-m/
LOCATION:Living Word Lutheran Church\, 2240 Living Word Lane\, Jackson\, WI\, 53037\, United States
END:VEVENT
BEGIN:VEVENT
DTSTART;TZID=America/Chicago:20260418T100000
DTEND;TZID=America/Chicago:20260418T120000
DTSTAMP:20260423T150509
CREATED:20260324T214805Z
LAST-MODIFIED:20260331T195047Z
UID:8442-1776506400-1776513600@alanon-wi.org
SUMMARY:District 2 Meeting\, Sat Apr 18\, 10am\, West Allis
DESCRIPTION:District 2 Meeting\nSaturday 4/18/2026\, 10am – 12pm\nWest Allis\, WI    (in person)\nEvent Details:\nDistrict 2 meeting: We come together as a district to decide what kind of cool things we want to do in Milwaukee County South. Group Reps are voting members of the district\, but all are welcome. Folks from districts without a DR are encouraged to come and see how fun it is to be part of an active district. Let District 2’s enthusiasm rub off on you! \nVenue Name:  Summit Place\nGlass Patio:   Room #2143 \nAddress:\n 6737 W. Washington St.\nConference Room #2135\nWest Allis\,  WI  53217
URL:https://alanon-wi.org/event/district-2-meeting-saturday-4-18-2026-10am-12pm-west-allis/
LOCATION:Summit Place – West Allis\, 6737 W. Washington St.\, West Allis\, WI\, 53214\, United States
END:VEVENT
BEGIN:VEVENT
DTSTART;TZID=America/Chicago:20260429T190000
DTEND;TZID=America/Chicago:20260429T200000
DTSTAMP:20260423T150509
CREATED:20260319T203806Z
LAST-MODIFIED:20260319T203806Z
UID:8424-1777489200-1777492800@alanon-wi.org
SUMMARY:Al-Anon Open Meeting with AA Participation\, Wed Apr 29\, 7pm\, Pewaukee
DESCRIPTION:Open Al-Anon meeting with AA participation\nOrganized by: Waukesha 12 & 12 \nAl-Anon Speaker: Melissa L\nAA Speaker: Ryan H \nAdditional Information: Please do not park on the grass. \nNew Vision Church\nN14W27995 Silvernail Rd\nPewaukee\, WI 53072 \nDownload Flyer HERE.
URL:https://alanon-wi.org/event/al-anon-open-meeting-with-aa-participation-wed-apr-29-7pm-pewaukee/
LOCATION:Waukesha Twelve and Twelve – New Vision Church\, N14W27995 Silvernail Rd\, Pewaukee\, Wisconsin\, 53072
END:VEVENT
BEGIN:VEVENT
DTSTART;TZID=America/Chicago:20260430T120000
DTEND;TZID=America/Chicago:20260430T130000
DTSTAMP:20260423T150509
CREATED:20260408T182901Z
LAST-MODIFIED:20260409T205918Z
UID:8495-1777550400-1777554000@alanon-wi.org
SUMMARY:Al-Anon Open Meeting with AA Participation\, Thurs Apr 30\, 12pm\, West Allis
DESCRIPTION:Please join us for this Al-Anon Open Meeting with AA Participation \nHosted by 12 at 12 AFG  \nAA speaker: Sarah L.\nAl-Anon speaker: Tim T. \nSummit Place: 6737 W Washington St\, West Allis\, WI 53214\n(Room 2143\, aka “Glass Patio” – on the first floor\, past the cafeteria)  \nDownload Flyer HERE.
URL:https://alanon-wi.org/event/al-anon-open-meeting-with-aa-participation-thurs-apr-30-12pm-west-allis/
LOCATION:12 at 12 AFG – Summit Place\, 6737 W Washington St\, West Allis\, WI\, 53214
END:VEVENT
BEGIN:VEVENT
DTSTART;TZID=America/Chicago:20260502T183000
DTEND;TZID=America/Chicago:20260502T200000
DTSTAMP:20260423T150509
CREATED:20260406T163919Z
LAST-MODIFIED:20260406T163919Z
UID:8470-1777746600-1777752000@alanon-wi.org
SUMMARY:District 12 Monthly Open Al-Anon Meeting with AA Participation\, Saturday\, May 2\, 6:30 p.m.-8:00 p.m.
DESCRIPTION:District 12 Monthly Open Meeting Hosted by The Happy Hour Group\, Unity Club – West Bend \n6:30 PM Fellowship; 7PM Speakers \nAl-Anon: Deanna K. from Brookfield\, WI; AA: Daniel L. from West Bend\, WI \nLiving Word Lutheran Church 2240 Living Word Lane\, Jackson WI 53037   \nFlyer May 2 D12
URL:https://alanon-wi.org/event/district-12-monthly-open-al-anon-meeting-with-aa-participation-saturday-may-2-630-p-m-800-p-m/
LOCATION:Living Word Lutheran Church\, 2240 Living Word Lane\, Jackson\, WI\, 53037\, United States
END:VEVENT
BEGIN:VEVENT
DTSTART;TZID=America/Chicago:20260514T123000
DTEND;TZID=America/Chicago:20260514T140000
DTSTAMP:20260423T150509
CREATED:20260326T121021Z
LAST-MODIFIED:20260331T200125Z
UID:8453-1778761800-1778767200@alanon-wi.org
SUMMARY:Al-Anon Open Meeting with AA Participation\, Thurs May 14\, 12:30pm\, Menomonee Falls
DESCRIPTION:Al-Anon Open Meeting with AA Participation\, 12:30pm Menomonee Falls\nThursday May 14   In Person\nOrganized by:  Thursday Afternoon Discussion Group \nAl-Anon Speaker:  Tim T.\nAA Speaker:  Nancy G. \nAdditional Information:  come in rear entrance\, finger foods welcome \nGloria Dei Lutheran\nW180N7863 Town Hall Road\nMenomonee Falls\,  WI  56051 \nClick on flyer below for more details: \nFLYER_MAY_14_2026
URL:https://alanon-wi.org/event/al-anon-open-meeting-with-aa-participation-thursday-may-14th-1230-menomonee-falls/
LOCATION:Thursday Afternoon Discussion – Gloria Dei Church\, W180N7863 Town Hall Road\, Menomonee Falls\, Wisconsin\, 53051
END:VEVENT
BEGIN:VEVENT
DTSTART;TZID=America/Chicago:20261017T170000
DTEND;TZID=America/Chicago:20261017T190000
DTSTAMP:20260423T150509
CREATED:20260309T194444Z
LAST-MODIFIED:20260319T204331Z
UID:8397-1792256400-1792263600@alanon-wi.org
SUMMARY:Falls Fest Fundraiser: Al-Anon Open Meeting\, Sat Oct 17\, 5pm\, Menomonee Falls
DESCRIPTION:Save the date for this Falls Fest fundraiser for the Al-Anon Service Center: Open meeting\, potluck and raffles. Organized by Good Shepherd Al-Anon Groups. Saturday\, October 17\, 2026. Doors open at 5. Speakers TBD. \nGood Shepherd Church\, N88 W17658 Christman Road\, Menomonee Falls\, 53022 \n 
URL:https://alanon-wi.org/event/falls-fest-fundraiser-al-anon-open-meeting-saturday-oct-17-500-p-m/
LOCATION:Good Shepherd Church\, N88 W17658 Christman Rd\, Menomonee Falls\, WI\, 53051\, United States
END:VEVENT
BEGIN:VEVENT
DTSTART;VALUE=DATE:20261023
DTEND;VALUE=DATE:20261026
DTSTAMP:20260423T150509
CREATED:20260226T134008Z
LAST-MODIFIED:20260310T022509Z
UID:8348-1792713600-1792972799@alanon-wi.org
SUMMARY:9th Annual Al-Anon Convention - Area 61\, Oct 23-25\, Stevens Point
DESCRIPTION:9th Annual Al-Anon Convention – Area 61 – Holiday Inn\, Stevens Point \nSave the Dates – October 23-25\, 2026 and share flyer with your groups! \nAl-Anon Speaker:  TBA\nAA Speaker:  TBA\nAlateen Speaker:  TBA \nNEW SITE!\nHoliday Inn Convention Center\n1001 Amber Avenue\nStevens Point\, WI  54482 \nAdditional Information:\nSee Area 61 website to get the latest updates.\nhttps://area61afg.org/event/9th-annual-al-anon-convention-area-61-wisconsin-up-of-mi-october-23-26-2026/ \nDownload Save the Date Flyer\n \n 
URL:https://alanon-wi.org/event/9th-annual-al-anon-convention-area-61-october-232425-2026-stevens-point-wi/
LOCATION:WI
ORGANIZER;CN="Area 61":MAILTO:conventionregistration@area61afg.org
END:VEVENT
END:VCALENDAR