BEGIN:VCALENDAR
VERSION:2.0
PRODID:-//Al-Anon Family Groups of Southeastern Wisconsin - ECPv6.15.20//NONSGML v1.0//EN
CALSCALE:GREGORIAN
METHOD:PUBLISH
X-WR-CALNAME:Al-Anon Family Groups of Southeastern Wisconsin
X-ORIGINAL-URL:https://alanon-wi.org
X-WR-CALDESC:Events for Al-Anon Family Groups of Southeastern Wisconsin
REFRESH-INTERVAL;VALUE=DURATION:PT1H
X-Robots-Tag:noindex
X-PUBLISHED-TTL:PT1H
BEGIN:VTIMEZONE
TZID:America/Chicago
BEGIN:DAYLIGHT
TZOFFSETFROM:-0600
TZOFFSETTO:-0500
TZNAME:CDT
DTSTART:20250309T080000
END:DAYLIGHT
BEGIN:STANDARD
TZOFFSETFROM:-0500
TZOFFSETTO:-0600
TZNAME:CST
DTSTART:20251102T070000
END:STANDARD
BEGIN:DAYLIGHT
TZOFFSETFROM:-0600
TZOFFSETTO:-0500
TZNAME:CDT
DTSTART:20260308T080000
END:DAYLIGHT
BEGIN:STANDARD
TZOFFSETFROM:-0500
TZOFFSETTO:-0600
TZNAME:CST
DTSTART:20261101T070000
END:STANDARD
BEGIN:DAYLIGHT
TZOFFSETFROM:-0600
TZOFFSETTO:-0500
TZNAME:CDT
DTSTART:20270314T080000
END:DAYLIGHT
BEGIN:STANDARD
TZOFFSETFROM:-0500
TZOFFSETTO:-0600
TZNAME:CST
DTSTART:20271107T070000
END:STANDARD
END:VTIMEZONE
BEGIN:VEVENT
DTSTART;TZID=America/Chicago:20261017T170000
DTEND;TZID=America/Chicago:20261017T190000
DTSTAMP:20260423T161222
CREATED:20260309T194444Z
LAST-MODIFIED:20260319T204331Z
UID:8397-1792256400-1792263600@alanon-wi.org
SUMMARY:Falls Fest Fundraiser: Al-Anon Open Meeting\, Sat Oct 17\, 5pm\, Menomonee Falls
DESCRIPTION:Save the date for this Falls Fest fundraiser for the Al-Anon Service Center: Open meeting\, potluck and raffles. Organized by Good Shepherd Al-Anon Groups. Saturday\, October 17\, 2026. Doors open at 5. Speakers TBD. \nGood Shepherd Church\, N88 W17658 Christman Road\, Menomonee Falls\, 53022 \n 
URL:https://alanon-wi.org/event/falls-fest-fundraiser-al-anon-open-meeting-saturday-oct-17-500-p-m/
LOCATION:Good Shepherd Church\, N88 W17658 Christman Rd\, Menomonee Falls\, WI\, 53051\, United States
END:VEVENT
END:VCALENDAR