BEGIN:VCALENDAR
VERSION:2.0
PRODID:-//Al-Anon Family Groups of Southeastern Wisconsin - ECPv6.15.20//NONSGML v1.0//EN
CALSCALE:GREGORIAN
METHOD:PUBLISH
X-WR-CALNAME:Al-Anon Family Groups of Southeastern Wisconsin
X-ORIGINAL-URL:https://alanon-wi.org
X-WR-CALDESC:Events for Al-Anon Family Groups of Southeastern Wisconsin
REFRESH-INTERVAL;VALUE=DURATION:PT1H
X-Robots-Tag:noindex
X-PUBLISHED-TTL:PT1H
BEGIN:VTIMEZONE
TZID:America/Chicago
BEGIN:DAYLIGHT
TZOFFSETFROM:-0600
TZOFFSETTO:-0500
TZNAME:CDT
DTSTART:20250309T080000
END:DAYLIGHT
BEGIN:STANDARD
TZOFFSETFROM:-0500
TZOFFSETTO:-0600
TZNAME:CST
DTSTART:20251102T070000
END:STANDARD
BEGIN:DAYLIGHT
TZOFFSETFROM:-0600
TZOFFSETTO:-0500
TZNAME:CDT
DTSTART:20260308T080000
END:DAYLIGHT
BEGIN:STANDARD
TZOFFSETFROM:-0500
TZOFFSETTO:-0600
TZNAME:CST
DTSTART:20261101T070000
END:STANDARD
BEGIN:DAYLIGHT
TZOFFSETFROM:-0600
TZOFFSETTO:-0500
TZNAME:CDT
DTSTART:20270314T080000
END:DAYLIGHT
BEGIN:STANDARD
TZOFFSETFROM:-0500
TZOFFSETTO:-0600
TZNAME:CST
DTSTART:20271107T070000
END:STANDARD
END:VTIMEZONE
BEGIN:VEVENT
DTSTART;TZID=America/Chicago:20260514T123000
DTEND;TZID=America/Chicago:20260514T140000
DTSTAMP:20260423T132335
CREATED:20260326T121021Z
LAST-MODIFIED:20260331T200125Z
UID:8453-1778761800-1778767200@alanon-wi.org
SUMMARY:Al-Anon Open Meeting with AA Participation\, Thurs May 14\, 12:30pm\, Menomonee Falls
DESCRIPTION:Al-Anon Open Meeting with AA Participation\, 12:30pm Menomonee Falls\nThursday May 14   In Person\nOrganized by:  Thursday Afternoon Discussion Group \nAl-Anon Speaker:  Tim T.\nAA Speaker:  Nancy G. \nAdditional Information:  come in rear entrance\, finger foods welcome \nGloria Dei Lutheran\nW180N7863 Town Hall Road\nMenomonee Falls\,  WI  56051 \nClick on flyer below for more details: \nFLYER_MAY_14_2026
URL:https://alanon-wi.org/event/al-anon-open-meeting-with-aa-participation-thursday-may-14th-1230-menomonee-falls/
LOCATION:Thursday Afternoon Discussion – Gloria Dei Church\, W180N7863 Town Hall Road\, Menomonee Falls\, Wisconsin\, 53051
END:VEVENT
END:VCALENDAR