BEGIN:VCALENDAR
VERSION:2.0
PRODID:-//Al-Anon Family Groups of Southeastern Wisconsin - ECPv6.15.20//NONSGML v1.0//EN
CALSCALE:GREGORIAN
METHOD:PUBLISH
X-ORIGINAL-URL:https://alanon-wi.org
X-WR-CALDESC:Events for Al-Anon Family Groups of Southeastern Wisconsin
REFRESH-INTERVAL;VALUE=DURATION:PT1H
X-Robots-Tag:noindex
X-PUBLISHED-TTL:PT1H
BEGIN:VTIMEZONE
TZID:America/Chicago
BEGIN:DAYLIGHT
TZOFFSETFROM:-0600
TZOFFSETTO:-0500
TZNAME:CDT
DTSTART:20250309T080000
END:DAYLIGHT
BEGIN:STANDARD
TZOFFSETFROM:-0500
TZOFFSETTO:-0600
TZNAME:CST
DTSTART:20251102T070000
END:STANDARD
BEGIN:DAYLIGHT
TZOFFSETFROM:-0600
TZOFFSETTO:-0500
TZNAME:CDT
DTSTART:20260308T080000
END:DAYLIGHT
BEGIN:STANDARD
TZOFFSETFROM:-0500
TZOFFSETTO:-0600
TZNAME:CST
DTSTART:20261101T070000
END:STANDARD
BEGIN:DAYLIGHT
TZOFFSETFROM:-0600
TZOFFSETTO:-0500
TZNAME:CDT
DTSTART:20270314T080000
END:DAYLIGHT
BEGIN:STANDARD
TZOFFSETFROM:-0500
TZOFFSETTO:-0600
TZNAME:CST
DTSTART:20271107T070000
END:STANDARD
END:VTIMEZONE
BEGIN:VEVENT
DTSTART;TZID=America/Chicago:20260502T183000
DTEND;TZID=America/Chicago:20260502T200000
DTSTAMP:20260423T115426
CREATED:20260406T163919Z
LAST-MODIFIED:20260406T163919Z
UID:8470-1777746600-1777752000@alanon-wi.org
SUMMARY:District 12 Monthly Open Al-Anon Meeting with AA Participation\, Saturday\, May 2\, 6:30 p.m.-8:00 p.m.
DESCRIPTION:District 12 Monthly Open Meeting Hosted by The Happy Hour Group\, Unity Club – West Bend \n6:30 PM Fellowship; 7PM Speakers \nAl-Anon: Deanna K. from Brookfield\, WI; AA: Daniel L. from West Bend\, WI \nLiving Word Lutheran Church 2240 Living Word Lane\, Jackson WI 53037   \nFlyer May 2 D12
URL:https://alanon-wi.org/event/district-12-monthly-open-al-anon-meeting-with-aa-participation-saturday-may-2-630-p-m-800-p-m/
LOCATION:Living Word Lutheran Church\, 2240 Living Word Lane\, Jackson\, WI\, 53037\, United States
END:VEVENT
END:VCALENDAR