BEGIN:VCALENDAR
VERSION:2.0
PRODID:-//Al-Anon Family Groups of Southeastern Wisconsin - ECPv6.15.20//NONSGML v1.0//EN
CALSCALE:GREGORIAN
METHOD:PUBLISH
X-WR-CALNAME:Al-Anon Family Groups of Southeastern Wisconsin
X-ORIGINAL-URL:https://alanon-wi.org
X-WR-CALDESC:Events for Al-Anon Family Groups of Southeastern Wisconsin
REFRESH-INTERVAL;VALUE=DURATION:PT1H
X-Robots-Tag:noindex
X-PUBLISHED-TTL:PT1H
BEGIN:VTIMEZONE
TZID:America/Chicago
BEGIN:DAYLIGHT
TZOFFSETFROM:-0600
TZOFFSETTO:-0500
TZNAME:CDT
DTSTART:20250309T080000
END:DAYLIGHT
BEGIN:STANDARD
TZOFFSETFROM:-0500
TZOFFSETTO:-0600
TZNAME:CST
DTSTART:20251102T070000
END:STANDARD
BEGIN:DAYLIGHT
TZOFFSETFROM:-0600
TZOFFSETTO:-0500
TZNAME:CDT
DTSTART:20260308T080000
END:DAYLIGHT
BEGIN:STANDARD
TZOFFSETFROM:-0500
TZOFFSETTO:-0600
TZNAME:CST
DTSTART:20261101T070000
END:STANDARD
BEGIN:DAYLIGHT
TZOFFSETFROM:-0600
TZOFFSETTO:-0500
TZNAME:CDT
DTSTART:20270314T080000
END:DAYLIGHT
BEGIN:STANDARD
TZOFFSETFROM:-0500
TZOFFSETTO:-0600
TZNAME:CST
DTSTART:20271107T070000
END:STANDARD
END:VTIMEZONE
BEGIN:VEVENT
DTSTART;TZID=America/Chicago:20260411T063000
DTEND;TZID=America/Chicago:20260411T200000
DTSTAMP:20260423T115221
CREATED:20260309T193518Z
LAST-MODIFIED:20260406T164428Z
UID:8393-1775889000-1775937600@alanon-wi.org
SUMMARY:Al-Anon Open Meeting with AA Participation\, Sat Apr 11\, 6:30pm\, Jackson
DESCRIPTION:DISTRICT 12 MONTHLY OPEN MEETING Organized by: The Tuesday Women’s Big Book Group Hartford\, WI. 6:30 pm Fellowship; 7:00 pm Meeting. A snack or dish to pass is appreciated. Al-Anon Speaker: TBA; AA Speaker:  Kurt W. from Barton\, WI \nLiving Word Lutheran Church\, 2240 Living Word Lane\, Jackson\, WI 53037 (Parking and entrance in the rear of the church) \nFlyer_APR_11_2026
URL:https://alanon-wi.org/event/al-anon-open-meeting-with-aa-participation-saturday-april-11-630-p-m/
LOCATION:Living Word Lutheran Church\, 2240 Living Word Lane\, Jackson\, WI\, 53037\, United States
END:VEVENT
END:VCALENDAR