BEGIN:VCALENDAR
VERSION:2.0
PRODID:-//Al-Anon Family Groups of Southeastern Wisconsin - ECPv6.15.20//NONSGML v1.0//EN
CALSCALE:GREGORIAN
METHOD:PUBLISH
X-ORIGINAL-URL:https://alanon-wi.org
X-WR-CALDESC:Events for Al-Anon Family Groups of Southeastern Wisconsin
REFRESH-INTERVAL;VALUE=DURATION:PT1H
X-Robots-Tag:noindex
X-PUBLISHED-TTL:PT1H
BEGIN:VTIMEZONE
TZID:America/Chicago
BEGIN:DAYLIGHT
TZOFFSETFROM:-0600
TZOFFSETTO:-0500
TZNAME:CDT
DTSTART:20250309T080000
END:DAYLIGHT
BEGIN:STANDARD
TZOFFSETFROM:-0500
TZOFFSETTO:-0600
TZNAME:CST
DTSTART:20251102T070000
END:STANDARD
BEGIN:DAYLIGHT
TZOFFSETFROM:-0600
TZOFFSETTO:-0500
TZNAME:CDT
DTSTART:20260308T080000
END:DAYLIGHT
BEGIN:STANDARD
TZOFFSETFROM:-0500
TZOFFSETTO:-0600
TZNAME:CST
DTSTART:20261101T070000
END:STANDARD
BEGIN:DAYLIGHT
TZOFFSETFROM:-0600
TZOFFSETTO:-0500
TZNAME:CDT
DTSTART:20270314T080000
END:DAYLIGHT
BEGIN:STANDARD
TZOFFSETFROM:-0500
TZOFFSETTO:-0600
TZNAME:CST
DTSTART:20271107T070000
END:STANDARD
END:VTIMEZONE
BEGIN:VEVENT
DTSTART;TZID=America/Chicago:20260330T183000
DTEND;TZID=America/Chicago:20260330T193000
DTSTAMP:20260423T115433
CREATED:20260212T192313Z
LAST-MODIFIED:20260224T002212Z
UID:8264-1774895400-1774899000@alanon-wi.org
SUMMARY:Al-Anon Open Meeting with AA Participation\, Mon Mar 30\, 6:30pm\, Delafield
DESCRIPTION:Lake Country Let Go and Let God AFG will host an Al-Anon Open Meeting with AA Participation 6:30 p.m. Monday\, March 30\, 2026 at Christ the King Lutheran Church\, 1600 N. Genesee St.\, Delafield. \nAl-Anon Speaker: Jill    AA Speaker: Dani \n 
URL:https://alanon-wi.org/event/al-anon-open-meeting-with-aa-participation-monday-march-30-630-p-m/
LOCATION:Lake Country Let Go and Let God AFG – Christ the King Lutheran Church\, 1600 N. Genesee St.\, Delafield\, Wisconsin\, 53018
END:VEVENT
BEGIN:VEVENT
DTSTART;TZID=America/Chicago:20260330T183000
DTEND;TZID=America/Chicago:20260330T193000
DTSTAMP:20260423T115433
CREATED:20260311T201215Z
LAST-MODIFIED:20260319T210725Z
UID:8415-1774895400-1774899000@alanon-wi.org
SUMMARY:Al-Anon Open Meeting with AA Participation\, Mon Mar 30\, 6:30pm\, Shorewood
DESCRIPTION:Eastside Monday Night Al-Anon invites you to our 30th Birthday Open Meeting!\nMonday\, March 30\, 2026 6:30 p.m. \nAl-Anon Speaker:  Marybeth;\nAA-Speaker: TBA \nNorth Shore Presbyterian Church\n4048 N Bartlett Ave\nShorewood\, WI 53211 \nInstructions: Entry from the parking lot\, up one flight \n 
URL:https://alanon-wi.org/event/al-anon-open-meeting-with-aa-participation-monday-mar-30-630-730/
LOCATION:Eastside Monday Night – North Shore Presbyterian Church\, 4048 N. Bartlett Ave.\, Shorewood\, WI\, 53211\, United States
END:VEVENT
END:VCALENDAR