BEGIN:VCALENDAR
VERSION:2.0
PRODID:-//Al-Anon Family Groups of Southeastern Wisconsin - ECPv6.15.20//NONSGML v1.0//EN
CALSCALE:GREGORIAN
METHOD:PUBLISH
X-WR-CALNAME:Al-Anon Family Groups of Southeastern Wisconsin
X-ORIGINAL-URL:https://alanon-wi.org
X-WR-CALDESC:Events for Al-Anon Family Groups of Southeastern Wisconsin
REFRESH-INTERVAL;VALUE=DURATION:PT1H
X-Robots-Tag:noindex
X-PUBLISHED-TTL:PT1H
BEGIN:VTIMEZONE
TZID:America/Chicago
BEGIN:DAYLIGHT
TZOFFSETFROM:-0600
TZOFFSETTO:-0500
TZNAME:CDT
DTSTART:20250309T080000
END:DAYLIGHT
BEGIN:STANDARD
TZOFFSETFROM:-0500
TZOFFSETTO:-0600
TZNAME:CST
DTSTART:20251102T070000
END:STANDARD
BEGIN:DAYLIGHT
TZOFFSETFROM:-0600
TZOFFSETTO:-0500
TZNAME:CDT
DTSTART:20260308T080000
END:DAYLIGHT
BEGIN:STANDARD
TZOFFSETFROM:-0500
TZOFFSETTO:-0600
TZNAME:CST
DTSTART:20261101T070000
END:STANDARD
BEGIN:DAYLIGHT
TZOFFSETFROM:-0600
TZOFFSETTO:-0500
TZNAME:CDT
DTSTART:20270314T080000
END:DAYLIGHT
BEGIN:STANDARD
TZOFFSETFROM:-0500
TZOFFSETTO:-0600
TZNAME:CST
DTSTART:20271107T070000
END:STANDARD
END:VTIMEZONE
BEGIN:VEVENT
DTSTART;TZID=America/Chicago:20260314T190000
DTEND;TZID=America/Chicago:20260314T200000
DTSTAMP:20260423T132358
CREATED:20260130T205841Z
LAST-MODIFIED:20260206T020246Z
UID:8217-1773514800-1773518400@alanon-wi.org
SUMMARY:Al-Anon Open Meeting with AA Participation\, Sat\, March 14\, 7pm\, Oconomowoc
DESCRIPTION:Al-Anon Open Meeting with AA Participation\, Saturday 3/14/26\,  7pm\,  In-Person \nLake Area Club Speaker Meeting \nSponsored by:  Lake Area Club-Oconomowoc\nAl-Anon Speaker:  Janet C.\nAA Speaker:  Kim H- from West Allis \nOpen Speaker Meeting with AA speaker and Al-Anon Speaker; Fellowship before hand at 6:30 pm- feel free to bring a snack; additional parking in the back of the building. \nAddress:\n N60W35878 Lake Drive\n Oconomowoc\, WI  53066 \nUpload PDF Flyer  FLYER_JAN_30_2026
URL:https://alanon-wi.org/event/al-anon-open-meeting-with-aa-participation-saturday-3-14-26-7pm-in-person/
LOCATION:Lake Area Club\, N60W35878 Lake Dr\, Oconomowoc\, Wisconsin\, 53066
END:VEVENT
END:VCALENDAR