BEGIN:VCALENDAR
VERSION:2.0
PRODID:-//Al-Anon Family Groups of Southeastern Wisconsin - ECPv6.15.20//NONSGML v1.0//EN
CALSCALE:GREGORIAN
METHOD:PUBLISH
X-WR-CALNAME:Al-Anon Family Groups of Southeastern Wisconsin
X-ORIGINAL-URL:https://alanon-wi.org
X-WR-CALDESC:Events for Al-Anon Family Groups of Southeastern Wisconsin
REFRESH-INTERVAL;VALUE=DURATION:PT1H
X-Robots-Tag:noindex
X-PUBLISHED-TTL:PT1H
BEGIN:VTIMEZONE
TZID:America/Chicago
BEGIN:DAYLIGHT
TZOFFSETFROM:-0600
TZOFFSETTO:-0500
TZNAME:CDT
DTSTART:20240310T080000
END:DAYLIGHT
BEGIN:STANDARD
TZOFFSETFROM:-0500
TZOFFSETTO:-0600
TZNAME:CST
DTSTART:20241103T070000
END:STANDARD
BEGIN:DAYLIGHT
TZOFFSETFROM:-0600
TZOFFSETTO:-0500
TZNAME:CDT
DTSTART:20250309T080000
END:DAYLIGHT
BEGIN:STANDARD
TZOFFSETFROM:-0500
TZOFFSETTO:-0600
TZNAME:CST
DTSTART:20251102T070000
END:STANDARD
BEGIN:DAYLIGHT
TZOFFSETFROM:-0600
TZOFFSETTO:-0500
TZNAME:CDT
DTSTART:20260308T080000
END:DAYLIGHT
BEGIN:STANDARD
TZOFFSETFROM:-0500
TZOFFSETTO:-0600
TZNAME:CST
DTSTART:20261101T070000
END:STANDARD
END:VTIMEZONE
BEGIN:VEVENT
DTSTART;TZID=America/Chicago:20251220T200000
DTEND;TZID=America/Chicago:20251220T210000
DTSTAMP:20260423T180534
CREATED:20251210T044452Z
LAST-MODIFIED:20251210T044452Z
UID:7966-1766260800-1766264400@alanon-wi.org
SUMMARY:AA Open Meeting with Al-Anon Participation\, Saturday December 20th at 8pm\, West Allis
DESCRIPTION:AA Open Meeting with Al-Anon Participation\, Saturday December 20th at 8pm\, West Allis \nAl-Anon Speaker: Eryn H. \nAA Speaker: TBD \nVenue: HOW to Club\, 8930 W. National Ave\, Milwaukee\, WI 53227
URL:https://alanon-wi.org/event/aa-open-meeting-with-al-anon-participation-saturday-december-20th-at-8pm-west-allis/
LOCATION:How to Club\, 8930 W National Ave\, West Allis\, WI\, 53227\, United States
END:VEVENT
END:VCALENDAR