BEGIN:VCALENDAR
VERSION:2.0
PRODID:-//Al-Anon Family Groups of Southeastern Wisconsin - ECPv6.15.20//NONSGML v1.0//EN
CALSCALE:GREGORIAN
METHOD:PUBLISH
X-ORIGINAL-URL:https://alanon-wi.org
X-WR-CALDESC:Events for Al-Anon Family Groups of Southeastern Wisconsin
REFRESH-INTERVAL;VALUE=DURATION:PT1H
X-Robots-Tag:noindex
X-PUBLISHED-TTL:PT1H
BEGIN:VTIMEZONE
TZID:America/Chicago
BEGIN:DAYLIGHT
TZOFFSETFROM:-0600
TZOFFSETTO:-0500
TZNAME:CDT
DTSTART:20240310T080000
END:DAYLIGHT
BEGIN:STANDARD
TZOFFSETFROM:-0500
TZOFFSETTO:-0600
TZNAME:CST
DTSTART:20241103T070000
END:STANDARD
BEGIN:DAYLIGHT
TZOFFSETFROM:-0600
TZOFFSETTO:-0500
TZNAME:CDT
DTSTART:20250309T080000
END:DAYLIGHT
BEGIN:STANDARD
TZOFFSETFROM:-0500
TZOFFSETTO:-0600
TZNAME:CST
DTSTART:20251102T070000
END:STANDARD
BEGIN:DAYLIGHT
TZOFFSETFROM:-0600
TZOFFSETTO:-0500
TZNAME:CDT
DTSTART:20260308T080000
END:DAYLIGHT
BEGIN:STANDARD
TZOFFSETFROM:-0500
TZOFFSETTO:-0600
TZNAME:CST
DTSTART:20261101T070000
END:STANDARD
END:VTIMEZONE
BEGIN:VEVENT
DTSTART;TZID=America/Chicago:20251213T093000
DTEND;TZID=America/Chicago:20251213T130000
DTSTAMP:20260423T180706
CREATED:20250102T132440Z
LAST-MODIFIED:20251023T120257Z
UID:6696-1765618200-1765630800@alanon-wi.org
SUMMARY:Lunch on Us - Step/Tradition/Concept Workshop\, Saturday\, December 13\, 9:30am\, Waukesha
DESCRIPTION:Sponsored By: District 4 \nEvent Details\nBooklet: Healing Within Our Alcoholic Relationship\nAl-Anon Workshop on the Steps\, Traditions\, Concepts\n2nd Saturday of every month for 2025\, District 4 will be doing a Step\, Tradition\, Concept of the month Workshop. \nRegistration\nRegistration is encouraged to help organizers plan for lunch and a communication tool in case of bad weather or program changes. *** Please note\, this is only registration for the December meeting. A similar sign up will be posted for future meetings.\nREGISTRATION LINK \nWorkshop Timeline\n9:30-10:00 Arrival\n10:00-10:30 Step 12\n10:30-10:45 Break\n10:45-11:15 Tradition 12\n11:15-12:00 Lunch on us\n12:00-12:30 Concept 12\n12:30-1:00 Clean up\nOpen Meeting – All are Welcome \nAdditional Information\nParking lot entrance is on Corporate Dr. Park in the front of the building or right side. Enter the front doors. Stairs or elevator to 2nd Floor. \nClick Here for Flyer
URL:https://alanon-wi.org/event/lunch-on-us-step-tradition-concept-workshop-saturday-december-13/
LOCATION:Citizens Bank Community Room Waukesha\, 2109 Corporate Dr\, Waukesha\, WI\, 53189\, United States
END:VEVENT
BEGIN:VEVENT
DTSTART;TZID=America/Chicago:20251213T190000
DTEND;TZID=America/Chicago:20251213T200000
DTSTAMP:20260423T180706
CREATED:20251115T181147Z
LAST-MODIFIED:20251125T033627Z
UID:7877-1765652400-1765656000@alanon-wi.org
SUMMARY:Open Speaker Meeting with AA participation\, Saturday\, December 13\, 7pm\, Oconomowoc
DESCRIPTION:Open Speaker Meeting with AA participation\, Saturday\, December 13\, 7pm \nLake Area Club-Oconomowoc \nAl-Anon Speaker: Sarah L. \nAA Speaker: Evan \nOpen Speaker meeting with fellowship beforehand. Feel free to bring a snack. AA speaker Evan 6/22/2022; Al-Anon Speaker Sarah L (7 years) \nLake Area Club – N60W35878 Lake Drive\, Oconomowoc\, WI 53066 \nadditional parking in the back
URL:https://alanon-wi.org/event/open-speaker-meeting-with-aa-participation-saturday-december-13-2025-7pm-oconomowoc/
LOCATION:Lake Area Club\, N60W35878 Lake Dr\, Oconomowoc\, Wisconsin\, 53066
END:VEVENT
END:VCALENDAR