BEGIN:VCALENDAR
VERSION:2.0
PRODID:-//Al-Anon Family Groups of Southeastern Wisconsin - ECPv6.15.20//NONSGML v1.0//EN
CALSCALE:GREGORIAN
METHOD:PUBLISH
X-WR-CALNAME:Al-Anon Family Groups of Southeastern Wisconsin
X-ORIGINAL-URL:https://alanon-wi.org
X-WR-CALDESC:Events for Al-Anon Family Groups of Southeastern Wisconsin
REFRESH-INTERVAL;VALUE=DURATION:PT1H
X-Robots-Tag:noindex
X-PUBLISHED-TTL:PT1H
BEGIN:VTIMEZONE
TZID:America/Chicago
BEGIN:DAYLIGHT
TZOFFSETFROM:-0600
TZOFFSETTO:-0500
TZNAME:CDT
DTSTART:20240310T080000
END:DAYLIGHT
BEGIN:STANDARD
TZOFFSETFROM:-0500
TZOFFSETTO:-0600
TZNAME:CST
DTSTART:20241103T070000
END:STANDARD
BEGIN:DAYLIGHT
TZOFFSETFROM:-0600
TZOFFSETTO:-0500
TZNAME:CDT
DTSTART:20250309T080000
END:DAYLIGHT
BEGIN:STANDARD
TZOFFSETFROM:-0500
TZOFFSETTO:-0600
TZNAME:CST
DTSTART:20251102T070000
END:STANDARD
BEGIN:DAYLIGHT
TZOFFSETFROM:-0600
TZOFFSETTO:-0500
TZNAME:CDT
DTSTART:20260308T080000
END:DAYLIGHT
BEGIN:STANDARD
TZOFFSETFROM:-0500
TZOFFSETTO:-0600
TZNAME:CST
DTSTART:20261101T070000
END:STANDARD
END:VTIMEZONE
BEGIN:VEVENT
DTSTART;TZID=America/Chicago:20251209T180000
DTEND;TZID=America/Chicago:20251209T200000
DTSTAMP:20260423T180556
CREATED:20251203T135210Z
LAST-MODIFIED:20251203T140303Z
UID:7927-1765303200-1765310400@alanon-wi.org
SUMMARY:Al-Anon Holiday Potluck\, Tuesday\, December 9\, 6-8pm Waukesha
DESCRIPTION:Al-Anon Holiday Potluck\, Tuesday\, December 9\, 6pm- 8pm  (In person) \nOrganized by:  Keep it Simple AFG \nEvent Details:\nJoin the Keep it Simple Al-Anon Family Group for a holiday potluck and meeting on Tuesday\, December 9. Bring a dish to pass for the meal which will start at 6:00. Regular meeting will follow at 7:00 and we will end promptly at 8:00. Location is Christ the Servant Lutheran Church at 2016 Center Rd in Waukesha. \nChrist the Servant Lutheran Church\n\nStreet Address : 2016 Center Rd\nCity : Waukesha\nZIP / Postal Code : 53189 \n 
URL:https://alanon-wi.org/event/al-anon-holiday-potluck-tuesday-december-9-6pm-waukesha/
LOCATION:Keep it Simple AFG – Christ the Servant Lutheran Church\, 2016 Center Rd\, Waukesha\, WI\, 53189
END:VEVENT
BEGIN:VEVENT
DTSTART;TZID=America/Chicago:20251209T183000
DTEND;TZID=America/Chicago:20251209T193000
DTSTAMP:20260423T180556
CREATED:20251031T211234Z
LAST-MODIFIED:20251031T211234Z
UID:7838-1765305000-1765308600@alanon-wi.org
SUMMARY:Al-Anon Open Meeting with AA Participation\, Tuesday\, December 9\, 6:30pm\, Franklin
DESCRIPTION:Organized by Franklin Serenity AFG \nAl-Anon Speaker: Emmy V.\nAA Speaker: Mike K. \nJoin us in fellowship after the meeting. \nFaith Presbyterian Church\n3800 W. Rawson Ave.\nFranklin\, WI 53132 \nDownload Flyer HERE.
URL:https://alanon-wi.org/event/al-anon-open-meeting-with-aa-participation-tuesday-december-9-630pm-franklin/
LOCATION:Franklin Serenity – Faith Presbyterian Church\, 3800 W. Rawson Avenue\, Franklin\, Wisconsin\, 53132
END:VEVENT
END:VCALENDAR