BEGIN:VCALENDAR
VERSION:2.0
PRODID:-//Al-Anon Family Groups of Southeastern Wisconsin - ECPv6.15.20//NONSGML v1.0//EN
CALSCALE:GREGORIAN
METHOD:PUBLISH
X-WR-CALNAME:Al-Anon Family Groups of Southeastern Wisconsin
X-ORIGINAL-URL:https://alanon-wi.org
X-WR-CALDESC:Events for Al-Anon Family Groups of Southeastern Wisconsin
REFRESH-INTERVAL;VALUE=DURATION:PT1H
X-Robots-Tag:noindex
X-PUBLISHED-TTL:PT1H
BEGIN:VTIMEZONE
TZID:America/Chicago
BEGIN:DAYLIGHT
TZOFFSETFROM:-0600
TZOFFSETTO:-0500
TZNAME:CDT
DTSTART:20240310T080000
END:DAYLIGHT
BEGIN:STANDARD
TZOFFSETFROM:-0500
TZOFFSETTO:-0600
TZNAME:CST
DTSTART:20241103T070000
END:STANDARD
BEGIN:DAYLIGHT
TZOFFSETFROM:-0600
TZOFFSETTO:-0500
TZNAME:CDT
DTSTART:20250309T080000
END:DAYLIGHT
BEGIN:STANDARD
TZOFFSETFROM:-0500
TZOFFSETTO:-0600
TZNAME:CST
DTSTART:20251102T070000
END:STANDARD
BEGIN:DAYLIGHT
TZOFFSETFROM:-0600
TZOFFSETTO:-0500
TZNAME:CDT
DTSTART:20260308T080000
END:DAYLIGHT
BEGIN:STANDARD
TZOFFSETFROM:-0500
TZOFFSETTO:-0600
TZNAME:CST
DTSTART:20261101T070000
END:STANDARD
END:VTIMEZONE
BEGIN:VEVENT
DTSTART;VALUE=DATE:20250815
DTEND;VALUE=DATE:20250818
DTSTAMP:20260424T011255
CREATED:20250605T010502Z
LAST-MODIFIED:20250605T200924Z
UID:7355-1755216000-1755475199@alanon-wi.org
SUMMARY:Green Lake Round Up\, AA Conference with Al-Anon Participation\, August 15-17
DESCRIPTION:Green Lake Round Up: AA Conference with Al-Anon Participation \nOpen & Closed AA meetings\, Al-Anon meetings\, Alkathon\, and all things summer (camping\, swimming\, boating\, more). Held at the beautiful Green Lake Conference Center\, spend time in a restful and rejuvenating setting connecting with your higher power and your community. Accommodations are available onsite – options include campsites\, rental cabins\, houses (lake and forest views!) and hotel rooms. See flyer for registration and details. \nGreen Lake August 2025 Flyer
URL:https://alanon-wi.org/event/green-lake-round-up-aa-conference-with-al-anon-participation-august-15-17-2025/
LOCATION:Green Lake Conference Center – Green Lake\, WI\, W2511 State Highway 23\, Green Lake\, WI
END:VEVENT
BEGIN:VEVENT
DTSTART;TZID=America/Chicago:20250816T100000
DTEND;TZID=America/Chicago:20250816T120000
DTSTAMP:20260424T011255
CREATED:20250630T181048Z
LAST-MODIFIED:20250805T011618Z
UID:7419-1755338400-1755345600@alanon-wi.org
SUMMARY:District 2: District meeting\, August 16\, 10am - Noon\, West Allis
DESCRIPTION:Please join us for our District 2 meeting on August 16. We will be discussing Al-Anon in Milwaukee County South. You don’t have to be a Group Rep\, or even part of District 2 to attend. Come learn what’s going on in Al-Anon above the group level!
URL:https://alanon-wi.org/event/district-2-district-meeting-august-16-2025-1000-a-m-noon-in-person/
LOCATION:Summit Place – West Allis\, 6737 W. Washington St.\, West Allis\, WI\, 53214\, United States
END:VEVENT
BEGIN:VEVENT
DTSTART;TZID=America/Chicago:20250816T200000
DTEND;TZID=America/Chicago:20250816T210000
DTSTAMP:20260424T011255
CREATED:20250806T193746Z
LAST-MODIFIED:20250806T194148Z
UID:7566-1755374400-1755378000@alanon-wi.org
SUMMARY:AA Open Meeting with Al-Anon Participation\, Saturday\, August 16\, 8pm\, West Allis
DESCRIPTION:Organized by: How To Club \nAl-Anon Speaker: Paige H.\nAA Speaker: Edgar B.
URL:https://alanon-wi.org/event/aa-open-meeting-with-al-anon-participation-saturday-august-16-8pm-west-allis/
LOCATION:How to Club\, 8930 W National Ave\, West Allis\, WI\, 53227\, United States
END:VEVENT
END:VCALENDAR