BEGIN:VCALENDAR
VERSION:2.0
PRODID:-//Al-Anon Family Groups of Southeastern Wisconsin - ECPv6.15.20//NONSGML v1.0//EN
CALSCALE:GREGORIAN
METHOD:PUBLISH
X-WR-CALNAME:Al-Anon Family Groups of Southeastern Wisconsin
X-ORIGINAL-URL:https://alanon-wi.org
X-WR-CALDESC:Events for Al-Anon Family Groups of Southeastern Wisconsin
REFRESH-INTERVAL;VALUE=DURATION:PT1H
X-Robots-Tag:noindex
X-PUBLISHED-TTL:PT1H
BEGIN:VTIMEZONE
TZID:America/Chicago
BEGIN:DAYLIGHT
TZOFFSETFROM:-0600
TZOFFSETTO:-0500
TZNAME:CDT
DTSTART:20240310T080000
END:DAYLIGHT
BEGIN:STANDARD
TZOFFSETFROM:-0500
TZOFFSETTO:-0600
TZNAME:CST
DTSTART:20241103T070000
END:STANDARD
BEGIN:DAYLIGHT
TZOFFSETFROM:-0600
TZOFFSETTO:-0500
TZNAME:CDT
DTSTART:20250309T080000
END:DAYLIGHT
BEGIN:STANDARD
TZOFFSETFROM:-0500
TZOFFSETTO:-0600
TZNAME:CST
DTSTART:20251102T070000
END:STANDARD
BEGIN:DAYLIGHT
TZOFFSETFROM:-0600
TZOFFSETTO:-0500
TZNAME:CDT
DTSTART:20260308T080000
END:DAYLIGHT
BEGIN:STANDARD
TZOFFSETFROM:-0500
TZOFFSETTO:-0600
TZNAME:CST
DTSTART:20261101T070000
END:STANDARD
END:VTIMEZONE
BEGIN:VEVENT
DTSTART;VALUE=DATE:20250815
DTEND;VALUE=DATE:20250818
DTSTAMP:20260424T011254
CREATED:20250605T010502Z
LAST-MODIFIED:20250605T200924Z
UID:7355-1755216000-1755475199@alanon-wi.org
SUMMARY:Green Lake Round Up\, AA Conference with Al-Anon Participation\, August 15-17
DESCRIPTION:Green Lake Round Up: AA Conference with Al-Anon Participation \nOpen & Closed AA meetings\, Al-Anon meetings\, Alkathon\, and all things summer (camping\, swimming\, boating\, more). Held at the beautiful Green Lake Conference Center\, spend time in a restful and rejuvenating setting connecting with your higher power and your community. Accommodations are available onsite – options include campsites\, rental cabins\, houses (lake and forest views!) and hotel rooms. See flyer for registration and details. \nGreen Lake August 2025 Flyer
URL:https://alanon-wi.org/event/green-lake-round-up-aa-conference-with-al-anon-participation-august-15-17-2025/
LOCATION:Green Lake Conference Center – Green Lake\, WI\, W2511 State Highway 23\, Green Lake\, WI
END:VEVENT
END:VCALENDAR