BEGIN:VCALENDAR
VERSION:2.0
PRODID:-//Al-Anon Family Groups of Southeastern Wisconsin - ECPv6.15.20//NONSGML v1.0//EN
CALSCALE:GREGORIAN
METHOD:PUBLISH
X-WR-CALNAME:Al-Anon Family Groups of Southeastern Wisconsin
X-ORIGINAL-URL:https://alanon-wi.org
X-WR-CALDESC:Events for Al-Anon Family Groups of Southeastern Wisconsin
REFRESH-INTERVAL;VALUE=DURATION:PT1H
X-Robots-Tag:noindex
X-PUBLISHED-TTL:PT1H
BEGIN:VTIMEZONE
TZID:America/Chicago
BEGIN:DAYLIGHT
TZOFFSETFROM:-0600
TZOFFSETTO:-0500
TZNAME:CDT
DTSTART:20240310T080000
END:DAYLIGHT
BEGIN:STANDARD
TZOFFSETFROM:-0500
TZOFFSETTO:-0600
TZNAME:CST
DTSTART:20241103T070000
END:STANDARD
BEGIN:DAYLIGHT
TZOFFSETFROM:-0600
TZOFFSETTO:-0500
TZNAME:CDT
DTSTART:20250309T080000
END:DAYLIGHT
BEGIN:STANDARD
TZOFFSETFROM:-0500
TZOFFSETTO:-0600
TZNAME:CST
DTSTART:20251102T070000
END:STANDARD
BEGIN:DAYLIGHT
TZOFFSETFROM:-0600
TZOFFSETTO:-0500
TZNAME:CDT
DTSTART:20260308T080000
END:DAYLIGHT
BEGIN:STANDARD
TZOFFSETFROM:-0500
TZOFFSETTO:-0600
TZNAME:CST
DTSTART:20261101T070000
END:STANDARD
END:VTIMEZONE
BEGIN:VEVENT
DTSTART;TZID=America/Chicago:20250809T093000
DTEND;TZID=America/Chicago:20250809T130000
DTSTAMP:20260424T012152
CREATED:20241229T044337Z
LAST-MODIFIED:20250708T175836Z
UID:6688-1754731800-1754744400@alanon-wi.org
SUMMARY:Lunch on Us - Step/Tradition/Concept Workshop\, Saturday\, August 9\, 9:30am\, Waukesha
DESCRIPTION:Sponsored By: District 4 \nEvent Details\nBooklet: Healing Within Our Alcoholic Relationship\nAl-Anon Workshop on the Steps\, Traditions\, Concepts\n2nd Saturday of every month for 2025\, District 4 will be doing a Step\, Tradition\, Concept of the month Workshop. \nRegistration\nRegistration is encouraged to help organizers plan for lunch and a communication tool in case of bad weather or program changes. *** Please note\, this is only registration for the August meeting. A similar sign up will be posted for future meetings.\nREGISTER AT THIS LINK \nWorkshop Timeline\n9:30-10:00 Arrival\n10:00-10:30 Step 8\n10:30-10:45 Break\n10:45-11:15 Tradition 8\n11:15-12:00 Lunch on us\n12:00-12:30 Concept 8\n12:30-1:00 Clean up\nOpen Meeting – All are Welcome \nAdditional Information\nParking lot entrance is on Corporate Dr. Park in the front of the building or right side. Enter the front doors. Stairs or elevator to 2nd Floor. \nClick Here for Flyer
URL:https://alanon-wi.org/event/lunch-on-us-step-tradition-concept-workshop-saturday-august-9/
LOCATION:Citizens Bank Community Room Waukesha\, 2109 Corporate Dr\, Waukesha\, WI\, 53189\, United States
END:VEVENT
BEGIN:VEVENT
DTSTART;TZID=America/Chicago:20250809T190000
DTEND;TZID=America/Chicago:20250809T200000
DTSTAMP:20260424T012152
CREATED:20250722T024018Z
LAST-MODIFIED:20250805T011139Z
UID:7467-1754766000-1754769600@alanon-wi.org
SUMMARY:AA Open Meeting with Al-Anon Participation\, Saturday\, August 9\, 7-8pm\, Oconomowoc
DESCRIPTION:The Lake Area Club-Oconomowoc is having their Lake Area Club Speaker Meeting \nThis is an AA Open Meeting with Al-Anon Participation\, on Saturday August 9th from 7pm – 8pm. In Person. There will be fellowship before hand. Please feel free to bring a snack to share. \nAl-Anon Speaker: Sarah P (2018)\nAA Speaker: Sarah H. (2002) \nVenue: Lake Area Club:  N60W35878 Lake Drive Oconomowoc\, WI 53066\nNote: There is additional parking in the back
URL:https://alanon-wi.org/event/aa-open-meeting-with-al-anon-participation-saturday-august-9th-from-7pm-8pm-in-person/
LOCATION:Lake Area Club\, N60W35878 Lake Dr\, Oconomowoc\, Wisconsin\, 53066
END:VEVENT
END:VCALENDAR