BEGIN:VCALENDAR
VERSION:2.0
PRODID:-//Al-Anon Family Groups of Southeastern Wisconsin - ECPv6.15.20//NONSGML v1.0//EN
CALSCALE:GREGORIAN
METHOD:PUBLISH
X-WR-CALNAME:Al-Anon Family Groups of Southeastern Wisconsin
X-ORIGINAL-URL:https://alanon-wi.org
X-WR-CALDESC:Events for Al-Anon Family Groups of Southeastern Wisconsin
REFRESH-INTERVAL;VALUE=DURATION:PT1H
X-Robots-Tag:noindex
X-PUBLISHED-TTL:PT1H
BEGIN:VTIMEZONE
TZID:America/Chicago
BEGIN:DAYLIGHT
TZOFFSETFROM:-0600
TZOFFSETTO:-0500
TZNAME:CDT
DTSTART:20240310T080000
END:DAYLIGHT
BEGIN:STANDARD
TZOFFSETFROM:-0500
TZOFFSETTO:-0600
TZNAME:CST
DTSTART:20241103T070000
END:STANDARD
BEGIN:DAYLIGHT
TZOFFSETFROM:-0600
TZOFFSETTO:-0500
TZNAME:CDT
DTSTART:20250309T080000
END:DAYLIGHT
BEGIN:STANDARD
TZOFFSETFROM:-0500
TZOFFSETTO:-0600
TZNAME:CST
DTSTART:20251102T070000
END:STANDARD
BEGIN:DAYLIGHT
TZOFFSETFROM:-0600
TZOFFSETTO:-0500
TZNAME:CDT
DTSTART:20260308T080000
END:DAYLIGHT
BEGIN:STANDARD
TZOFFSETFROM:-0500
TZOFFSETTO:-0600
TZNAME:CST
DTSTART:20261101T070000
END:STANDARD
END:VTIMEZONE
BEGIN:VEVENT
DTSTART;TZID=America/Chicago:20250807T183000
DTEND;TZID=America/Chicago:20250807T193000
DTSTAMP:20260424T011257
CREATED:20250715T225511Z
LAST-MODIFIED:20250807T194851Z
UID:7457-1754591400-1754595000@alanon-wi.org
SUMMARY:Al-Anon Open Meeting with AA Participation\, Thursday\, August 7\, 6:30pm\, Brookfield
DESCRIPTION:Sponsored by:  Twelve Steppers AFG\nBi-Monthly Open Speaker Meeting \nAl-Anon Speaker:  Kim B.\nAA Speaker: Jeff B. \nEvent Details:  \nThis is the Brookfield Twelve Steppers AFG Bi-Monthly Open Speaker Mtg with AA participation – Meeting starts at 6:30PM and will conclude at 7:30PM \nPlease bring a guest\, or two\, or three… \nVenue Name:\nSt. John Lutheran Church\n20275 Davidson Rd\nBrookfield\, WI 53045 \n 
URL:https://alanon-wi.org/event/al-anon-open-meeting-with-aa-participation-630pm-brookfield/
LOCATION:St. John’s Lutheran Church\, 20275 Davidson Rd.\, Brookfield\, WI\, 53045\, United States
END:VEVENT
END:VCALENDAR