BEGIN:VCALENDAR
VERSION:2.0
PRODID:-//Al-Anon Family Groups of Southeastern Wisconsin - ECPv6.15.20//NONSGML v1.0//EN
CALSCALE:GREGORIAN
METHOD:PUBLISH
X-ORIGINAL-URL:https://alanon-wi.org
X-WR-CALDESC:Events for Al-Anon Family Groups of Southeastern Wisconsin
REFRESH-INTERVAL;VALUE=DURATION:PT1H
X-Robots-Tag:noindex
X-PUBLISHED-TTL:PT1H
BEGIN:VTIMEZONE
TZID:America/Chicago
BEGIN:DAYLIGHT
TZOFFSETFROM:-0600
TZOFFSETTO:-0500
TZNAME:CDT
DTSTART:20240310T080000
END:DAYLIGHT
BEGIN:STANDARD
TZOFFSETFROM:-0500
TZOFFSETTO:-0600
TZNAME:CST
DTSTART:20241103T070000
END:STANDARD
BEGIN:DAYLIGHT
TZOFFSETFROM:-0600
TZOFFSETTO:-0500
TZNAME:CDT
DTSTART:20250309T080000
END:DAYLIGHT
BEGIN:STANDARD
TZOFFSETFROM:-0500
TZOFFSETTO:-0600
TZNAME:CST
DTSTART:20251102T070000
END:STANDARD
BEGIN:DAYLIGHT
TZOFFSETFROM:-0600
TZOFFSETTO:-0500
TZNAME:CDT
DTSTART:20260308T080000
END:DAYLIGHT
BEGIN:STANDARD
TZOFFSETFROM:-0500
TZOFFSETTO:-0600
TZNAME:CST
DTSTART:20261101T070000
END:STANDARD
END:VTIMEZONE
BEGIN:VEVENT
DTSTART;TZID=America/Chicago:20250713T180000
DTEND;TZID=America/Chicago:20250713T203000
DTSTAMP:20260424T031701
CREATED:20250707T164449Z
LAST-MODIFIED:20250707T164620Z
UID:7429-1752429600-1752438600@alanon-wi.org
SUMMARY:Potluck Dinner & Open AA meeting with Al-Anon participation\, Sunday\, July 13\, 6pm\, Mukwonago
DESCRIPTION:Doors open at 6pm.\nPotluck Dinner: 6:30pm – Bring a dish to pass if you wish.\nSpeakers at 7:30pm.\nAA speaker-Dave S.\nAl-Anon speaker-Janet C. \nDinner & Open Meeting Location: Vernon Evangelical Lutheran Church\nS90W27550 National Ave\, Mukwonago\, WI 53149 \nPLEASE NOTE: The Mukwonago Sunday Night Survivor Al-Anon in-person meeting at Mt. Olive Church\, will not meet on Sunday\, July 13\, 2025. HOWEVER\, the Zoom link will be available to those who want to participate in a remote AFG meeting at 7:30pm.\nJoin by Zoom: 87349229041\nMeeting ID: 873 4922 9041\nPasscode: 070457 \nPhone Dial-In Option- 646-876-9923\nMeeting number = 87349229041#\nParticipant ID = #\nPasscode = 070457#\n*6 to mute or unmute
URL:https://alanon-wi.org/event/potluck-dinner-open-aa-meeting-with-al-anon-participation-sunday-6pm-mukwonago/
LOCATION:Vernon Evangelical Lutheran Church\, S90W27550 National Ave\, Mukwonago\, WI\, 53149
END:VEVENT
END:VCALENDAR