BEGIN:VCALENDAR
VERSION:2.0
PRODID:-//Al-Anon Family Groups of Southeastern Wisconsin - ECPv6.15.20//NONSGML v1.0//EN
CALSCALE:GREGORIAN
METHOD:PUBLISH
X-ORIGINAL-URL:https://alanon-wi.org
X-WR-CALDESC:Events for Al-Anon Family Groups of Southeastern Wisconsin
REFRESH-INTERVAL;VALUE=DURATION:PT1H
X-Robots-Tag:noindex
X-PUBLISHED-TTL:PT1H
BEGIN:VTIMEZONE
TZID:America/Chicago
BEGIN:DAYLIGHT
TZOFFSETFROM:-0600
TZOFFSETTO:-0500
TZNAME:CDT
DTSTART:20240310T080000
END:DAYLIGHT
BEGIN:STANDARD
TZOFFSETFROM:-0500
TZOFFSETTO:-0600
TZNAME:CST
DTSTART:20241103T070000
END:STANDARD
BEGIN:DAYLIGHT
TZOFFSETFROM:-0600
TZOFFSETTO:-0500
TZNAME:CDT
DTSTART:20250309T080000
END:DAYLIGHT
BEGIN:STANDARD
TZOFFSETFROM:-0500
TZOFFSETTO:-0600
TZNAME:CST
DTSTART:20251102T070000
END:STANDARD
BEGIN:DAYLIGHT
TZOFFSETFROM:-0600
TZOFFSETTO:-0500
TZNAME:CDT
DTSTART:20260308T080000
END:DAYLIGHT
BEGIN:STANDARD
TZOFFSETFROM:-0500
TZOFFSETTO:-0600
TZNAME:CST
DTSTART:20261101T070000
END:STANDARD
END:VTIMEZONE
BEGIN:VEVENT
DTSTART;TZID=America/Chicago:20250709T190000
DTEND;TZID=America/Chicago:20250709T200000
DTSTAMP:20260424T031700
CREATED:20250630T182041Z
LAST-MODIFIED:20250708T060238Z
UID:7421-1752087600-1752091200@alanon-wi.org
SUMMARY:Dynamic DR Meeting\, Wednesday\, July 9\, 7-8pm\, Online
DESCRIPTION:The District Representatives of Area 61 invite you to a Dynamic DR meeting. \nAll districts of Area 61 are welcome. You don’t have to be a District Rep to attend. If you are a current\, past\, alternate DR\, in an unrepresented district\, or just want to learn more about this vital role\, we would be delighted to have you. It’s a great support network!\nZoom Meeting ID: 879-0517-8916\nPasscode: 43592723
URL:https://alanon-wi.org/event/dynamic-dr-meeting-wednesday-july-9-2025-700-800-p-m-online/
LOCATION:WI
ORGANIZER;CN="Area 61":MAILTO:conventionregistration@area61afg.org
END:VEVENT
END:VCALENDAR