BEGIN:VCALENDAR
VERSION:2.0
PRODID:-//Al-Anon Family Groups of Southeastern Wisconsin - ECPv6.15.20//NONSGML v1.0//EN
CALSCALE:GREGORIAN
METHOD:PUBLISH
X-WR-CALNAME:Al-Anon Family Groups of Southeastern Wisconsin
X-ORIGINAL-URL:https://alanon-wi.org
X-WR-CALDESC:Events for Al-Anon Family Groups of Southeastern Wisconsin
REFRESH-INTERVAL;VALUE=DURATION:PT1H
X-Robots-Tag:noindex
X-PUBLISHED-TTL:PT1H
BEGIN:VTIMEZONE
TZID:America/Chicago
BEGIN:DAYLIGHT
TZOFFSETFROM:-0600
TZOFFSETTO:-0500
TZNAME:CDT
DTSTART:20240310T080000
END:DAYLIGHT
BEGIN:STANDARD
TZOFFSETFROM:-0500
TZOFFSETTO:-0600
TZNAME:CST
DTSTART:20241103T070000
END:STANDARD
BEGIN:DAYLIGHT
TZOFFSETFROM:-0600
TZOFFSETTO:-0500
TZNAME:CDT
DTSTART:20250309T080000
END:DAYLIGHT
BEGIN:STANDARD
TZOFFSETFROM:-0500
TZOFFSETTO:-0600
TZNAME:CST
DTSTART:20251102T070000
END:STANDARD
BEGIN:DAYLIGHT
TZOFFSETFROM:-0600
TZOFFSETTO:-0500
TZNAME:CDT
DTSTART:20260308T080000
END:DAYLIGHT
BEGIN:STANDARD
TZOFFSETFROM:-0500
TZOFFSETTO:-0600
TZNAME:CST
DTSTART:20261101T070000
END:STANDARD
END:VTIMEZONE
BEGIN:VEVENT
DTSTART;TZID=America/Chicago:20250510T093000
DTEND;TZID=America/Chicago:20250510T130000
DTSTAMP:20260424T073450
CREATED:20241229T043737Z
LAST-MODIFIED:20250506T130648Z
UID:6682-1746869400-1746882000@alanon-wi.org
SUMMARY:Lunch on Us - Step/Tradition/Concept Workshop\, Saturday\, May 10\, 9:30am\, Waukesha\, In Person
DESCRIPTION:Sponsored By: District 4 \nEvent Details\nBooklet: Healing Within Our Alcoholic Relationship\nAl-Anon Workshop on the Steps\, Traditions\, Concepts\n2nd Saturday of every month for 2025\, District 4 will be doing a Step\, Tradition\, Concept of the month Workshop. \nRegistration\nRegistration is encouraged to help organizers plan for lunch and a communication tool in case of bad weather or program changes. *** Please note\, this is only registration for the May meeting. A similar sign up will be posted for future meetings.\nREGISTER AT THIS LINK \nWorkshop Timeline\n9:30-10:00 Arrival\n10:00-10:30 Step 5\n10:30-10:45 Break\n10:45-11:15 Tradition 5\n11:15-12:00 Lunch on us\n12:00-12:30 Concept 5\n12:30-1:00 Clean up\nOpen Meeting – All are Welcome \nAdditional Information\nParking lot entrance is on Corporate Dr. Park in the front of the building or right side. Enter the front doors. Stairs or elevator to 2nd Floor. \nClick Here for Flyer
URL:https://alanon-wi.org/event/lunch-on-us-step-tradition-concept-workshop-saturday-may-10/
LOCATION:Citizens Bank Community Room Waukesha\, 2109 Corporate Dr\, Waukesha\, WI\, 53189\, United States
END:VEVENT
END:VCALENDAR