BEGIN:VCALENDAR
VERSION:2.0
PRODID:-//Al-Anon Family Groups of Southeastern Wisconsin - ECPv6.15.20//NONSGML v1.0//EN
CALSCALE:GREGORIAN
METHOD:PUBLISH
X-WR-CALNAME:Al-Anon Family Groups of Southeastern Wisconsin
X-ORIGINAL-URL:https://alanon-wi.org
X-WR-CALDESC:Events for Al-Anon Family Groups of Southeastern Wisconsin
REFRESH-INTERVAL;VALUE=DURATION:PT1H
X-Robots-Tag:noindex
X-PUBLISHED-TTL:PT1H
BEGIN:VTIMEZONE
TZID:America/Chicago
BEGIN:DAYLIGHT
TZOFFSETFROM:-0600
TZOFFSETTO:-0500
TZNAME:CDT
DTSTART:20240310T080000
END:DAYLIGHT
BEGIN:STANDARD
TZOFFSETFROM:-0500
TZOFFSETTO:-0600
TZNAME:CST
DTSTART:20241103T070000
END:STANDARD
BEGIN:DAYLIGHT
TZOFFSETFROM:-0600
TZOFFSETTO:-0500
TZNAME:CDT
DTSTART:20250309T080000
END:DAYLIGHT
BEGIN:STANDARD
TZOFFSETFROM:-0500
TZOFFSETTO:-0600
TZNAME:CST
DTSTART:20251102T070000
END:STANDARD
BEGIN:DAYLIGHT
TZOFFSETFROM:-0600
TZOFFSETTO:-0500
TZNAME:CDT
DTSTART:20260308T080000
END:DAYLIGHT
BEGIN:STANDARD
TZOFFSETFROM:-0500
TZOFFSETTO:-0600
TZNAME:CST
DTSTART:20261101T070000
END:STANDARD
END:VTIMEZONE
BEGIN:VEVENT
DTSTART;TZID=America/Chicago:20250419T100000
DTEND;TZID=America/Chicago:20250419T120000
DTSTAMP:20260424T091653
CREATED:20250411T232035Z
LAST-MODIFIED:20250412T013610Z
UID:7160-1745056800-1745064000@alanon-wi.org
SUMMARY:District 2 meeting\, Saturday\, April 19\, 10:00-12:00\, In person
DESCRIPTION:District 2 meeting\, Saturday\, Summit Place\, 6737 W. Washington St.\nGlass Patio: room # 2143 \nDistrict 2 is having a lot of fun these days. We would love for you to join our district meeting. No\, you don’t have to be a Group Rep. to attend. You don’t even have to be part of District 2. Maybe you’re from a district that has no District Rep. Come to our meeting. We would be delighted to assist you with getting your district back up and active again. You’d be amazed at how easy it is to get started! \n 
URL:https://alanon-wi.org/event/district-2-meeting-saturday-april-19-1000-1200-in-person/
LOCATION:Summit Place – West Allis\, 6737 W. Washington St.\, West Allis\, WI\, 53214\, United States
END:VEVENT
BEGIN:VEVENT
DTSTART;TZID=America/Chicago:20250419T200000
DTEND;TZID=America/Chicago:20250419T210000
DTSTAMP:20260424T091653
CREATED:20250404T015652Z
LAST-MODIFIED:20250404T015652Z
UID:7142-1745092800-1745096400@alanon-wi.org
SUMMARY:AA Open Meeting with Al-Anon Participation\, Saturday\, April 19\, 8pm\, In-Person
DESCRIPTION:Sponsored by: How To Club – 8930 W National Ave. West Allis\, WI 53227 \nAl-Anon Speaker: Rebecca \nAA Speaker: Lisa
URL:https://alanon-wi.org/event/aa-open-meeting-with-al-anon-participation-saturday-april-19-8pm-in-person/
LOCATION:How to Club\, 8930 W National Ave\, West Allis\, WI\, 53227\, United States
END:VEVENT
END:VCALENDAR