BEGIN:VCALENDAR
VERSION:2.0
PRODID:-//Al-Anon Family Groups of Southeastern Wisconsin - ECPv6.15.20//NONSGML v1.0//EN
CALSCALE:GREGORIAN
METHOD:PUBLISH
X-WR-CALNAME:Al-Anon Family Groups of Southeastern Wisconsin
X-ORIGINAL-URL:https://alanon-wi.org
X-WR-CALDESC:Events for Al-Anon Family Groups of Southeastern Wisconsin
REFRESH-INTERVAL;VALUE=DURATION:PT1H
X-Robots-Tag:noindex
X-PUBLISHED-TTL:PT1H
BEGIN:VTIMEZONE
TZID:America/Chicago
BEGIN:DAYLIGHT
TZOFFSETFROM:-0600
TZOFFSETTO:-0500
TZNAME:CDT
DTSTART:20240310T080000
END:DAYLIGHT
BEGIN:STANDARD
TZOFFSETFROM:-0500
TZOFFSETTO:-0600
TZNAME:CST
DTSTART:20241103T070000
END:STANDARD
BEGIN:DAYLIGHT
TZOFFSETFROM:-0600
TZOFFSETTO:-0500
TZNAME:CDT
DTSTART:20250309T080000
END:DAYLIGHT
BEGIN:STANDARD
TZOFFSETFROM:-0500
TZOFFSETTO:-0600
TZNAME:CST
DTSTART:20251102T070000
END:STANDARD
BEGIN:DAYLIGHT
TZOFFSETFROM:-0600
TZOFFSETTO:-0500
TZNAME:CDT
DTSTART:20260308T080000
END:DAYLIGHT
BEGIN:STANDARD
TZOFFSETFROM:-0500
TZOFFSETTO:-0600
TZNAME:CST
DTSTART:20261101T070000
END:STANDARD
END:VTIMEZONE
BEGIN:VEVENT
DTSTART;TZID=America/Chicago:20250317T183000
DTEND;TZID=America/Chicago:20250317T193000
DTSTAMP:20260424T104208
CREATED:20250309T055709Z
LAST-MODIFIED:20250310T003622Z
UID:7042-1742236200-1742239800@alanon-wi.org
SUMMARY:Al-Anon Open Meeting with AA Participation\, Monday\, March 17\, 6:30pm\, Brookfield\, In-Person
DESCRIPTION:Event Name Al-Anon Open Meeting with AA Participation\, Monday\, March 17\, 6:30pm\, Brookfield\, In-Person \nOrganized by: Brookfield Courage to Change \nAl-Anon Speaker: Diana R. \nAA Speaker: Bill H. \nEvent Details Join us on the 2nd floor. Greeter at the door to welcome you. \nVenue Name: St. John Vianney church\,  1755 N. Calhoun Rd\,  Brookfield\, WI 53005
URL:https://alanon-wi.org/event/al-anon-open-meeting-with-aa-participation-monday-march-17-630pm-brookfield-in-person/
LOCATION:St. John Vianney Church\, 1755 N. Calhoun Rd\, Room 209\, Brookfield\, WI\, 53005\, United States
END:VEVENT
END:VCALENDAR