BEGIN:VCALENDAR
VERSION:2.0
PRODID:-//Al-Anon Family Groups of Southeastern Wisconsin - ECPv6.15.20//NONSGML v1.0//EN
CALSCALE:GREGORIAN
METHOD:PUBLISH
X-WR-CALNAME:Al-Anon Family Groups of Southeastern Wisconsin
X-ORIGINAL-URL:https://alanon-wi.org
X-WR-CALDESC:Events for Al-Anon Family Groups of Southeastern Wisconsin
REFRESH-INTERVAL;VALUE=DURATION:PT1H
X-Robots-Tag:noindex
X-PUBLISHED-TTL:PT1H
BEGIN:VTIMEZONE
TZID:America/Chicago
BEGIN:DAYLIGHT
TZOFFSETFROM:-0600
TZOFFSETTO:-0500
TZNAME:CDT
DTSTART:20240310T080000
END:DAYLIGHT
BEGIN:STANDARD
TZOFFSETFROM:-0500
TZOFFSETTO:-0600
TZNAME:CST
DTSTART:20241103T070000
END:STANDARD
BEGIN:DAYLIGHT
TZOFFSETFROM:-0600
TZOFFSETTO:-0500
TZNAME:CDT
DTSTART:20250309T080000
END:DAYLIGHT
BEGIN:STANDARD
TZOFFSETFROM:-0500
TZOFFSETTO:-0600
TZNAME:CST
DTSTART:20251102T070000
END:STANDARD
BEGIN:DAYLIGHT
TZOFFSETFROM:-0600
TZOFFSETTO:-0500
TZNAME:CDT
DTSTART:20260308T080000
END:DAYLIGHT
BEGIN:STANDARD
TZOFFSETFROM:-0500
TZOFFSETTO:-0600
TZNAME:CST
DTSTART:20261101T070000
END:STANDARD
END:VTIMEZONE
BEGIN:VEVENT
DTSTART;TZID=America/Chicago:20250206T183000
DTEND;TZID=America/Chicago:20250206T193000
DTSTAMP:20260424T121827
CREATED:20250117T023410Z
LAST-MODIFIED:20250117T024145Z
UID:6783-1738866600-1738870200@alanon-wi.org
SUMMARY:Al-Anon Open Meeting with AA Participation\, Thursday\, February 6\, 6:30pm\, In Person
DESCRIPTION:Organized by: Twelve Steppers \nAl-Anon Speaker: Bonny B\nAA Speaker: Lucy S \nEvent Details:\nSt Johns Lutheran Church\n20275 Davidson Rd\nBrookfield\, WI  53045
URL:https://alanon-wi.org/event/al-anon-open-meeting-with-aa-participation-thursday-february-6-630pm-in-person/
LOCATION:Twelve Steppers – St. John’s Lutheran Church\, 20275 Davidson Rd.\, Brookfield\, Wisconsin\, 53045
END:VEVENT
END:VCALENDAR