BEGIN:VCALENDAR
VERSION:2.0
PRODID:-//Al-Anon Family Groups of Southeastern Wisconsin - ECPv6.15.20//NONSGML v1.0//EN
CALSCALE:GREGORIAN
METHOD:PUBLISH
X-ORIGINAL-URL:https://alanon-wi.org
X-WR-CALDESC:Events for Al-Anon Family Groups of Southeastern Wisconsin
REFRESH-INTERVAL;VALUE=DURATION:PT1H
X-Robots-Tag:noindex
X-PUBLISHED-TTL:PT1H
BEGIN:VTIMEZONE
TZID:America/Chicago
BEGIN:DAYLIGHT
TZOFFSETFROM:-0600
TZOFFSETTO:-0500
TZNAME:CDT
DTSTART:20240310T080000
END:DAYLIGHT
BEGIN:STANDARD
TZOFFSETFROM:-0500
TZOFFSETTO:-0600
TZNAME:CST
DTSTART:20241103T070000
END:STANDARD
BEGIN:DAYLIGHT
TZOFFSETFROM:-0600
TZOFFSETTO:-0500
TZNAME:CDT
DTSTART:20250309T080000
END:DAYLIGHT
BEGIN:STANDARD
TZOFFSETFROM:-0500
TZOFFSETTO:-0600
TZNAME:CST
DTSTART:20251102T070000
END:STANDARD
BEGIN:DAYLIGHT
TZOFFSETFROM:-0600
TZOFFSETTO:-0500
TZNAME:CDT
DTSTART:20260308T080000
END:DAYLIGHT
BEGIN:STANDARD
TZOFFSETFROM:-0500
TZOFFSETTO:-0600
TZNAME:CST
DTSTART:20261101T070000
END:STANDARD
END:VTIMEZONE
BEGIN:VEVENT
DTSTART;TZID=America/Chicago:20250130T120000
DTEND;TZID=America/Chicago:20250130T130000
DTSTAMP:20260424T121825
CREATED:20250121T002219Z
LAST-MODIFIED:20250121T002219Z
UID:6792-1738238400-1738242000@alanon-wi.org
SUMMARY:Al-Anon Open Meeting with AA Participation\, Thursday\, January 30\, 12pm\, In Person
DESCRIPTION:Organized by: 12 at 12 AFG\, West Allis \nAl-Anon Speaker: Kristen S.\nAA Speaker: Mary Lou G. \nThe Open Meeting is located in the Glass Patio Room 2143 (on the first floor). \nFeel free to visit the Al-Anon Service Center following the meeting in Suite 2125. \nSee downloadable flyer HERE. 
URL:https://alanon-wi.org/event/al-anon-open-meeting-with-aa-participation-thursday-january-30-12pm-in-person/
LOCATION:12 at 12 AFG – Summit Place\, 6737 W Washington St\, West Allis\, WI\, 53214
END:VEVENT
BEGIN:VEVENT
DTSTART;TZID=America/Chicago:20250130T140000
DTEND;TZID=America/Chicago:20250130T150000
DTSTAMP:20260424T121825
CREATED:20250127T231828Z
LAST-MODIFIED:20250127T231828Z
UID:6820-1738245600-1738249200@alanon-wi.org
SUMMARY:Restore Us To Sanity Al-Anon group / virtually each Thursday from 2 to 3PM or from 7 to 8PM
DESCRIPTION:Hello and thank you for being part of the Restore Us To Sanity Al-Anon group.  We are a group of individual Al-Anon members who also share the role of being a caregiver for a dementia or Alzheimer’s patient.   \n\n\n\n\n\n\n\n\n\n\n\n\n\n\n\n\n\n\n\n\n\n\nYou can meet with us virtually each Thursday from 2 to 3PM or from 7 to 8PM.  We encourage you to invite others who could also benefit from being part of this meeting. \nMeeting Details:\nRestoreUsToSanity2024 ALANON Family Group is inviting you to a scheduled Zoom meeting. \nJoin Zoom Meeting:\nhttps://us06web.zoom.us/j/82364887890?pwd=TgNQRjF3Rd6e3oWaKrkygXaNVNyoET.1\nRestoreUsToSanity2024 ALANON Family Group is inviting you to a scheduled Zoom meeting. \nMeeting ID: 823 6488 7890\nPasscode: 224638 \nFor phone: Dial by your location\n• +1 646 558 8656 US (New York
URL:https://alanon-wi.org/event/restore-us-to-sanity-al-anon-group-virtually-each-thursday-from-2-to-3pm-or-from-7-to-8pm/
LOCATION:WI
END:VEVENT
END:VCALENDAR