BEGIN:VCALENDAR
VERSION:2.0
PRODID:-//Al-Anon Family Groups of Southeastern Wisconsin - ECPv6.15.20//NONSGML v1.0//EN
CALSCALE:GREGORIAN
METHOD:PUBLISH
X-WR-CALNAME:Al-Anon Family Groups of Southeastern Wisconsin
X-ORIGINAL-URL:https://alanon-wi.org
X-WR-CALDESC:Events for Al-Anon Family Groups of Southeastern Wisconsin
REFRESH-INTERVAL;VALUE=DURATION:PT1H
X-Robots-Tag:noindex
X-PUBLISHED-TTL:PT1H
BEGIN:VTIMEZONE
TZID:America/Chicago
BEGIN:DAYLIGHT
TZOFFSETFROM:-0600
TZOFFSETTO:-0500
TZNAME:CDT
DTSTART:20240310T080000
END:DAYLIGHT
BEGIN:STANDARD
TZOFFSETFROM:-0500
TZOFFSETTO:-0600
TZNAME:CST
DTSTART:20241103T070000
END:STANDARD
BEGIN:DAYLIGHT
TZOFFSETFROM:-0600
TZOFFSETTO:-0500
TZNAME:CDT
DTSTART:20250309T080000
END:DAYLIGHT
BEGIN:STANDARD
TZOFFSETFROM:-0500
TZOFFSETTO:-0600
TZNAME:CST
DTSTART:20251102T070000
END:STANDARD
BEGIN:DAYLIGHT
TZOFFSETFROM:-0600
TZOFFSETTO:-0500
TZNAME:CDT
DTSTART:20260308T080000
END:DAYLIGHT
BEGIN:STANDARD
TZOFFSETFROM:-0500
TZOFFSETTO:-0600
TZNAME:CST
DTSTART:20261101T070000
END:STANDARD
END:VTIMEZONE
BEGIN:VEVENT
DTSTART;TZID=America/Chicago:20250125T163000
DTEND;TZID=America/Chicago:20250125T180000
DTSTAMP:20260424T135047
CREATED:20250116T212524Z
LAST-MODIFIED:20250116T212701Z
UID:6767-1737822600-1737828000@alanon-wi.org
SUMMARY:AA Open Meeting with Al-Anon Participation\, Saturday\, January 25\, 4:30pm\, Hybrid
DESCRIPTION:This Open Meeting is at Wellbrook Recovery and on Zoom\, with District 34 participation. \nAl-Anon Speaker: Linda D.\nAA Speaker: Dave D. \nFellowship at 4:30pm and Speakers at 5pm. Use the Back Entrance; Meeting Room in Basement is handicapped accessible. \nZoom Meeting ID: 788 125 9940\nPasscode: 02468 \nWellbrook Recovery\n13850 W. Capitol Drive\nBrookfield\, WI 53005 \nParking is behind the building.
URL:https://alanon-wi.org/event/aa-open-meeting-with-al-anon-participation-saturday-january-25-430pm-hybrid/
LOCATION:Wellbrook Recovery\, 13850 W Capitol Dr\, Brookfield\, WI\, 53005
END:VEVENT
END:VCALENDAR