BEGIN:VCALENDAR
VERSION:2.0
PRODID:-//Al-Anon Family Groups of Southeastern Wisconsin - ECPv6.15.20//NONSGML v1.0//EN
CALSCALE:GREGORIAN
METHOD:PUBLISH
X-WR-CALNAME:Al-Anon Family Groups of Southeastern Wisconsin
X-ORIGINAL-URL:https://alanon-wi.org
X-WR-CALDESC:Events for Al-Anon Family Groups of Southeastern Wisconsin
REFRESH-INTERVAL;VALUE=DURATION:PT1H
X-Robots-Tag:noindex
X-PUBLISHED-TTL:PT1H
BEGIN:VTIMEZONE
TZID:America/Chicago
BEGIN:DAYLIGHT
TZOFFSETFROM:-0600
TZOFFSETTO:-0500
TZNAME:CDT
DTSTART:20240310T080000
END:DAYLIGHT
BEGIN:STANDARD
TZOFFSETFROM:-0500
TZOFFSETTO:-0600
TZNAME:CST
DTSTART:20241103T070000
END:STANDARD
BEGIN:DAYLIGHT
TZOFFSETFROM:-0600
TZOFFSETTO:-0500
TZNAME:CDT
DTSTART:20250309T080000
END:DAYLIGHT
BEGIN:STANDARD
TZOFFSETFROM:-0500
TZOFFSETTO:-0600
TZNAME:CST
DTSTART:20251102T070000
END:STANDARD
BEGIN:DAYLIGHT
TZOFFSETFROM:-0600
TZOFFSETTO:-0500
TZNAME:CDT
DTSTART:20260308T080000
END:DAYLIGHT
BEGIN:STANDARD
TZOFFSETFROM:-0500
TZOFFSETTO:-0600
TZNAME:CST
DTSTART:20261101T070000
END:STANDARD
END:VTIMEZONE
BEGIN:VEVENT
DTSTART;TZID=America/Chicago:20250110T180000
DTEND;TZID=America/Chicago:20250112T170000
DTSTAMP:20260424T135050
CREATED:20241222T014929Z
LAST-MODIFIED:20241222T014929Z
UID:6631-1736532000-1736701200@alanon-wi.org
SUMMARY:WICYPAA XXXII--The Mental Twist\, Friday-Sunday\, January 10-12\, In Person
DESCRIPTION:Organized by: WICYPAA (Wisconsin Conference of Young People in Alcoholics Anonymous)\nWICYPAA XXXII–The Mental Twist (32nd Annual Conference)\, Waukesha Host\nAl-Anon Speakers: Julie W from Dousman and Bonnie R from McHenry\nAA Speaker: Sophia W from Dousman\nAlateen Speaker: Shae from Milwaukee \nEvent Details:\nWICYPAA XXXII presents “Mental Twist” with Al-Anon participation on January 10-12\, 2025 at the Sheraton Milwaukee Brookfield Hotel\, 375 S Moorland Rd\, Brookfield\, WI 53005. \nAl-Anon breakout sessions include:\nSaturday\, 2-3pm: “Family Disease of Alcoholism” — Mother/Daughter breakout with Sophia W (AA) and Julie W (Al-Anon)\nSaturday\, 3:30-4:30pm: Alateen lead with Shae and main Al-Anon speaker Bonnie R \nStandard tickets\, banquets tickets\, and discounted room rates are available via the QR code on the downloadable flyer. \nRegistration Link: https://wicypaa32.square.site/product/pre-reg/1 \nDownload Flyer
URL:https://alanon-wi.org/event/wicypaa-xxxii-the-mental-twist-friday-sunday-january-10-12-in-person/
LOCATION:Sheraton Milwaukee Brookfield\, 375 S Moorland Rd\, Brookfield\, WI\, 53005
END:VEVENT
END:VCALENDAR