BEGIN:VCALENDAR
VERSION:2.0
PRODID:-//Al-Anon Family Groups of Southeastern Wisconsin - ECPv6.15.20//NONSGML v1.0//EN
CALSCALE:GREGORIAN
METHOD:PUBLISH
X-WR-CALNAME:Al-Anon Family Groups of Southeastern Wisconsin
X-ORIGINAL-URL:https://alanon-wi.org
X-WR-CALDESC:Events for Al-Anon Family Groups of Southeastern Wisconsin
REFRESH-INTERVAL;VALUE=DURATION:PT1H
X-Robots-Tag:noindex
X-PUBLISHED-TTL:PT1H
BEGIN:VTIMEZONE
TZID:America/Chicago
BEGIN:DAYLIGHT
TZOFFSETFROM:-0600
TZOFFSETTO:-0500
TZNAME:CDT
DTSTART:20230312T080000
END:DAYLIGHT
BEGIN:STANDARD
TZOFFSETFROM:-0500
TZOFFSETTO:-0600
TZNAME:CST
DTSTART:20231105T070000
END:STANDARD
BEGIN:DAYLIGHT
TZOFFSETFROM:-0600
TZOFFSETTO:-0500
TZNAME:CDT
DTSTART:20240310T080000
END:DAYLIGHT
BEGIN:STANDARD
TZOFFSETFROM:-0500
TZOFFSETTO:-0600
TZNAME:CST
DTSTART:20241103T070000
END:STANDARD
BEGIN:DAYLIGHT
TZOFFSETFROM:-0600
TZOFFSETTO:-0500
TZNAME:CDT
DTSTART:20250309T080000
END:DAYLIGHT
BEGIN:STANDARD
TZOFFSETFROM:-0500
TZOFFSETTO:-0600
TZNAME:CST
DTSTART:20251102T070000
END:STANDARD
END:VTIMEZONE
BEGIN:VEVENT
DTSTART;TZID=America/Chicago:20241116T173000
DTEND;TZID=America/Chicago:20241116T200000
DTSTAMP:20260424T183231
CREATED:20241113T041448Z
LAST-MODIFIED:20241113T041612Z
UID:6342-1731778200-1731787200@alanon-wi.org
SUMMARY:Pass It On Club 29th Anniversary Dinner and Open Meeting\, Saturday\, November 16\, 5:30pm\, In Person
DESCRIPTION:Dinner begins at 5:30pm; Dinner cost is $15\nOpen Speaker Meeting begins at 7pm\nAl-Anon Speaker: Katie S.\nAA Speaker: Linely H. \nPass It On Club\n6229 W Forest Home Ave\nMilwaukee\, WI 53220
URL:https://alanon-wi.org/event/pass-it-on-club-29th-anniversary-dinner-and-open-meeting-saturday-november-16-530pm-in-person/
LOCATION:Pass It On Club\, 6229 W. Forest Home Ave.\, Milwaukee\, WI\, 53220\, United States
END:VEVENT
END:VCALENDAR