BEGIN:VCALENDAR
VERSION:2.0
PRODID:-//Al-Anon Family Groups of Southeastern Wisconsin - ECPv6.15.20//NONSGML v1.0//EN
CALSCALE:GREGORIAN
METHOD:PUBLISH
X-ORIGINAL-URL:https://alanon-wi.org
X-WR-CALDESC:Events for Al-Anon Family Groups of Southeastern Wisconsin
REFRESH-INTERVAL;VALUE=DURATION:PT1H
X-Robots-Tag:noindex
X-PUBLISHED-TTL:PT1H
BEGIN:VTIMEZONE
TZID:America/Chicago
BEGIN:DAYLIGHT
TZOFFSETFROM:-0600
TZOFFSETTO:-0500
TZNAME:CDT
DTSTART:20230312T080000
END:DAYLIGHT
BEGIN:STANDARD
TZOFFSETFROM:-0500
TZOFFSETTO:-0600
TZNAME:CST
DTSTART:20231105T070000
END:STANDARD
BEGIN:DAYLIGHT
TZOFFSETFROM:-0600
TZOFFSETTO:-0500
TZNAME:CDT
DTSTART:20240310T080000
END:DAYLIGHT
BEGIN:STANDARD
TZOFFSETFROM:-0500
TZOFFSETTO:-0600
TZNAME:CST
DTSTART:20241103T070000
END:STANDARD
BEGIN:DAYLIGHT
TZOFFSETFROM:-0600
TZOFFSETTO:-0500
TZNAME:CDT
DTSTART:20250309T080000
END:DAYLIGHT
BEGIN:STANDARD
TZOFFSETFROM:-0500
TZOFFSETTO:-0600
TZNAME:CST
DTSTART:20251102T070000
END:STANDARD
END:VTIMEZONE
BEGIN:VEVENT
DTSTART;TZID=America/Chicago:20240817T100000
DTEND;TZID=America/Chicago:20240817T120000
DTSTAMP:20260424T210703
CREATED:20240726T031539Z
LAST-MODIFIED:20240729T224657Z
UID:6100-1723888800-1723896000@alanon-wi.org
SUMMARY:District 2 Meeting\, Saturday\, August 17\, 10 am\, In-Person
DESCRIPTION:District 2: district meeting at Summit Place in West Allis\, Room #2147 \nYou do NOT have to be a Group Representative to attend. Everyone is welcome. This includes all people of District 2. It also includes anyone from a surrounding district with no District Rep. Come see firsthand what a district meeting is all about. You will witness us having fun! Maybe you will want to bring some of the excitement back to your home district! That would make Annemarie A. so happy!!!
URL:https://alanon-wi.org/event/district-2-meeting-saturday-august-17th-at-10-am-in-person/
LOCATION:Al-Anon Local Information Service Center at Summit Place\, 6737 W Washington St\, Suite 2125 (First Floor)\, West Allis\, WI\, 53214
END:VEVENT
BEGIN:VEVENT
DTSTART;TZID=America/Chicago:20240817T120000
DTEND;TZID=America/Chicago:20240817T150000
DTSTAMP:20260424T210703
CREATED:20240521T194451Z
LAST-MODIFIED:20240605T211921Z
UID:5937-1723896000-1723906800@alanon-wi.org
SUMMARY:District 5 AFG Family Picnic\, Saturday\, Aug 17\, 12pm\, In-Person
DESCRIPTION:Where: Pavilion at Ridge Run Park in West Bend\, WI – West Entrance (see flyer for directions and map). \nWhen: Noon to 2pm\, Lunch and Fellowship; Speakers start at 2pm \nAA Speaker: Chris K.\, West Bend \nAl-Anon Speaker: Cathy T.\, Wisconsin Dells \nBring a lawn chair\, otherwise picnic table seating will be available. \nPotluck –  \nLast Names beginning with A-M bring Desserts and N-Z bring Side Dishes \nFLYER_AUG_17_2024 \n 
URL:https://alanon-wi.org/event/district-5-afg-family-picnic-saturday-aug-17-12pm-in-person/
LOCATION:Ridge Run Park\, 300 S University Drive\, West Bend\, WI\, 53090
END:VEVENT
END:VCALENDAR